Workbook

Sheet 25'03월
B3: 2025년 03월 재고 현황 | L3: 리즈톡신 | M3: 1 | N3: unit | O3: 8.8 | P3: cc
B4: 거래처 | I4: 진료구분 | J4: 구분 | L4: 제품명 | M4: 재고관리용량 | N4: 재고관리용량단위 | O4: 사용시 용량 | P4: 사용시 용량단위 | Q4: 이월 | T4: 입고 | W4: 실사용 | Z4: 과부족 | AC4: 실재 재고 | AF4: 사유
B5: 거래처명 | C5: 사업자번호 | D5: 담당자명 | E5: 연락처 | F5: 이메일 | G5: 거래처 메모 | H5: 재고구분ID | Q5: 단가 | R5: 수량 | S5: 금액 | T5: 단가 | U5: 수량 | V5: 입고금액 | W5: 단가 | X5: 수량 | Y5: 사용금액 | Z5: 단가 | AA5: 수량 | AB5: 사용금액 | AC5: 단가 | AD5: 수량 | AE5: 재고금액
A6: =VLOOKUP(B6,거래처ID!$A$2:$B$36,2,FALSE) -> C173258871030100000000057 | B6: 휴젤 | C6: 확인필요 | D6: 이창기 | E6: 010-2869-0068 | G6: ㈜블루엠텍 | H6: =VLOOKUP(I6,Sheet1!$A$1:$B$5,2,FALSE) -> C1713152686736000000047 | I6: 쁘띠 | J6: 필러 | K6: =VLOOKUP(L6,PRODUCTID!C2:D127,2,FALSE) -> P174533104211000000000170 | L6: 채움프리미엄 1 | M6: 2 | N6: cc | O6: 1 | P6: cc | Q6: 18000 | R6: 16 | S6: =+Q6*R6 -> 288000 | T6: 18000 | U6: -6 | V6: =+T6*U6 -> -108000 | W6: 18000 | X6: 11 | Y6: =+W6*X6 -> 198000 | AA6: 1 | AB6: =+Z6*AA6 -> 0 | AC6: =+Q6 -> 18000 | AD6: =+R6+U6-X6+AA6 -> 0 | AE6: =+AC6*AD6 -> 0 | AF6: 시술 축소로 일부 제고 반품 | AG6: ="UPDATE MU_PRODUCT SET MU_TREATMENT_ID = '" & H6 & "' WHERE MU_PRODUCT_ID = '" & K6 & "';" -> UPDATE MU_PRODUCT SET MU_TREATMENT_ID = 'C1713152686736000000047' WHERE MU_PRODUCT_ID = 'P174533104211000000000170';
A7: =VLOOKUP(B7,거래처ID!$A$2:$B$36,2,FALSE) -> C173258871030100000000057 | B7: 휴젤 | C7: 확인필요 | D7: 이창기 | E7: 010-2869-0068 | H7: =VLOOKUP(I7,Sheet1!$A$1:$B$5,2,FALSE) -> C1713152686736000000047 | I7: 쁘띠 | J7: 필러 | K7: =VLOOKUP(L7,PRODUCTID!C3:D128,2,FALSE) -> P174533104211000000000171 | L7: 체움프리미엄 2 | M7: 2 | N7: cc | O7: 1 | P7: cc | Q7: 18000 | R7: 23 | S7: =+Q7*R7 -> 414000 | T7: 18000 | U7: -10 | V7: =+T7*U7 -> -180000 | W7: 18000 | X7: 14 | Y7: =+W7*X7 -> 252000 | AA7: 1 | AB7: =+Z7*AA7 -> 0 | AC7: =+Q7 -> 18000 | AD7: =+R7+U7-X7+AA7 -> 0 | AE7: =+AC7*AD7 -> 0 | AF7: 시술 축소로 일부 제고 반품 | AG7: ="UPDATE MU_PRODUCT SET MU_TREATMENT_ID = '" & H7 & "' WHERE MU_PRODUCT_ID = '" & K7 & "';" -> UPDATE MU_PRODUCT SET MU_TREATMENT_ID = 'C1713152686736000000047' WHERE MU_PRODUCT_ID = 'P174533104211000000000171';
A8: =VLOOKUP(B8,거래처ID!$A$2:$B$36,2,FALSE) -> C173258871030100000000057 | B8: 휴젤 | C8: 확인필요 | D8: 이창기 | E8: 010-2869-0068 | H8: =VLOOKUP(I8,Sheet1!$A$1:$B$5,2,FALSE) -> C1713152686736000000047 | I8: 쁘띠 | J8: 필러 | K8: =VLOOKUP(L8,PRODUCTID!C4:D129,2,FALSE) -> P174533104211000000000172 | L8: 채움프리미엄 3 | M8: 2 | N8: cc | O8: 1 | P8: cc | Q8: 18000 | R8: 25 | S8: =+Q8*R8 -> 450000 | T8: 18000 | U8: -10 | V8: =+T8*U8 -> -180000 | W8: 18000 | X8: 11 | Y8: =+W8*X8 -> 198000 | AA8: 0 | AB8: =+Z8*AA8 -> 0 | AC8: =+Q8 -> 18000 | AD8: =+R8+U8-X8+AA8 -> 4 | AE8: =+AC8*AD8 -> 72000 | AF8: 시술 축소로 일부 제고 반품 | AG8: ="UPDATE MU_PRODUCT SET MU_TREATMENT_ID = '" & H8 & "' WHERE MU_PRODUCT_ID = '" & K8 & "';" -> UPDATE MU_PRODUCT SET MU_TREATMENT_ID = 'C1713152686736000000047' WHERE MU_PRODUCT_ID = 'P174533104211000000000172';
A9: =VLOOKUP(B9,거래처ID!$A$2:$B$36,2,FALSE) -> C173258871030100000000041 | B9: 뉴메코 | C9: 264-81-13092 | D9: 윤진섭과장 | E9: 010-4757-0391 | H9: =VLOOKUP(I9,Sheet1!$A$1:$B$5,2,FALSE) -> C1713152686736000000047 | I9: 쁘띠 | J9: 필러 | K9: =VLOOKUP(L9,PRODUCTID!C5:D130,2,FALSE) -> P174533104211000000000173 | L9: 뉴라미스라이트 | M9: 1 | N9: cc | O9: 1 | P9: cc | Q9: 14000 | R9: 24 | S9: =+Q9*R9 -> 336000 | V9: =+T9*U9 -> 0 | W9: 14000 | X9: 1 | Y9: =+W9*X9 -> 14000 | AA9: 0 | AB9: =+Z9*AA9 -> 0 | AC9: =+Q9 -> 14000 | AD9: =+R9+U9-X9+AA9 -> 23 | AE9: =+AC9*AD9 -> 322000 | AG9: ="UPDATE MU_PRODUCT SET MU_TREATMENT_ID = '" & H9 & "' WHERE MU_PRODUCT_ID = '" & K9 & "';" -> UPDATE MU_PRODUCT SET MU_TREATMENT_ID = 'C1713152686736000000047' WHERE MU_PRODUCT_ID = 'P174533104211000000000173';
A10: =VLOOKUP(B10,거래처ID!$A$2:$B$36,2,FALSE) -> C173258871030100000000041 | B10: 뉴메코 | C10: 264-81-13092 | D10: 윤진섭과장 | E10: 010-4757-0391 | H10: =VLOOKUP(I10,Sheet1!$A$1:$B$5,2,FALSE) -> C1713152686736000000047 | I10: 쁘띠 | J10: 필러 | K10: =VLOOKUP(L10,PRODUCTID!C6:D131,2,FALSE) -> P174533104211000000000174 | L10: 뉴라미스리도카인 | M10: 1 | N10: cc | O10: 1 | P10: cc | Q10: 18000 | R10: 20 | S10: =+Q10*R10 -> 360000 | V10: =+T10*U10 -> 0 | W10: 18000 | X10: 2 | Y10: =+W10*X10 -> 36000 | AA10: 1 | AB10: =+Z10*AA10 -> 0 | AC10: =+Q10 -> 18000 | AD10: =+R10+U10-X10+AA10 -> 19 | AE10: =+AC10*AD10 -> 342000 | AG10: ="UPDATE MU_PRODUCT SET MU_TREATMENT_ID = '" & H10 & "' WHERE MU_PRODUCT_ID = '" & K10 & "';" -> UPDATE MU_PRODUCT SET MU_TREATMENT_ID = 'C1713152686736000000047' WHERE MU_PRODUCT_ID = 'P174533104211000000000174';
A11: =VLOOKUP(B11,거래처ID!$A$2:$B$36,2,FALSE) -> C173258871030100000000041 | B11: 뉴메코 | C11: 264-81-13092 | D11: 윤진섭과장 | E11: 010-4757-0391 | H11: =VLOOKUP(I11,Sheet1!$A$1:$B$5,2,FALSE) -> C1713152686736000000047 | I11: 쁘띠 | J11: 필러 | K11: =VLOOKUP(L11,PRODUCTID!C7:D132,2,FALSE) -> P174533104211000000000175 | L11: 뉴라미스볼륨 | M11: 1 | N11: cc | O11: 1 | P11: cc | Q11: 18000 | R11: 11 | S11: =+Q11*R11 -> 198000 | V11: =+T11*U11 -> 0 | W11: 18000 | X11: 1 | Y11: =+W11*X11 -> 18000 | AA11: 0 | AB11: =+Z11*AA11 -> 0 | AC11: =+Q11 -> 18000 | AD11: =+R11+U11-X11+AA11 -> 10 | AE11: =+AC11*AD11 -> 180000 | AG11: ="UPDATE MU_PRODUCT SET MU_TREATMENT_ID = '" & H11 & "' WHERE MU_PRODUCT_ID = '" & K11 & "';" -> UPDATE MU_PRODUCT SET MU_TREATMENT_ID = 'C1713152686736000000047' WHERE MU_PRODUCT_ID = 'P174533104211000000000175';
A12: =VLOOKUP(B12,거래처ID!$A$2:$B$36,2,FALSE) -> C173258871030100000000043 | B12: 한국애브비㈜ | C12: 120-87-80221 | D12: 김주현차장 | E12: 010-4097-2589 | H12: =VLOOKUP(I12,Sheet1!$A$1:$B$5,2,FALSE) -> C1713152686736000000047 | I12: 쁘띠 | J12: 필러 | K12: =VLOOKUP(L12,PRODUCTID!C8:D133,2,FALSE) -> P174533104211000000000176 | L12: 쥬비덤 볼벨라 | M12: 2 | N12: cc | O12: 1 | P12: cc | Q12: 130164 | R12: 18 | S12: =+Q12*R12 -> 2342952 | T12: 130164 | U12: 20 | V12: =+T12*U12 -> 2603280 | W12: 130164 | X12: 21 | Y12: =+W12*X12 -> 2733444 | AA12: 6 | AB12: =+Z12*AA12 -> 0 | AC12: =+Q12 -> 130164 | AD12: =+R12+U12-X12+AA12 -> 23 | AE12: =+AC12*AD12 -> 2993772 | AG12: ="UPDATE MU_PRODUCT SET MU_TREATMENT_ID = '" & H12 & "' WHERE MU_PRODUCT_ID = '" & K12 & "';" -> UPDATE MU_PRODUCT SET MU_TREATMENT_ID = 'C1713152686736000000047' WHERE MU_PRODUCT_ID = 'P174533104211000000000176';
A13: =VLOOKUP(B13,거래처ID!$A$2:$B$36,2,FALSE) -> C173258871030100000000043 | B13: 한국애브비㈜ | C13: 120-87-80221 | D13: 김주현차장 | E13: 010-4097-2589 | H13: =VLOOKUP(I13,Sheet1!$A$1:$B$5,2,FALSE) -> C1713152686736000000047 | I13: 쁘띠 | J13: 필러 | K13: =VLOOKUP(L13,PRODUCTID!C9:D134,2,FALSE) -> P174533104211000000000177 | L13: 쥬비덤 볼리프트 | M13: 2 | N13: cc | O13: 1 | P13: cc | Q13: 130164.1 | R13: 27 | S13: =+Q13*R13 -> 3514430.7 | T13: 130164 | U13: 20 | V13: =+T13*U13 -> 2603280 | W13: 130164 | X13: 19 | Y13: =+W13*X13 -> 2473116 | AA13: 1 | AB13: =+Z13*AA13 -> 0 | AC13: =+Q13 -> 130164.1 | AD13: =+R13+U13-X13+AA13 -> 29 | AE13: =+AC13*AD13 -> 3774758.9 | AG13: ="UPDATE MU_PRODUCT SET MU_TREATMENT_ID = '" & H13 & "' WHERE MU_PRODUCT_ID = '" & K13 & "';" -> UPDATE MU_PRODUCT SET MU_TREATMENT_ID = 'C1713152686736000000047' WHERE MU_PRODUCT_ID = 'P174533104211000000000177';
A14: =VLOOKUP(B14,거래처ID!$A$2:$B$36,2,FALSE) -> C173258871030100000000043 | B14: 한국애브비㈜ | C14: 120-87-80221 | D14: 김주현차장 | E14: 010-4097-2589 | H14: =VLOOKUP(I14,Sheet1!$A$1:$B$5,2,FALSE) -> C1713152686736000000047 | I14: 쁘띠 | J14: 필러 | K14: =VLOOKUP(L14,PRODUCTID!C10:D135,2,FALSE) -> P174533104211000000000178 | L14: 쥬비덤 볼루마 | M14: 2 | N14: cc | O14: 1 | P14: cc | Q14: 130164 | R14: 36 | S14: =+Q14*R14 -> 4685904 | V14: =+T14*U14 -> 0 | W14: 130164 | X14: 5 | Y14: =+W14*X14 -> 650820 | AA14: 1 | AB14: =+Z14*AA14 -> 0 | AC14: =+Q14 -> 130164 | AD14: =+R14+U14-X14+AA14 -> 32 | AE14: =+AC14*AD14 -> 4165248 | AG14: ="UPDATE MU_PRODUCT SET MU_TREATMENT_ID = '" & H14 & "' WHERE MU_PRODUCT_ID = '" & K14 & "';" -> UPDATE MU_PRODUCT SET MU_TREATMENT_ID = 'C1713152686736000000047' WHERE MU_PRODUCT_ID = 'P174533104211000000000178';
A15: =VLOOKUP(B15,거래처ID!$A$2:$B$36,2,FALSE) -> C173258871030100000000044 | B15: 우노스킨 | C15: 128-36-45769 | D15: 한수정 | E15: 010-4787-5735 | H15: =VLOOKUP(I15,Sheet1!$A$1:$B$5,2,FALSE) -> C1713152686736000000047 | I15: 쁘띠 | J15: 필러 | K15: =VLOOKUP(L15,PRODUCTID!C11:D136,2,FALSE) -> P174533104211000000000179 | L15: 레스틸렌비탈 | M15: 1 | N15: cc | O15: 1 | P15: cc | Q15: 115500 | R15: 9 | S15: =+Q15*R15 -> 1039500 | V15: =+T15*U15 -> 0 | W15: 115500 | X15: 1 | Y15: =+W15*X15 -> 115500 | AA15: 9 | AB15: =+Z15*AA15 -> 0 | AC15: =+Q15 -> 115500 | AD15: =+R15+U15-X15+AA15 -> 17 | AE15: =+AC15*AD15 -> 1963500 | AF15: 유통기한 폐기 교환 | AG15: ="UPDATE MU_PRODUCT SET MU_TREATMENT_ID = '" & H15 & "' WHERE MU_PRODUCT_ID = '" & K15 & "';" -> UPDATE MU_PRODUCT SET MU_TREATMENT_ID = 'C1713152686736000000047' WHERE MU_PRODUCT_ID = 'P174533104211000000000179';
A16: =VLOOKUP(B16,거래처ID!$A$2:$B$36,2,FALSE) -> C173258871030100000000044 | B16: 우노스킨 | C16: 128-36-45769 | D16: 한수정 | E16: 010-4787-5735 | H16: =VLOOKUP(I16,Sheet1!$A$1:$B$5,2,FALSE) -> C1713152686736000000047 | I16: 쁘띠 | J16: 필러 | K16: =VLOOKUP(L16,PRODUCTID!C12:D137,2,FALSE) -> P174533104211000000000180 | L16: 레스틸렌리파인 | M16: 1 | N16: cc | O16: 1 | P16: cc | Q16: 110000 | R16: 18 | S16: =+Q16*R16 -> 1980000 | V16: =+T16*U16 -> 0 | W16: 110000 | X16: 0 | Y16: =+W16*X16 -> 0 | AA16: 7 | AB16: =+Z16*AA16 -> 0 | AC16: =+Q16 -> 110000 | AD16: =+R16+U16-X16+AA16 -> 25 | AE16: =+AC16*AD16 -> 2750000 | AF16: 유통기한 폐기 교환 | AG16: ="UPDATE MU_PRODUCT SET MU_TREATMENT_ID = '" & H16 & "' WHERE MU_PRODUCT_ID = '" & K16 & "';" -> UPDATE MU_PRODUCT SET MU_TREATMENT_ID = 'C1713152686736000000047' WHERE MU_PRODUCT_ID = 'P174533104211000000000180';
A17: =VLOOKUP(B17,거래처ID!$A$2:$B$36,2,FALSE) -> C173258871030100000000044 | B17: 우노스킨 | C17: 128-36-45769 | D17: 한수정 | E17: 010-4787-5735 | H17: =VLOOKUP(I17,Sheet1!$A$1:$B$5,2,FALSE) -> C1713152686736000000047 | I17: 쁘띠 | J17: 필러 | K17: =VLOOKUP(L17,PRODUCTID!C13:D138,2,FALSE) -> P174533104211000000000181 | L17: 레스틸렌디파인 | M17: 1 | N17: cc | O17: 1 | P17: cc | Q17: 110000 | R17: 15 | S17: =+Q17*R17 -> 1650000 | V17: =+T17*U17 -> 0 | W17: 110000 | X17: 4 | Y17: =+W17*X17 -> 440000 | AA17: 1 | AB17: =+Z17*AA17 -> 0 | AC17: =+Q17 -> 110000 | AD17: =+R17+U17-X17+AA17 -> 12 | AE17: =+AC17*AD17 -> 1320000 | AF17: 불량 교환 | AG17: ="UPDATE MU_PRODUCT SET MU_TREATMENT_ID = '" & H17 & "' WHERE MU_PRODUCT_ID = '" & K17 & "';" -> UPDATE MU_PRODUCT SET MU_TREATMENT_ID = 'C1713152686736000000047' WHERE MU_PRODUCT_ID = 'P174533104211000000000181';
A18: =VLOOKUP(B18,거래처ID!$A$2:$B$36,2,FALSE) -> C173258871030100000000045 | B18: 한국싱클레어(유) | C18: 530-87-00797 | D18: 확인필요 | E18: 010-8837-7677 | H18: =VLOOKUP(I18,Sheet1!$A$1:$B$5,2,FALSE) -> C1713152686736000000047 | I18: 쁘띠 | J18: 필러 | K18: =VLOOKUP(L18,PRODUCTID!C14:D139,2,FALSE) -> P174533104211000000000182 | L18: 엘란쎄M(1) | M18: 2 | N18: cc | O18: 1 | P18: cc | Q18: 211747 | R18: 32 | S18: =+Q18*R18 -> 6775904 | V18: =+T18*U18 -> 0 | W18: 211747 | X18: 19.8 | Y18: =+W18*X18 -> 4192590.6 | AA18: -1 | AB18: =+Z18*AA18 -> 0 | AC18: =+Q18 -> 211747 | AD18: =+R18+U18-X18+AA18 -> 11.2 | AE18: =+AC18*AD18 -> 2371566.4 | AF18: 믹스 폐기 | AG18: ="UPDATE MU_PRODUCT SET MU_TREATMENT_ID = '" & H18 & "' WHERE MU_PRODUCT_ID = '" & K18 & "';" -> UPDATE MU_PRODUCT SET MU_TREATMENT_ID = 'C1713152686736000000047' WHERE MU_PRODUCT_ID = 'P174533104211000000000182';
A19: =VLOOKUP(B19,거래처ID!$A$2:$B$36,2,FALSE) -> C173258871030100000000045 | B19: 한국싱클레어(유) | C19: 530-87-00797 | D19: 확인필요 | E19: 010-8837-7677 | H19: =VLOOKUP(I19,Sheet1!$A$1:$B$5,2,FALSE) -> C1713152686736000000047 | I19: 쁘띠 | J19: 필러 | K19: =VLOOKUP(L19,PRODUCTID!C15:D140,2,FALSE) -> P174533104211000000000183 | L19: 엘란쎄M(2) | M19: 2 | N19: cc | O19: 1 | P19: cc | Q19: 211612.52 | R19: 120 | S19: =+Q19*R19 -> 25393502 | V19: =+T19*U19 -> 0 | W19: 211613 | X19: 0 | Y19: =+W19*X19 -> 0 | AA19: 0 | AB19: =+Z19*AA19 -> 0 | AC19: =+Q19 -> 211612.52 | AD19: =+R19+U19-X19+AA19 -> 120 | AE19: =+AC19*AD19 -> 25393502 | AG19: ="UPDATE MU_PRODUCT SET MU_TREATMENT_ID = '" & H19 & "' WHERE MU_PRODUCT_ID = '" & K19 & "';" -> UPDATE MU_PRODUCT SET MU_TREATMENT_ID = 'C1713152686736000000047' WHERE MU_PRODUCT_ID = 'P174533104211000000000183';
A20: =VLOOKUP(B20,거래처ID!$A$2:$B$36,2,FALSE) -> C173258871030100000000046 | B20: (주)한용팜 | C20: 214-87-99253 | D20: 한수정 | E20: 010-4787-5735 | H20: =VLOOKUP(I20,Sheet1!$A$1:$B$5,2,FALSE) -> C1713152686736000000047 | I20: 쁘띠 | J20: 필러 | K20: =VLOOKUP(L20,PRODUCTID!C16:D141,2,FALSE) -> P174533104211000000000184 | L20: 스컬트라 | M20: 10 | N20: cc | O20: 1 | P20: cc | Q20: 242000 | R20: 40 | S20: =+Q20*R20 -> 9680000 | T20: 242000 | U20: 50 | V20: =+T20*U20 -> 12100000 | W20: 242000 | X20: 31.8 | Y20: =+W20*X20 -> 7695600 | AA20: 4 | AB20: =+Z20*AA20 -> 0 | AC20: =+Q20 -> 242000 | AD20: =+R20+U20-X20+AA20 -> 62.2 | AE20: =+AC20*AD20 -> 15052400 | AG20: ="UPDATE MU_PRODUCT SET MU_TREATMENT_ID = '" & H20 & "' WHERE MU_PRODUCT_ID = '" & K20 & "';" -> UPDATE MU_PRODUCT SET MU_TREATMENT_ID = 'C1713152686736000000047' WHERE MU_PRODUCT_ID = 'P174533104211000000000184';
A21: =VLOOKUP(B21,거래처ID!$A$2:$B$36,2,FALSE) -> C173258871030100000000052 | B21: 바임글로벌 | C21: 757-87-01595 | D21: 조봉근대리 | E21: 010-3033-0729 | H21: =VLOOKUP(I21,Sheet1!$A$1:$B$5,2,FALSE) -> C1713152686736000000047 | I21: 쁘띠 | J21: 필러 | K21: =VLOOKUP(L21,PRODUCTID!C17:D142,2,FALSE) -> P174533104211000000000185 | L21: 쥬베룩볼륨 | M21: 9 | N21: cc | O21: 1 | P21: cc | Q21: 110000 | R21: 12 | S21: =+Q21*R21 -> 1320000 | V21: =+T21*U21 -> 0 | W21: 110000 | X21: 3.13 | Y21: =+W21*X21 -> 344300 | AA21: 0.1 | AB21: =+Z21*AA21 -> 0 | AC21: =+Q21 -> 110000 | AD21: =+R21+U21-X21+AA21 -> 8.97 | AE21: =+AC21*AD21 -> 986700 | AG21: ="UPDATE MU_PRODUCT SET MU_TREATMENT_ID = '" & H21 & "' WHERE MU_PRODUCT_ID = '" & K21 & "';" -> UPDATE MU_PRODUCT SET MU_TREATMENT_ID = 'C1713152686736000000047' WHERE MU_PRODUCT_ID = 'P174533104211000000000185';
A22: =VLOOKUP(B22,거래처ID!$A$2:$B$36,2,FALSE) -> C173258871030100000000042 | B22: 멀츠아시아퍼스픽피티이엘티디 | C22: 211-84-10660 | D22: 최진성 | E22: 010-2942-0907 | H22: =VLOOKUP(I22,Sheet1!$A$1:$B$5,2,FALSE) -> C1713152686736000000047 | I22: 쁘띠 | J22: 필러 | K22: =VLOOKUP(L22,PRODUCTID!C18:D143,2,FALSE) -> P174533104211000000000186 | L22: 벨로테로소프트(1) | M22: 1 | N22: cc | O22: 1 | P22: cc | Q22: 91000 | R22: 55 | S22: =+Q22*R22 -> 5005000 | V22: =+T22*U22 -> 0 | W22: 91000 | X22: 7 | Y22: =+W22*X22 -> 637000 | AA22: 2 | AB22: =+Z22*AA22 -> 0 | AC22: =+Q22 -> 91000 | AD22: =+R22+U22-X22+AA22 -> 50 | AE22: =+AC22*AD22 -> 4550000 | AG22: ="UPDATE MU_PRODUCT SET MU_TREATMENT_ID = '" & H22 & "' WHERE MU_PRODUCT_ID = '" & K22 & "';" -> UPDATE MU_PRODUCT SET MU_TREATMENT_ID = 'C1713152686736000000047' WHERE MU_PRODUCT_ID = 'P174533104211000000000186';
A23: =VLOOKUP(B23,거래처ID!$A$2:$B$36,2,FALSE) -> C173258871030100000000042 | B23: 멀츠아시아퍼스픽피티이엘티디 | C23: 211-84-10660 | D23: 최진성 | E23: 010-2942-0907 | H23: =VLOOKUP(I23,Sheet1!$A$1:$B$5,2,FALSE) -> C1713152686736000000047 | I23: 쁘띠 | J23: 필러 | K23: =VLOOKUP(L23,PRODUCTID!C19:D144,2,FALSE) -> P174533104211000000000187 | L23: 벨로테로소프트(2) | M23: 1 | N23: cc | O23: 1 | P23: cc | Q23: 82727 | R23: 3 | S23: =+Q23*R23 -> 248181 | V23: =+T23*U23 -> 0 | W23: 82727 | X23: 3 | Y23: =+W23*X23 -> 248181 | AA23: 0 | AB23: =+Z23*AA23 -> 0 | AC23: =+Q23 -> 82727 | AD23: =+R23+U23-X23+AA23 -> 0 | AE23: =+AC23*AD23 -> 0 | AG23: ="UPDATE MU_PRODUCT SET MU_TREATMENT_ID = '" & H23 & "' WHERE MU_PRODUCT_ID = '" & K23 & "';" -> UPDATE MU_PRODUCT SET MU_TREATMENT_ID = 'C1713152686736000000047' WHERE MU_PRODUCT_ID = 'P174533104211000000000187';
A24: =VLOOKUP(B24,거래처ID!$A$2:$B$36,2,FALSE) -> C173258871030100000000040 | B24: ㈜휴메딕스 | C24: 204-81-76343 | D24: 김정국차장 | E24: 010-8824-5615 | H24: =VLOOKUP(I24,Sheet1!$A$1:$B$5,2,FALSE) -> C1713152686736000000047 | I24: 쁘띠 | J24: 보톡스 | K24: =VLOOKUP(L24,PRODUCTID!C20:D145,2,FALSE) -> P174533104211000000000188 | L24: 리즈톡신 | M24: 200 | N24: unit | O24: 8 | P24: cc | Q24: 25000 | R24: 54 | S24: =+Q24*R24 -> 1350000 | T24: 25000 | U24: 50 | V24: =+T24*U24 -> 1250000 | W24: 25000 | X24: 43.32 | Y24: =+W24*X24 -> 1083000 | AA24: 2.3 | AB24: =+Z24*AA24 -> 0 | AC24: =+Q24 -> 25000 | AD24: =+R24+U24-X24+AA24 -> 62.98 | AE24: =+AC24*AD24 -> 1574500 | AG24: ="UPDATE MU_PRODUCT SET MU_TREATMENT_ID = '" & H24 & "' WHERE MU_PRODUCT_ID = '" & K24 & "';" -> UPDATE MU_PRODUCT SET MU_TREATMENT_ID = 'C1713152686736000000047' WHERE MU_PRODUCT_ID = 'P174533104211000000000188';
A25: =VLOOKUP(B25,거래처ID!$A$2:$B$36,2,FALSE) -> C173258871030100000000041 | B25: 뉴메코 | C25: 264-81-13092 | D25: 윤진섭과장 | E25: 010-4757-0391 | H25: =VLOOKUP(I25,Sheet1!$A$1:$B$5,2,FALSE) -> C1713152686736000000047 | I25: 쁘띠 | J25: 보톡스 | K25: =VLOOKUP(L25,PRODUCTID!C21:D146,2,FALSE) -> P174533104211000000000189 | L25: 코어톡스 | M25: 100 | N25: unit | O25: 4 | P25: cc | Q25: 33000 | R25: 37 | S25: =+Q25*R25 -> 1221000 | T25: 33000 | U25: 50 | V25: =+T25*U25 -> 1650000 | W25: 33000 | X25: 53.79 | Y25: =+W25*X25 -> 1775070 | AA25: 5.8 | AB25: =+Z25*AA25 -> 0 | AC25: =+Q25 -> 33000 | AD25: =+R25+U25-X25+AA25 -> 39.01 | AE25: =+AC25*AD25 -> 1287330 | AG25: ="UPDATE MU_PRODUCT SET MU_TREATMENT_ID = '" & H25 & "' WHERE MU_PRODUCT_ID = '" & K25 & "';" -> UPDATE MU_PRODUCT SET MU_TREATMENT_ID = 'C1713152686736000000047' WHERE MU_PRODUCT_ID = 'P174533104211000000000189';
A26: =VLOOKUP(B26,거래처ID!$A$2:$B$36,2,FALSE) -> C173258871030100000000042 | B26: 멀츠아시아퍼스픽피티이엘티디 | C26: 211-84-10660 | D26: 최진성 | E26: 010-2942-0907 | H26: =VLOOKUP(I26,Sheet1!$A$1:$B$5,2,FALSE) -> C1713152686736000000047 | I26: 쁘띠 | J26: 보톡스 | K26: =VLOOKUP(L26,PRODUCTID!C22:D147,2,FALSE) -> P174533104211000000000190 | L26: 제오민(1) | M26: 100 | N26: unit | O26: 4 | P26: cc | Q26: 110000 | R26: 13 | S26: =+Q26*R26 -> 1430000 | V26: =+T26*U26 -> 0 | W26: 110000 | X26: 13 | Y26: =+W26*X26 -> 1430000 | AA26: 0 | AB26: =+Z26*AA26 -> 0 | AC26: =+Q26 -> 110000 | AD26: =+R26+U26-X26+AA26 -> 0 | AE26: =+AC26*AD26 -> 0 | AG26: ="UPDATE MU_PRODUCT SET MU_TREATMENT_ID = '" & H26 & "' WHERE MU_PRODUCT_ID = '" & K26 & "';" -> UPDATE MU_PRODUCT SET MU_TREATMENT_ID = 'C1713152686736000000047' WHERE MU_PRODUCT_ID = 'P174533104211000000000190';
A27: =VLOOKUP(B27,거래처ID!$A$2:$B$36,2,FALSE) -> C173258871030100000000042 | B27: 멀츠아시아퍼스픽피티이엘티디 | C27: 211-84-10660 | D27: 최진성 | E27: 010-2942-0907 | H27: =VLOOKUP(I27,Sheet1!$A$1:$B$5,2,FALSE) -> C1713152686736000000047 | I27: 쁘띠 | J27: 보톡스 | K27: =VLOOKUP(L27,PRODUCTID!C23:D148,2,FALSE) -> P174533104211000000000191 | L27: 제오민(2) | M27: 100 | N27: unit | O27: 4 | P27: cc | Q27: 120000 | R27: 30 | S27: =+Q27*R27 -> 3600000 | T27: 120000 | U27: 5 | V27: =+T27*U27 -> 600000 | W27: 120000 | X27: 33.53 | Y27: =+W27*X27 -> 4023600 | AA27: 2.5 | AC27: =+Q27 -> 120000 | AD27: =+R27+U27-X27+AA27 -> 3.97 | AE27: =+AC27*AD27 -> 476400 | AG27: ="UPDATE MU_PRODUCT SET MU_TREATMENT_ID = '" & H27 & "' WHERE MU_PRODUCT_ID = '" & K27 & "';" -> UPDATE MU_PRODUCT SET MU_TREATMENT_ID = 'C1713152686736000000047' WHERE MU_PRODUCT_ID = 'P174533104211000000000191';
A28: =VLOOKUP(B28,거래처ID!$A$2:$B$36,2,FALSE) -> C173258871030100000000051 | B28: 파마리서치 | C28: 220-86-07450 | D28: 장형곤 | E28: 010-4117-6855 | H28: =VLOOKUP(I28,Sheet1!$A$1:$B$5,2,FALSE) -> C1713152686736000000047 | I28: 쁘띠 | J28: 스킨부스터 | K28: =VLOOKUP(L28,PRODUCTID!C24:D149,2,FALSE) -> P174533104211000000000192 | L28: 리쥬란아이 | M28: 1 | N28: cc | O28: 1 | P28: cc | Q28: 52923 | R28: 25 | S28: =+Q28*R28 -> 1323075 | T28: 52923.2 | U28: 50 | V28: =+T28*U28 -> 2646160 | W28: 52923 | X28: 39 | Y28: =+W28*X28 -> 2063997 | AA28: 0 | AB28: =+Z28*AA28 -> 0 | AC28: =+Q28 -> 52923 | AD28: =+R28+U28-X28+AA28 -> 36 | AE28: =+AC28*AD28 -> 1905228 | AG28: ="UPDATE MU_PRODUCT SET MU_TREATMENT_ID = '" & H28 & "' WHERE MU_PRODUCT_ID = '" & K28 & "';" -> UPDATE MU_PRODUCT SET MU_TREATMENT_ID = 'C1713152686736000000047' WHERE MU_PRODUCT_ID = 'P174533104211000000000192';
A29: =VLOOKUP(B29,거래처ID!$A$2:$B$36,2,FALSE) -> C173258871030100000000051 | B29: 파마리서치 | C29: 220-86-07450 | D29: 장형곤 | E29: 010-4117-6855 | H29: =VLOOKUP(I29,Sheet1!$A$1:$B$5,2,FALSE) -> C1713152686736000000047 | I29: 쁘띠 | J29: 스킨부스터 | K29: =VLOOKUP(L29,PRODUCTID!C25:D150,2,FALSE) -> P174533104211000000000193 | L29: 리쥬란 | M29: 4 | N29: cc | O29: 2 | P29: cc | Q29: 94430 | R29: 126 | S29: =+Q29*R29 -> 11898180 | T29: 94429.5 | U29: 100 | V29: =+T29*U29 -> 9442950 | W29: 94430 | X29: 109 | Y29: =+W29*X29 -> 10292870 | AA29: 0 | AB29: =+Z29*AA29 -> 0 | AC29: =+Q29 -> 94430 | AD29: =+R29+U29-X29+AA29 -> 117 | AE29: =+AC29*AD29 -> 11048310 | AG29: ="UPDATE MU_PRODUCT SET MU_TREATMENT_ID = '" & H29 & "' WHERE MU_PRODUCT_ID = '" & K29 & "';" -> UPDATE MU_PRODUCT SET MU_TREATMENT_ID = 'C1713152686736000000047' WHERE MU_PRODUCT_ID = 'P174533104211000000000193';
A30: =VLOOKUP(B30,거래처ID!$A$2:$B$36,2,FALSE) -> C173258871030100000000051 | B30: 파마리서치 | C30: 220-86-07450 | D30: 장형곤 | E30: 010-4117-6855 | H30: =VLOOKUP(I30,Sheet1!$A$1:$B$5,2,FALSE) -> C1713152686736000000047 | I30: 쁘띠 | J30: 스킨부스터 | K30: =VLOOKUP(L30,PRODUCTID!C26:D151,2,FALSE) -> P174533104211000000000194 | L30: 리쥬란HB | M30: 1 | N30: cc | O30: 1 | P30: cc | Q30: 55377 | R30: 51 | S30: =+Q30*R30 -> 2824227 | T30: 55377.3 | U30: 50 | V30: =+T30*U30 -> 2768865 | W30: 55377 | X30: 63 | Y30: =+W30*X30 -> 3488751 | AA30: 1 | AB30: =+Z30*AA30 -> 0 | AC30: =+Q30 -> 55377 | AD30: =+R30+U30-X30+AA30 -> 39 | AE30: =+AC30*AD30 -> 2159703 | AG30: ="UPDATE MU_PRODUCT SET MU_TREATMENT_ID = '" & H30 & "' WHERE MU_PRODUCT_ID = '" & K30 & "';" -> UPDATE MU_PRODUCT SET MU_TREATMENT_ID = 'C1713152686736000000047' WHERE MU_PRODUCT_ID = 'P174533104211000000000194';
A31: =VLOOKUP(B31,거래처ID!$A$2:$B$36,2,FALSE) -> C173258871030100000000053 | B31: ㈜아이더마바이오 | C31: 610-87-00680 | D31: 장영철차장 | E31: 010-2580-4489 | H31: =VLOOKUP(I31,Sheet1!$A$1:$B$5,2,FALSE) -> C1713152686736000000047 | I31: 쁘띠 | J31: 스킨부스터 | K31: =VLOOKUP(L31,PRODUCTID!C27:D152,2,FALSE) -> P174533104211000000000195 | L31: 샤넬 | M31: 3 | N31: cc | O31: 1 | P31: cc | Q31: 55648 | R31: 81 | S31: =+Q31*R31 -> 4507488 | V31: =+T31*U31 -> 0 | W31: 55648 | X31: 12 | Y31: =+W31*X31 -> 667776 | AA31: 0 | AB31: =+Z31*AA31 -> 0 | AC31: =+Q31 -> 55648 | AD31: =+R31+U31-X31+AA31 -> 69 | AE31: =+AC31*AD31 -> 3839712 | AG31: ="UPDATE MU_PRODUCT SET MU_TREATMENT_ID = '" & H31 & "' WHERE MU_PRODUCT_ID = '" & K31 & "';" -> UPDATE MU_PRODUCT SET MU_TREATMENT_ID = 'C1713152686736000000047' WHERE MU_PRODUCT_ID = 'P174533104211000000000195';
A32: =VLOOKUP(B32,거래처ID!$A$2:$B$36,2,FALSE) -> C173258871030100000000052 | B32: 바임글로벌 | C32: 757-87-01595 | D32: 조봉근대리 | E32: 010-3033-0729 | H32: =VLOOKUP(I32,Sheet1!$A$1:$B$5,2,FALSE) -> C1713152686736000000047 | I32: 쁘띠 | J32: 스킨부스터 | K32: =VLOOKUP(L32,PRODUCTID!C28:D153,2,FALSE) -> P174533104211000000000196 | L32: 쥬베룩(1) | M32: 8 | N32: cc | O32: 1 | P32: cc | Q32: 100000 | R32: 16 | S32: =+Q32*R32 -> 1600000 | V32: =+T32*U32 -> 0 | W32: 100000 | X32: 10.74 | Y32: =+W32*X32 -> 1074000 | AA32: 1.7 | AB32: =+Z32*AA32 -> 0 | AC32: =+Q32 -> 100000 | AD32: =+R32+U32-X32+AA32 -> 6.96 | AE32: =+AC32*AD32 -> 696000 | AG32: ="UPDATE MU_PRODUCT SET MU_TREATMENT_ID = '" & H32 & "' WHERE MU_PRODUCT_ID = '" & K32 & "';" -> UPDATE MU_PRODUCT SET MU_TREATMENT_ID = 'C1713152686736000000047' WHERE MU_PRODUCT_ID = 'P174533104211000000000196';
A33: =VLOOKUP(B33,거래처ID!$A$2:$B$36,2,FALSE) -> C173258871030100000000052 | B33: 바임글로벌 | C33: 757-87-01595 | D33: 조봉근대리 | E33: 010-3033-0729 | H33: =VLOOKUP(I33,Sheet1!$A$1:$B$5,2,FALSE) -> C1713152686736000000047 | I33: 쁘띠 | J33: 스킨부스터 | K33: =VLOOKUP(L33,PRODUCTID!C29:D154,2,FALSE) -> P174533104211000000000197 | L33: 쥬베룩(2) | M33: 8 | N33: cc | O33: 1 | P33: cc | Q33: 121000 | R33: 50 | S33: =+Q33*R33 -> 6050000 | V33: =+T33*U33 -> 0 | W33: 121000 | X33: 0 | Y33: =+W33*X33 -> 0 | AA33: 0 | AB33: =+Z33*AA33 -> 0 | AC33: =+Q33 -> 121000 | AD33: =+R33+U33-X33+AA33 -> 50 | AE33: =+AC33*AD33 -> 6050000 | AG33: ="UPDATE MU_PRODUCT SET MU_TREATMENT_ID = '" & H33 & "' WHERE MU_PRODUCT_ID = '" & K33 & "';" -> UPDATE MU_PRODUCT SET MU_TREATMENT_ID = 'C1713152686736000000047' WHERE MU_PRODUCT_ID = 'P174533104211000000000197';
A34: C174541386371200000000039 | B34: 기타 | C34: 확인필요 | D34: 확인필요 | E34: 확인필요 | H34: =VLOOKUP(I34,Sheet1!$A$1:$B$5,2,FALSE) -> C1713152686736000000047 | I34: 쁘띠 | J34: 스킨부스터 | K34: =VLOOKUP(L34,PRODUCTID!C30:D155,2,FALSE) -> P174533104211000000000198 | L34: 하이주 | M34: 6 | N34: cc | O34: 1 | P34: cc | Q34: 9616 | R34: 52 | S34: =+Q34*R34 -> 500032 | V34: =+T34*U34 -> 0 | W34: 9616 | X34: 27.5 | Y34: =+W34*X34 -> 264440 | AA34: 1.5 | AB34: =+Z34*AA34 -> 0 | AC34: =+Q34 -> 9616 | AD34: =+R34+U34-X34+AA34 -> 26 | AE34: =+AC34*AD34 -> 250016 | AG34: ="UPDATE MU_PRODUCT SET MU_TREATMENT_ID = '" & H34 & "' WHERE MU_PRODUCT_ID = '" & K34 & "';" -> UPDATE MU_PRODUCT SET MU_TREATMENT_ID = 'C1713152686736000000047' WHERE MU_PRODUCT_ID = 'P174533104211000000000198';
A35: =VLOOKUP(B35,거래처ID!$A$2:$B$36,2,FALSE) -> C173258871030100000000047 | B35: 라윤코리아 | C35: 220-10-07251 | D35: 윤지혜대표 | E35: 010-2728-5010 | H35: =VLOOKUP(I35,Sheet1!$A$1:$B$5,2,FALSE) -> C1713152686736000000050 | I35: 기타 | J35: 실리프팅 | K35: =VLOOKUP(L35,PRODUCTID!C31:D156,2,FALSE) -> P174533104211000000000199 | L35: 하이코(4cm) | M35: 4 | N35: ea | O35: 4 | P35: ea | Q35: 4950 | R35: 84 | S35: =+Q35*R35 -> 415800 | V35: =+T35*U35 -> 0 | W35: 4950 | X35: 20 | Y35: =+W35*X35 -> 99000 | AA35: 0 | AB35: =+Z35*AA35 -> 0 | AC35: =+Q35 -> 4950 | AD35: =+R35+U35-X35+AA35 -> 64 | AE35: =+AC35*AD35 -> 316800 | AG35: ="UPDATE MU_PRODUCT SET MU_TREATMENT_ID = '" & H35 & "' WHERE MU_PRODUCT_ID = '" & K35 & "';" -> UPDATE MU_PRODUCT SET MU_TREATMENT_ID = 'C1713152686736000000050' WHERE MU_PRODUCT_ID = 'P174533104211000000000199';
A36: =VLOOKUP(B36,거래처ID!$A$2:$B$36,2,FALSE) -> C173258871030100000000047 | B36: 라윤코리아 | C36: 220-10-07251 | D36: 윤지혜대표 | E36: 010-2728-5010 | H36: =VLOOKUP(I36,Sheet1!$A$1:$B$5,2,FALSE) -> C1713152686736000000050 | I36: 기타 | J36: 실리프팅 | K36: =VLOOKUP(L36,PRODUCTID!C32:D157,2,FALSE) -> P174533104211000000000200 | L36: 메이드코(6cm) | M36: 4 | N36: ea | O36: 4 | P36: ea | Q36: 4950 | R36: 20 | S36: =+Q36*R36 -> 99000 | T36: 4950 | U36: 24 | V36: =+T36*U36 -> 118800 | W36: 4950 | X36: 12 | Y36: =+W36*X36 -> 59400 | AA36: -4 | AB36: =+Z36*AA36 -> 0 | AC36: =+Q36 -> 4950 | AD36: =+R36+U36-X36+AA36 -> 28 | AE36: =+AC36*AD36 -> 138600 | AF36: 유통기한 폐기 / 교환 안되서 폐기 진행 | AG36: ="UPDATE MU_PRODUCT SET MU_TREATMENT_ID = '" & H36 & "' WHERE MU_PRODUCT_ID = '" & K36 & "';" -> UPDATE MU_PRODUCT SET MU_TREATMENT_ID = 'C1713152686736000000050' WHERE MU_PRODUCT_ID = 'P174533104211000000000200';
A37: =VLOOKUP(B37,거래처ID!$A$2:$B$36,2,FALSE) -> C173258871030100000000058 | B37: (주)아프로메디온 | C37: 확인필요 | D37: 박세호부장 | E37: 010-6411-0772 | H37: =VLOOKUP(I37,Sheet1!$A$1:$B$5,2,FALSE) -> C1713152686736000000050 | I37: 기타 | J37: 실리프팅 | K37: =VLOOKUP(L37,PRODUCTID!C33:D158,2,FALSE) -> P174533104211000000000201 | L37: 오메가 | M37: 2 | N37: ea | O37: 2 | P37: ea | Q37: 5500 | R37: 188 | S37: =+Q37*R37 -> 1034000 | V37: =+T37*U37 -> 0 | W37: 5500 | X37: 38 | Y37: =+W37*X37 -> 209000 | AA37: 0 | AB37: =+Z37*AA37 -> 0 | AC37: =+Q37 -> 5500 | AD37: =+R37+U37-X37+AA37 -> 150 | AE37: =+AC37*AD37 -> 825000 | AG37: ="UPDATE MU_PRODUCT SET MU_TREATMENT_ID = '" & H37 & "' WHERE MU_PRODUCT_ID = '" & K37 & "';" -> UPDATE MU_PRODUCT SET MU_TREATMENT_ID = 'C1713152686736000000050' WHERE MU_PRODUCT_ID = 'P174533104211000000000201';
A38: =VLOOKUP(B38,거래처ID!$A$2:$B$36,2,FALSE) -> C173258871030100000000047 | B38: 라윤코리아 | C38: 220-10-07251 | D38: 윤지혜대표 | E38: 010-2728-5010 | H38: =VLOOKUP(I38,Sheet1!$A$1:$B$5,2,FALSE) -> C1713152686736000000050 | I38: 기타 | J38: 실리프팅 | K38: =VLOOKUP(L38,PRODUCTID!C34:D159,2,FALSE) -> P174533104211000000000202 | L38: 울트라V | M38: 10 | N38: ea | O38: 10 | P38: ea | Q38: 550 | R38: 960 | S38: =+Q38*R38 -> 528000 | V38: =+T38*U38 -> 0 | W38: 550 | X38: 90 | Y38: =+W38*X38 -> 49500 | AA38: 0 | AB38: =+Z38*AA38 -> 0 | AC38: =+Q38 -> 550 | AD38: =+R38+U38-X38+AA38 -> 870 | AE38: =+AC38*AD38 -> 478500 | AG38: ="UPDATE MU_PRODUCT SET MU_TREATMENT_ID = '" & H38 & "' WHERE MU_PRODUCT_ID = '" & K38 & "';" -> UPDATE MU_PRODUCT SET MU_TREATMENT_ID = 'C1713152686736000000050' WHERE MU_PRODUCT_ID = 'P174533104211000000000202';
A39: =VLOOKUP(B39,거래처ID!$A$2:$B$36,2,FALSE) -> C173258871030100000000050 | B39: 민트메디컬㈜ | C39: 755-87-01997 | D39: 김민수 | E39: 010-7210-2215 | H39: =VLOOKUP(I39,Sheet1!$A$1:$B$5,2,FALSE) -> C1713152686736000000050 | I39: 기타 | J39: 실리프팅 | K39: =VLOOKUP(L39,PRODUCTID!C35:D160,2,FALSE) -> P174533104211000000000203 | L39: 민트쁘띠 | M39: 4 | N39: ea | O39: 4 | P39: ea | Q39: 9000 | R39: 168 | S39: =+Q39*R39 -> 1512000 | V39: =+T39*U39 -> 0 | W39: 9000 | X39: 8 | Y39: =+W39*X39 -> 72000 | AA39: 0 | AB39: =+Z39*AA39 -> 0 | AC39: =+Q39 -> 9000 | AD39: =+R39+U39-X39+AA39 -> 160 | AE39: =+AC39*AD39 -> 1440000 | AG39: ="UPDATE MU_PRODUCT SET MU_TREATMENT_ID = '" & H39 & "' WHERE MU_PRODUCT_ID = '" & K39 & "';" -> UPDATE MU_PRODUCT SET MU_TREATMENT_ID = 'C1713152686736000000050' WHERE MU_PRODUCT_ID = 'P174533104211000000000203';
A40: =VLOOKUP(B40,거래처ID!$A$2:$B$36,2,FALSE) -> C173258871030100000000045 | B40: 한국싱클레어(유) | C40: 530-87-00797 | D40: 확인필요 | E40: 010-8837-7677 | H40: =VLOOKUP(I40,Sheet1!$A$1:$B$5,2,FALSE) -> C1713152686736000000050 | I40: 기타 | J40: 실리프팅 | K40: =VLOOKUP(L40,PRODUCTID!C36:D161,2,FALSE) -> P174533104211000000000204 | L40: 실루엣8콘 | M40: 2 | N40: ea | O40: 2 | P40: ea | Q40: 107250 | R40: 28 | S40: =+Q40*R40 -> 3003000 | V40: =+T40*U40 -> 0 | W40: 107250 | X40: 0 | Y40: =+W40*X40 -> 0 | AA40: 0 | AB40: =+Z40*AA40 -> 0 | AC40: =+Q40 -> 107250 | AD40: =+R40+U40-X40+AA40 -> 28 | AE40: =+AC40*AD40 -> 3003000 | AG40: ="UPDATE MU_PRODUCT SET MU_TREATMENT_ID = '" & H40 & "' WHERE MU_PRODUCT_ID = '" & K40 & "';" -> UPDATE MU_PRODUCT SET MU_TREATMENT_ID = 'C1713152686736000000050' WHERE MU_PRODUCT_ID = 'P174533104211000000000204';
A41: =VLOOKUP(B41,거래처ID!$A$2:$B$36,2,FALSE) -> C173258871030100000000049 | B41: 케어캠프㈜ | C41: 211-86-94742 | D41: 황정필 | E41: 010-6649-8881 | H41: =VLOOKUP(I41,Sheet1!$A$1:$B$5,2,FALSE) -> C1713152686736000000046 | I41: 피부 | J41: 레이저 | K41: =VLOOKUP(L41,PRODUCTID!C37:D162,2,FALSE) -> P174533104211000000000205 | L41: 울쎄라-DS 10-1.5N(1) | M41: 2400 | N41: shot | O41: 1 | P41: shot | Q41: 1271 | R41: 1106 | S41: =+Q41*R41 -> 1405726 | V41: =+T41*U41 -> 0 | W41: 1271 | X41: 1100 | Y41: =+W41*X41 -> 1398100 | AA41: 0 | AB41: =+Z41*AA41 -> 0 | AC41: =+Q41 -> 1271 | AD41: =+R41+U41-X41+AA41 -> 6 | AE41: =+AC41*AD41 -> 7626 | AG41: ="UPDATE MU_PRODUCT SET MU_TREATMENT_ID = '" & H41 & "' WHERE MU_PRODUCT_ID = '" & K41 & "';" -> UPDATE MU_PRODUCT SET MU_TREATMENT_ID = 'C1713152686736000000046' WHERE MU_PRODUCT_ID = 'P174533104211000000000205';
A42: =VLOOKUP(B42,거래처ID!$A$2:$B$36,2,FALSE) -> C173258871030100000000049 | B42: 케어캠프㈜ | C42: 211-86-94742 | D42: 황정필 | E42: 010-6649-8881 | H42: =VLOOKUP(I42,Sheet1!$A$1:$B$5,2,FALSE) -> C1713152686736000000046 | I42: 피부 | K42: =VLOOKUP(L42,PRODUCTID!C38:D163,2,FALSE) -> P174533104211000000000206 | L42: 울쎄라-DS 10-1.5N(2) | M42: 2400 | N42: shot | O42: 1 | P42: shot | Q42: 1121 | R42: 12000 | S42: =+Q42*R42 -> 13452000 | V42: =+T42*U42 -> 0 | W42: 1121 | X42: 0 | Y42: =+W42*X42 -> 0 | AA42: 0 | AB42: =+Z42*AA42 -> 0 | AC42: =+Q42 -> 1121 | AD42: =+R42+U42-X42+AA42 -> 12000 | AE42: =+AC42*AD42 -> 13452000 | AG42: ="UPDATE MU_PRODUCT SET MU_TREATMENT_ID = '" & H42 & "' WHERE MU_PRODUCT_ID = '" & K42 & "';" -> UPDATE MU_PRODUCT SET MU_TREATMENT_ID = 'C1713152686736000000046' WHERE MU_PRODUCT_ID = 'P174533104211000000000206';
A43: =VLOOKUP(B43,거래처ID!$A$2:$B$36,2,FALSE) -> C173258871030100000000049 | B43: 케어캠프㈜ | C43: 211-86-94742 | D43: 황정필 | E43: 010-6649-8881 | H43: =VLOOKUP(I43,Sheet1!$A$1:$B$5,2,FALSE) -> C1713152686736000000046 | I43: 피부 | K43: =VLOOKUP(L43,PRODUCTID!C39:D164,2,FALSE) -> P174533104211000000000207 | L43: 울쎄라-DS 7-3.0(1) | M43: 2400 | N43: shot | O43: 1 | P43: shot | Q43: 1121 | R43: 1419 | S43: =+Q43*R43 -> 1590699 | T43: 1270.8333 | U43: 2400 | V43: =+T43*U43 -> 3050000 | W43: 1121 | X43: 1419 | Y43: =+W43*X43 -> 1590699 | AA43: 0 | AB43: =+Z43*AA43 -> 0 | AC43: =+Q43 -> 1121 | AD43: =+R43+U43-X43+AA43 -> 2400 | AE43: =+AC43*AD43 -> 2690400 | AG43: ="UPDATE MU_PRODUCT SET MU_TREATMENT_ID = '" & H43 & "' WHERE MU_PRODUCT_ID = '" & K43 & "';" -> UPDATE MU_PRODUCT SET MU_TREATMENT_ID = 'C1713152686736000000046' WHERE MU_PRODUCT_ID = 'P174533104211000000000207';
A44: =VLOOKUP(B44,거래처ID!$A$2:$B$36,2,FALSE) -> C173258871030100000000049 | B44: 케어캠프㈜ | C44: 211-86-94742 | D44: 황정필 | E44: 010-6649-8881 | H44: =VLOOKUP(I44,Sheet1!$A$1:$B$5,2,FALSE) -> C1713152686736000000046 | I44: 피부 | K44: =VLOOKUP(L44,PRODUCTID!C40:D165,2,FALSE) -> P174533104211000000000208 | L44: 울쎄라-DS 7-3.0(2) | M44: 2400 | N44: shot | O44: 1 | P44: shot | Q44: 1145.9 | R44: 12000 | S44: =+Q44*R44 -> 13750800 | V44: =+T44*U44 -> 0 | W44: 1146 | X44: 5100 | Y44: =+W44*X44 -> 5844600 | AA44: 0 | AB44: =+Z44*AA44 -> 0 | AC44: =+Q44 -> 1145.9 | AD44: =+R44+U44-X44+AA44 -> 6900 | AE44: =+AC44*AD44 -> 7906710 | AG44: ="UPDATE MU_PRODUCT SET MU_TREATMENT_ID = '" & H44 & "' WHERE MU_PRODUCT_ID = '" & K44 & "';" -> UPDATE MU_PRODUCT SET MU_TREATMENT_ID = 'C1713152686736000000046' WHERE MU_PRODUCT_ID = 'P174533104211000000000208';
A45: =VLOOKUP(B45,거래처ID!$A$2:$B$36,2,FALSE) -> C173258871030100000000049 | B45: 케어캠프㈜ | C45: 211-86-94742 | D45: 황정필 | E45: 010-6649-8881 | H45: =VLOOKUP(I45,Sheet1!$A$1:$B$5,2,FALSE) -> C1713152686736000000046 | I45: 피부 | K45: =VLOOKUP(L45,PRODUCTID!C41:D166,2,FALSE) -> P174533104211000000000209 | L45: 울쎄라-DS 4-4.5 | M45: 2400 | N45: shot | O45: 1 | P45: shot | Q45: 1145.9 | R45: 98243 | S45: =+Q45*R45 -> 1.1257665e+08 | T45: 1270.8333 | U45: 9600 | V45: =+T45*U45 -> 12200000 | W45: 1146 | X45: 9600 | Y45: =+W45*X45 -> 11001600 | AA45: -86024 | AB45: =+Z45*AA45 -> 0 | AC45: =+Q45 -> 1145.9 | AD45: =+R45+U45-X45+AA45 -> 12219 | AE45: =+AC45*AD45 -> 14001752 | AF45: 엑셀 잘못 기입(crm 재고는 맞아요) | AG45: ="UPDATE MU_PRODUCT SET MU_TREATMENT_ID = '" & H45 & "' WHERE MU_PRODUCT_ID = '" & K45 & "';" -> UPDATE MU_PRODUCT SET MU_TREATMENT_ID = 'C1713152686736000000046' WHERE MU_PRODUCT_ID = 'P174533104211000000000209';
A46: =VLOOKUP(B46,거래처ID!$A$2:$B$36,2,FALSE) -> C173258871030100000000039 | B46: ㈜클래시스 | C46: 107-88-39288 | D46: 확인필요 | E46: 확인필요 | H46: =VLOOKUP(I46,Sheet1!$A$1:$B$5,2,FALSE) -> C1713152686736000000048 | I46: 비만 | K46: =VLOOKUP(L46,PRODUCTID!C42:D167,2,FALSE) -> P174533104211000000000210 | L46: 울핏6.0 | M46: 60100 | N46: shot | O46: 1 | P46: shot | Q46: 22 | R46: 67892 | S46: =+Q46*R46 -> 1493624 | V46: =+T46*U46 -> 0 | W46: 22 | X46: 13213 | Y46: =+W46*X46 -> 290686 | AA46: -481 | AB46: =+Z46*AA46 -> 0 | AC46: =+Q46 -> 22 | AD46: =+R46+U46-X46+AA46 -> 54198 | AE46: =+AC46*AD46 -> 1192356 | AF46: 3월 말 기준 재고 확인 후 정리 / 팁as 이번달 정리 | AG46: ="UPDATE MU_PRODUCT SET MU_TREATMENT_ID = '" & H46 & "' WHERE MU_PRODUCT_ID = '" & K46 & "';" -> UPDATE MU_PRODUCT SET MU_TREATMENT_ID = 'C1713152686736000000048' WHERE MU_PRODUCT_ID = 'P174533104211000000000210';
A47: =VLOOKUP(B47,거래처ID!$A$2:$B$36,2,FALSE) -> C173258871030100000000039 | B47: ㈜클래시스 | C47: 107-88-39288 | D47: 확인필요 | E47: 확인필요 | H47: =VLOOKUP(I47,Sheet1!$A$1:$B$5,2,FALSE) -> C1713152686736000000048 | I47: 비만 | K47: =VLOOKUP(L47,PRODUCTID!C43:D168,2,FALSE) -> P174533104211000000000211 | L47: 울핏9.0 | M47: 60100 | N47: shot | O47: 1 | P47: shot | Q47: 22 | R47: 69660 | S47: =+Q47*R47 -> 1532520 | V47: =+T47*U47 -> 0 | W47: 22 | X47: 4403 | Y47: =+W47*X47 -> 96866 | AA47: -909 | AB47: =+Z47*AA47 -> 0 | AC47: =+Q47 -> 22 | AD47: =+R47+U47-X47+AA47 -> 64348 | AE47: =+AC47*AD47 -> 1415656 | AF47: 3월 말 기준 재고 확인 후 정리 / 팁as 이번달 정리 | AG47: ="UPDATE MU_PRODUCT SET MU_TREATMENT_ID = '" & H47 & "' WHERE MU_PRODUCT_ID = '" & K47 & "';" -> UPDATE MU_PRODUCT SET MU_TREATMENT_ID = 'C1713152686736000000048' WHERE MU_PRODUCT_ID = 'P174533104211000000000211';
A48: =VLOOKUP(B48,거래처ID!$A$2:$B$36,2,FALSE) -> C173258871030100000000048 | B48: ㈜지오영 | C48: 109-81-78726 | D48: 정상목주임 | E48: 010-5105-0629 | H48: =VLOOKUP(I48,Sheet1!$A$1:$B$5,2,FALSE) -> C1713152686736000000046 | I48: 피부 | K48: =VLOOKUP(L48,PRODUCTID!C44:D169,2,FALSE) -> P174533104211000000000212 | L48: 써마지 FLX 600샷 | M48: 600 | N48: shot | O48: 600 | P48: shot | Q48: 0 | R48: 0 | S48: =+Q48*R48 -> 0 | T48: 840000 | U48: 60 | V48: =+T48*U48 -> 50400000 | W48: 840000 | Y48: =+W48*X48 -> 0 | AA48: 0 | AC48: =+Q48 -> 0 | AD48: =+R48+U48-X48+AA48 -> 60 | AE48: =+AC48*AD48 -> 0 | AG48: ="UPDATE MU_PRODUCT SET MU_TREATMENT_ID = '" & H48 & "' WHERE MU_PRODUCT_ID = '" & K48 & "';" -> UPDATE MU_PRODUCT SET MU_TREATMENT_ID = 'C1713152686736000000046' WHERE MU_PRODUCT_ID = 'P174533104211000000000212';
A49: =VLOOKUP(B49,거래처ID!$A$2:$B$36,2,FALSE) -> C173258871030100000000048 | B49: ㈜지오영 | C49: 109-81-78726 | D49: 정상목주임 | E49: 010-5105-0629 | H49: =VLOOKUP(I49,Sheet1!$A$1:$B$5,2,FALSE) -> C1713152686736000000046 | I49: 피부 | K49: =VLOOKUP(L49,PRODUCTID!C45:D170,2,FALSE) -> P174533104211000000000213 | L49: 써마지 FLX 600샷 | M49: 600 | N49: shot | O49: 600 | P49: shot | Q49: 960000 | R49: 18 | S49: =+Q49*R49 -> 17280000 | V49: =+T49*U49 -> 0 | W49: 960000 | X49: 13 | Y49: =+W49*X49 -> 12480000 | AA49: 0 | AC49: =+Q49 -> 960000 | AD49: =+R49+U49-X49+AA49 -> 5 | AE49: =+AC49*AD49 -> 4800000 | AG49: ="UPDATE MU_PRODUCT SET MU_TREATMENT_ID = '" & H49 & "' WHERE MU_PRODUCT_ID = '" & K49 & "';" -> UPDATE MU_PRODUCT SET MU_TREATMENT_ID = 'C1713152686736000000046' WHERE MU_PRODUCT_ID = 'P174533104211000000000213';
A50: =VLOOKUP(B50,거래처ID!$A$2:$B$36,2,FALSE) -> C173258871030100000000048 | B50: ㈜지오영 | C50: 109-81-78726 | D50: 정상목주임 | E50: 010-5105-0629 | H50: =VLOOKUP(I50,Sheet1!$A$1:$B$5,2,FALSE) -> C1713152686736000000046 | I50: 피부 | K50: =VLOOKUP(L50,PRODUCTID!C46:D171,2,FALSE) -> P174533104211000000000214 | L50: 써마지 FLX 300샷 | M50: 300 | N50: shot | O50: 300 | P50: shot | AG50: ="UPDATE MU_PRODUCT SET MU_TREATMENT_ID = '" & H50 & "' WHERE MU_PRODUCT_ID = '" & K50 & "';" -> UPDATE MU_PRODUCT SET MU_TREATMENT_ID = 'C1713152686736000000046' WHERE MU_PRODUCT_ID = 'P174533104211000000000214';
A51: C174541386371200000000039 | B51: 기타 | C51: 확인필요 | D51: 확인필요 | E51: 확인필요 | H51: =VLOOKUP(I51,Sheet1!$A$1:$B$5,2,FALSE) -> C1713152686736000000050 | I51: 기타 | K51: =VLOOKUP(L51,PRODUCTID!C47:D172,2,FALSE) -> P174533104211000000000215 | L51: 멀티블루 | M51: 10 | N51: cc | O51: 10 | P51: cc | Q51: 8800 | R51: 19 | S51: =+Q51*R51 -> 167200 | T51: 8800 | U51: 25 | V51: =+T51*U51 -> 220000 | W51: 8800 | X51: 9 | Y51: =+W51*X51 -> 79200 | AA51: 0 | AB51: =+Z51*AA51 -> 0 | AC51: =+Q51 -> 8800 | AD51: =+R51+U51-X51+AA51 -> 35 | AE51: =+AC51*AD51 -> 308000 | AG51: ="UPDATE MU_PRODUCT SET MU_TREATMENT_ID = '" & H51 & "' WHERE MU_PRODUCT_ID = '" & K51 & "';" -> UPDATE MU_PRODUCT SET MU_TREATMENT_ID = 'C1713152686736000000050' WHERE MU_PRODUCT_ID = 'P174533104211000000000215';
A52: C174541386371200000000039 | B52: 기타 | C52: 확인필요 | D52: 확인필요 | E52: 확인필요 | H52: =VLOOKUP(I52,Sheet1!$A$1:$B$5,2,FALSE) -> C1713152686736000000048 | I52: 비만 | K52: =VLOOKUP(L52,PRODUCTID!C48:D173,2,FALSE) -> P174533104211000000000216 | L52: 아르기닌 | M52: 100 | N52: cc | O52: 100 | P52: cc | Q52: 20000 | R52: 16 | S52: =+Q52*R52 -> 320000 | T52: 20000 | U52: 20 | V52: =+T52*U52 -> 400000 | W52: 20000 | X52: 11 | Y52: =+W52*X52 -> 220000 | AA52: 0 | AB52: =+Z52*AA52 -> 0 | AC52: =+Q52 -> 20000 | AD52: =+R52+U52-X52+AA52 -> 25 | AE52: =+AC52*AD52 -> 500000 | AG52: ="UPDATE MU_PRODUCT SET MU_TREATMENT_ID = '" & H52 & "' WHERE MU_PRODUCT_ID = '" & K52 & "';" -> UPDATE MU_PRODUCT SET MU_TREATMENT_ID = 'C1713152686736000000048' WHERE MU_PRODUCT_ID = 'P174533104211000000000216';
A53: C174541386371200000000039 | B53: 기타 | C53: 확인필요 | D53: 확인필요 | E53: 확인필요 | H53: =VLOOKUP(I53,Sheet1!$A$1:$B$5,2,FALSE) -> C1713152686736000000050 | I53: 기타 | K53: =VLOOKUP(L53,PRODUCTID!C49:D174,2,FALSE) -> P174533104211000000000217 | L53: BSC-30 | M53: 1 | N53: ea | O53: 1 | P53: ea | Q53: 170000 | R53: 3 | S53: =+Q53*R53 -> 510000 | V53: =+T53*U53 -> 0 | W53: 170000 | X53: 0 | Y53: =+W53*X53 -> 0 | AA53: 0 | AB53: =+Z53*AA53 -> 0 | AC53: =+Q53 -> 170000 | AD53: =+R53+U53-X53+AA53 -> 3 | AE53: =+AC53*AD53 -> 510000 | AG53: ="UPDATE MU_PRODUCT SET MU_TREATMENT_ID = '" & H53 & "' WHERE MU_PRODUCT_ID = '" & K53 & "';" -> UPDATE MU_PRODUCT SET MU_TREATMENT_ID = 'C1713152686736000000050' WHERE MU_PRODUCT_ID = 'P174533104211000000000217';
A54: C174541386371200000000039 | B54: 기타 | C54: 확인필요 | D54: 확인필요 | E54: 확인필요 | H54: =VLOOKUP(I54,Sheet1!$A$1:$B$5,2,FALSE) -> C1713152686736000000050 | I54: 기타 | K54: =VLOOKUP(L54,PRODUCTID!C50:D175,2,FALSE) -> P174533104211000000000218 | L54: BSC-60 | M54: 1 | N54: ea | O54: 1 | P54: ea | Q54: 350000 | R54: 6 | S54: =+Q54*R54 -> 2100000 | V54: =+T54*U54 -> 0 | W54: 350000 | X54: 0 | Y54: =+W54*X54 -> 0 | AA54: 0 | AB54: =+Z54*AA54 -> 0 | AC54: =+Q54 -> 350000 | AD54: =+R54+U54-X54+AA54 -> 6 | AE54: =+AC54*AD54 -> 2100000 | AG54: ="UPDATE MU_PRODUCT SET MU_TREATMENT_ID = '" & H54 & "' WHERE MU_PRODUCT_ID = '" & K54 & "';" -> UPDATE MU_PRODUCT SET MU_TREATMENT_ID = 'C1713152686736000000050' WHERE MU_PRODUCT_ID = 'P174533104211000000000218';
A55: C174541386371200000000039 | B55: 기타 | C55: 확인필요 | D55: 확인필요 | E55: 확인필요 | H55: =VLOOKUP(I55,Sheet1!$A$1:$B$5,2,FALSE) -> C1713152686736000000050 | I55: 기타 | K55: =VLOOKUP(L55,PRODUCTID!C51:D176,2,FALSE) -> P174533104211000000000219 | L55: BSC-120 | M55: 1 | N55: ea | O55: 1 | P55: ea | Q55: 600000 | R55: 3 | S55: =+Q55*R55 -> 1800000 | V55: =+T55*U55 -> 0 | W55: 600000 | X55: 0 | Y55: =+W55*X55 -> 0 | AA55: 0 | AB55: =+Z55*AA55 -> 0 | AC55: =+Q55 -> 600000 | AD55: =+R55+U55-X55+AA55 -> 3 | AE55: =+AC55*AD55 -> 1800000 | AG55: ="UPDATE MU_PRODUCT SET MU_TREATMENT_ID = '" & H55 & "' WHERE MU_PRODUCT_ID = '" & K55 & "';" -> UPDATE MU_PRODUCT SET MU_TREATMENT_ID = 'C1713152686736000000050' WHERE MU_PRODUCT_ID = 'P174533104211000000000219';
A56: =VLOOKUP(B56,거래처ID!$A$2:$B$36,2,FALSE) -> C173258871030100000000059 | B56: 유벤타헬스케어 | C56: =VLOOKUP(B56,$B$6:$C$55,2,0) -> #N/A | D56: =VLOOKUP(B56,$B$6:$D$55,3,0) -> #N/A | E56: =VLOOKUP(B56,$B$6:$L$55,4,0) -> #N/A | H56: =VLOOKUP(I56,Sheet1!$A$1:$B$5,2,FALSE) -> C1713152686736000000046 | I56: 피부 | K56: =VLOOKUP(L56,PRODUCTID!C52:D177,2,FALSE) -> P174533104211000000000220 | L56: NDA플러스 | M56: 1 | N56: cc | O56: 1 | P56: cc | Q56: 15400 | R56: 55 | S56: =+Q56*R56 -> 847000 | V56: =+T56*U56 -> 0 | Y56: =+W56*X56 -> 0 | Z56: =+W56 -> 0 | AB56: =+Z56*AA56 -> 0 | AC56: =+Q56 -> 15400 | AD56: =+R56+U56-X56+AA56 -> 55 | AE56: =+AC56*AD56 -> 847000 | AG56: ="UPDATE MU_PRODUCT SET MU_TREATMENT_ID = '" & H56 & "' WHERE MU_PRODUCT_ID = '" & K56 & "';" -> UPDATE MU_PRODUCT SET MU_TREATMENT_ID = 'C1713152686736000000046' WHERE MU_PRODUCT_ID = 'P174533104211000000000220';
A57: =VLOOKUP(B57,거래처ID!$A$2:$B$36,2,FALSE) -> C173258871030100000000060 | B57: 에스테팜 | C57: =VLOOKUP(B57,$B$6:$C$55,2,0) -> #N/A | D57: =VLOOKUP(B57,$B$6:$D$55,3,0) -> #N/A | E57: =VLOOKUP(B57,$B$6:$L$55,4,0) -> #N/A | H57: =VLOOKUP(I57,Sheet1!$A$1:$B$5,2,FALSE) -> C1713152686736000000046 | I57: 피부 | K57: =VLOOKUP(L57,PRODUCTID!C53:D178,2,FALSE) -> P174533104211000000000221 | L57: 큐티셀 | M57: 1 | N57: ea | O57: 1 | P57: ea | Q57: 33000 | R57: 24 | S57: =+Q57*R57 -> 792000 | V57: =+T57*U57 -> 0 | Y57: =+W57*X57 -> 0 | Z57: =+W57 -> 0 | AB57: =+Z57*AA57 -> 0 | AC57: =+Q57 -> 33000 | AD57: =+R57+U57-X57+AA57 -> 24 | AE57: =+AC57*AD57 -> 792000 | AG57: ="UPDATE MU_PRODUCT SET MU_TREATMENT_ID = '" & H57 & "' WHERE MU_PRODUCT_ID = '" & K57 & "';" -> UPDATE MU_PRODUCT SET MU_TREATMENT_ID = 'C1713152686736000000046' WHERE MU_PRODUCT_ID = 'P174533104211000000000221';
A58: =VLOOKUP(B58,거래처ID!$A$2:$B$36,2,FALSE) -> C173258871030100000000061 | B58: 제이시스 | C58: 424-87-00852 | D58: =VLOOKUP(B58,$B$6:$D$55,3,0) -> #N/A | E58: =VLOOKUP(B58,$B$6:$L$55,4,0) -> #N/A | H58: =VLOOKUP(I58,Sheet1!$A$1:$B$5,2,FALSE) -> C1713152686736000000046 | I58: 피부 | K58: =VLOOKUP(L58,PRODUCTID!C54:D179,2,FALSE) -> P174533104211000000000222 | L58: N-25 | M58: 1 | N58: ea | O58: 1 | P58: ea | Q58: 33000 | R58: 14 | S58: =+Q58*R58 -> 462000 | V58: =+T58*U58 -> 0 | Y58: =+W58*X58 -> 0 | AC58: =+Q58 -> 33000 | AD58: =+R58+U58-X58+AA58 -> 14 | AE58: =+AC58*AD58 -> 462000 | AG58: ="UPDATE MU_PRODUCT SET MU_TREATMENT_ID = '" & H58 & "' WHERE MU_PRODUCT_ID = '" & K58 & "';" -> UPDATE MU_PRODUCT SET MU_TREATMENT_ID = 'C1713152686736000000046' WHERE MU_PRODUCT_ID = 'P174533104211000000000222';
A59: =VLOOKUP(B59,거래처ID!$A$2:$B$36,2,FALSE) -> C173258871030100000000061 | B59: 제이시스 | C59: 424-87-00852 | D59: =VLOOKUP(B59,$B$6:$D$55,3,0) -> #N/A | E59: =VLOOKUP(B59,$B$6:$L$55,4,0) -> #N/A | H59: =VLOOKUP(I59,Sheet1!$A$1:$B$5,2,FALSE) -> C1713152686736000000046 | I59: 피부 | K59: =VLOOKUP(L59,PRODUCTID!C55:D180,2,FALSE) -> P174533104211000000000223 | L59: I-25 | M59: 1 | N59: ea | O59: 1 | P59: ea | Q59: 33000 | R59: 7 | S59: =+Q59*R59 -> 231000 | V59: =+T59*U59 -> 0 | Y59: =+W59*X59 -> 0 | Z59: =+W59 -> 0 | AC59: =+Q59 -> 33000 | AD59: =+R59+U59-X59+AA59 -> 7 | AE59: =+AC59*AD59 -> 231000 | AG59: ="UPDATE MU_PRODUCT SET MU_TREATMENT_ID = '" & H59 & "' WHERE MU_PRODUCT_ID = '" & K59 & "';" -> UPDATE MU_PRODUCT SET MU_TREATMENT_ID = 'C1713152686736000000046' WHERE MU_PRODUCT_ID = 'P174533104211000000000223';
A60: =VLOOKUP(B60,거래처ID!$A$2:$B$36,2,FALSE) -> C173258871030100000000061 | B60: 제이시스 | C60: 424-87-00852 | D60: =VLOOKUP(B60,$B$6:$D$55,3,0) -> #N/A | E60: =VLOOKUP(B60,$B$6:$L$55,4,0) -> #N/A | H60: =VLOOKUP(I60,Sheet1!$A$1:$B$5,2,FALSE) -> C1713152686736000000046 | I60: 피부 | K60: =VLOOKUP(L60,PRODUCTID!C56:D181,2,FALSE) -> P174533104211000000000224 | L60: CP-25 | M60: 1 | N60: ea | O60: 1 | P60: ea | Q60: 49000 | R60: 38 | S60: =+Q60*R60 -> 1862000 | V60: =+T60*U60 -> 0 | Y60: =+W60*X60 -> 0 | Z60: =+W60 -> 0 | AC60: =+Q60 -> 49000 | AD60: =+R60+U60-X60+AA60 -> 38 | AE60: =+AC60*AD60 -> 1862000 | AG60: ="UPDATE MU_PRODUCT SET MU_TREATMENT_ID = '" & H60 & "' WHERE MU_PRODUCT_ID = '" & K60 & "';" -> UPDATE MU_PRODUCT SET MU_TREATMENT_ID = 'C1713152686736000000046' WHERE MU_PRODUCT_ID = 'P174533104211000000000224';
A61: =VLOOKUP(B61,거래처ID!$A$2:$B$36,2,FALSE) -> C173258871030100000000061 | B61: 제이시스 | C61: 424-87-00852 | D61: =VLOOKUP(B61,$B$6:$D$55,3,0) -> #N/A | E61: =VLOOKUP(B61,$B$6:$L$55,4,0) -> #N/A | H61: =VLOOKUP(I61,Sheet1!$A$1:$B$5,2,FALSE) -> C1713152686736000000046 | I61: 피부 | K61: =VLOOKUP(L61,PRODUCTID!C57:D182,2,FALSE) -> P174533104211000000000225 | L61: DDR | M61: 5000 | N61: ea | O61: 1 | P61: ea | Q61: 44 | R61: 7954 | S61: =+Q61*R61 -> 349976 | V61: =+T61*U61 -> 0 | Y61: =+W61*X61 -> 0 | AC61: =+Q61 -> 44 | AD61: =+R61+U61-X61+AA61 -> 7954 | AE61: =+AC61*AD61 -> 349976 | AG61: ="UPDATE MU_PRODUCT SET MU_TREATMENT_ID = '" & H61 & "' WHERE MU_PRODUCT_ID = '" & K61 & "';" -> UPDATE MU_PRODUCT SET MU_TREATMENT_ID = 'C1713152686736000000046' WHERE MU_PRODUCT_ID = 'P174533104211000000000225';
A62: =VLOOKUP(B62,거래처ID!$A$2:$B$36,2,FALSE) -> C173258871030100000000061 | B62: 제이시스 | C62: 424-87-00852 | D62: =VLOOKUP(B62,$B$6:$D$55,3,0) -> #N/A | E62: =VLOOKUP(B62,$B$6:$L$55,4,0) -> #N/A | H62: =VLOOKUP(I62,Sheet1!$A$1:$B$5,2,FALSE) -> C1713152686736000000046 | I62: 피부 | K62: =VLOOKUP(L62,PRODUCTID!C58:D183,2,FALSE) -> P174533104211000000000226 | L62: DIA | M62: 10000 | N62: ea | O62: 1 | P62: ea | Q62: 165 | R62: 10901 | S62: =+Q62*R62 -> 1798665 | V62: =+T62*U62 -> 0 | Y62: =+W62*X62 -> 0 | Z62: =+W62 -> 0 | AC62: =+Q62 -> 165 | AD62: =+R62+U62-X62+AA62 -> 10901 | AE62: =+AC62*AD62 -> 1798665 | AG62: ="UPDATE MU_PRODUCT SET MU_TREATMENT_ID = '" & H62 & "' WHERE MU_PRODUCT_ID = '" & K62 & "';" -> UPDATE MU_PRODUCT SET MU_TREATMENT_ID = 'C1713152686736000000046' WHERE MU_PRODUCT_ID = 'P174533104211000000000226';
A63: =VLOOKUP(B63,거래처ID!$A$2:$B$36,2,FALSE) -> C173258871030100000000061 | B63: 제이시스 | C63: 424-87-00852 | D63: =VLOOKUP(B63,$B$6:$D$55,3,0) -> #N/A | E63: =VLOOKUP(B63,$B$6:$L$55,4,0) -> #N/A | H63: =VLOOKUP(I63,Sheet1!$A$1:$B$5,2,FALSE) -> C1713152686736000000046 | I63: 피부 | K63: =VLOOKUP(L63,PRODUCTID!C59:D184,2,FALSE) -> P174533104211000000000227 | L63: 포텐자 젤(s.v) | M63: 확인필요 | N63: 확인필요 | O63: 확인필요 | P63: 확인필요 | Q63: 0 | R63: 4 | S63: 0 | V63: 0 | W63: 0 | X63: 0 | Y63: 0 | AB63: 0 | AC63: 0 | AD63: 4 | AE63: 0 | AG63: ="UPDATE MU_PRODUCT SET MU_TREATMENT_ID = '" & H63 & "' WHERE MU_PRODUCT_ID = '" & K63 & "';" -> UPDATE MU_PRODUCT SET MU_TREATMENT_ID = 'C1713152686736000000046' WHERE MU_PRODUCT_ID = 'P174533104211000000000227';
A64: =VLOOKUP(B64,거래처ID!$A$2:$B$36,2,FALSE) -> C173258871030100000000062 | B64: 은성메디컬 | C64: =VLOOKUP(B64,$B$6:$C$55,2,0) -> #N/A | D64: =VLOOKUP(B64,$B$6:$D$55,3,0) -> #N/A | E64: 010-5323-3196 | H64: =VLOOKUP(I64,Sheet1!$A$1:$B$5,2,FALSE) -> C1713152686736000000046 | I64: 피부 | K64: =VLOOKUP(L64,PRODUCTID!C60:D185,2,FALSE) -> P174533104211000000000228 | L64: 듀엣써마지 팁 | M64: 1 | N64: ea | O64: 1 | P64: ea | Q64: 11 | R64: 3153 | S64: =+Q64*R64 -> 34683 | V64: =+T64*U64 -> 0 | Y64: =+W64*X64 -> 0 | Z64: =+W64 -> 0 | AB64: =+Z64*AA64 -> 0 | AC64: =+Q64 -> 11 | AD64: =+R64+U64-X64+AA64 -> 3153 | AE64: =+AC64*AD64 -> 34683 | AG64: ="UPDATE MU_PRODUCT SET MU_TREATMENT_ID = '" & H64 & "' WHERE MU_PRODUCT_ID = '" & K64 & "';" -> UPDATE MU_PRODUCT SET MU_TREATMENT_ID = 'C1713152686736000000046' WHERE MU_PRODUCT_ID = 'P174533104211000000000228';
A65: =VLOOKUP(B65,거래처ID!$A$2:$B$36,2,FALSE) -> C173258871030100000000062 | B65: 은성메디컬 | C65: =VLOOKUP(B65,$B$6:$C$55,2,0) -> #N/A | D65: =VLOOKUP(B65,$B$6:$D$55,3,0) -> #N/A | E65: 010-5323-3196 | H65: =VLOOKUP(I65,Sheet1!$A$1:$B$5,2,FALSE) -> C1713152686736000000046 | I65: 피부 | K65: =VLOOKUP(L65,PRODUCTID!C61:D186,2,FALSE) -> P174533104211000000000229 | L65: 듀엣써마지 패드 | M65: 1 | N65: ea | O65: 1 | P65: ea | Q65: 5500 | R65: 19 | S65: =+Q65*R65 -> 104500 | V65: =+T65*U65 -> 0 | Y65: =+W65*X65 -> 0 | Z65: =+W65 -> 0 | AB65: =+Z65*AA65 -> 0 | AC65: =+Q65 -> 5500 | AD65: =+R65+U65-X65+AA65 -> 19 | AE65: =+AC65*AD65 -> 104500 | AG65: ="UPDATE MU_PRODUCT SET MU_TREATMENT_ID = '" & H65 & "' WHERE MU_PRODUCT_ID = '" & K65 & "';" -> UPDATE MU_PRODUCT SET MU_TREATMENT_ID = 'C1713152686736000000046' WHERE MU_PRODUCT_ID = 'P174533104211000000000229';
A66: =VLOOKUP(B66,거래처ID!$A$2:$B$36,2,FALSE) -> C173258871030100000000039 | B66: ㈜클래시스 | C66: =VLOOKUP(B66,$B$6:$C$55,2,0) -> 107-88-39288 | D66: =VLOOKUP(B66,$B$6:$D$55,3,0) -> 확인필요 | E66: =VLOOKUP(B66,$B$6:$L$55,4,0) -> 확인필요 | H66: =VLOOKUP(I66,Sheet1!$A$1:$B$5,2,FALSE) -> C1713152686736000000046 | I66: 피부 | K66: =VLOOKUP(L66,PRODUCTID!C62:D187,2,FALSE) -> P174533104211000000000230 | L66: 슈링크U L-4.5(2만) | M66: 20100 | N66: 샷 | O66: 1 | P66: 샷 | Q66: 110 | R66: 48505 | S66: =+Q66*R66 -> 5335550 | V66: =+T66*U66 -> 0 | Y66: =+W66*X66 -> 0 | AC66: =+Q66 -> 110 | AD66: =+R66+U66-X66+AA66 -> 48505 | AE66: =+AC66*AD66 -> 5335550 | AG66: ="UPDATE MU_PRODUCT SET MU_TREATMENT_ID = '" & H66 & "' WHERE MU_PRODUCT_ID = '" & K66 & "';" -> UPDATE MU_PRODUCT SET MU_TREATMENT_ID = 'C1713152686736000000046' WHERE MU_PRODUCT_ID = 'P174533104211000000000230';
A67: =VLOOKUP(B67,거래처ID!$A$2:$B$36,2,FALSE) -> C173258871030100000000039 | B67: ㈜클래시스 | C67: =VLOOKUP(B67,$B$6:$C$55,2,0) -> 107-88-39288 | D67: =VLOOKUP(B67,$B$6:$D$55,3,0) -> 확인필요 | E67: =VLOOKUP(B67,$B$6:$L$55,4,0) -> 확인필요 | H67: =VLOOKUP(I67,Sheet1!$A$1:$B$5,2,FALSE) -> C1713152686736000000046 | I67: 피부 | K67: =VLOOKUP(L67,PRODUCTID!C63:D188,2,FALSE) -> P174533104211000000000231 | L67: 슈링크U C-3.0(2만) | M67: 20100 | N67: 샷 | O67: 1 | P67: 샷 | Q67: 110 | R67: 45443 | S67: =+Q67*R67 -> 4998730 | V67: =+T67*U67 -> 0 | Y67: =+W67*X67 -> 0 | AC67: =+Q67 -> 110 | AD67: =+R67+U67-X67+AA67 -> 45443 | AE67: =+AC67*AD67 -> 4998730 | AG67: ="UPDATE MU_PRODUCT SET MU_TREATMENT_ID = '" & H67 & "' WHERE MU_PRODUCT_ID = '" & K67 & "';" -> UPDATE MU_PRODUCT SET MU_TREATMENT_ID = 'C1713152686736000000046' WHERE MU_PRODUCT_ID = 'P174533104211000000000231';
A68: =VLOOKUP(B68,거래처ID!$A$2:$B$36,2,FALSE) -> C173258871030100000000039 | B68: ㈜클래시스 | C68: =VLOOKUP(B68,$B$6:$C$55,2,0) -> 107-88-39288 | D68: =VLOOKUP(B68,$B$6:$D$55,3,0) -> 확인필요 | E68: =VLOOKUP(B68,$B$6:$L$55,4,0) -> 확인필요 | H68: =VLOOKUP(I68,Sheet1!$A$1:$B$5,2,FALSE) -> C1713152686736000000046 | I68: 피부 | K68: =VLOOKUP(L68,PRODUCTID!C64:D189,2,FALSE) -> P174533104211000000000232 | L68: 슈링크U I-.2.0(2만) | M68: 20100 | N68: 샷 | O68: 1 | P68: 샷 | Q68: 110 | R68: 11690 | S68: =+Q68*R68 -> 1285900 | V68: =+T68*U68 -> 0 | Y68: =+W68*X68 -> 0 | Z68: =+W68 -> 0 | AB68: =+Z68*AA68 -> 0 | AC68: =+Q68 -> 110 | AD68: =+R68+U68-X68+AA68 -> 11690 | AE68: =+AC68*AD68 -> 1285900 | AG68: ="UPDATE MU_PRODUCT SET MU_TREATMENT_ID = '" & H68 & "' WHERE MU_PRODUCT_ID = '" & K68 & "';" -> UPDATE MU_PRODUCT SET MU_TREATMENT_ID = 'C1713152686736000000046' WHERE MU_PRODUCT_ID = 'P174533104211000000000232';
A69: =VLOOKUP(B69,거래처ID!$A$2:$B$36,2,FALSE) -> C173258871030100000000039 | B69: ㈜클래시스 | C69: =VLOOKUP(B69,$B$6:$C$55,2,0) -> 107-88-39288 | D69: =VLOOKUP(B69,$B$6:$D$55,3,0) -> 확인필요 | E69: =VLOOKUP(B69,$B$6:$L$55,4,0) -> 확인필요 | H69: =VLOOKUP(I69,Sheet1!$A$1:$B$5,2,FALSE) -> C1713152686736000000046 | I69: 피부 | K69: =VLOOKUP(L69,PRODUCTID!C65:D190,2,FALSE) -> P174533104211000000000233 | L69: 슈링크B L-.4.5 | M69: 100 | N69: 샷 | O69: 1 | P69: 샷 | Q69: 87 | R69: 3682 | S69: =+Q69*R69 -> 320334 | V69: =+T69*U69 -> 0 | Y69: =+W69*X69 -> 0 | Z69: =+W69 -> 0 | AB69: =+Z69*AA69 -> 0 | AC69: =+Q69 -> 87 | AD69: =+R69+U69-X69+AA69 -> 3682 | AE69: =+AC69*AD69 -> 320334 | AG69: ="UPDATE MU_PRODUCT SET MU_TREATMENT_ID = '" & H69 & "' WHERE MU_PRODUCT_ID = '" & K69 & "';" -> UPDATE MU_PRODUCT SET MU_TREATMENT_ID = 'C1713152686736000000046' WHERE MU_PRODUCT_ID = 'P174533104211000000000233';
A70: =VLOOKUP(B70,거래처ID!$A$2:$B$36,2,FALSE) -> C173258871030100000000039 | B70: ㈜클래시스 | C70: =VLOOKUP(B70,$B$6:$C$55,2,0) -> 107-88-39288 | D70: =VLOOKUP(B70,$B$6:$D$55,3,0) -> 확인필요 | E70: =VLOOKUP(B70,$B$6:$L$55,4,0) -> 확인필요 | H70: =VLOOKUP(I70,Sheet1!$A$1:$B$5,2,FALSE) -> C1713152686736000000046 | I70: 피부 | K70: =VLOOKUP(L70,PRODUCTID!C66:D191,2,FALSE) -> P174533104211000000000234 | L70: 슈링크B D-1.5 | M70: 100 | N70: 샷 | O70: 1 | P70: 샷 | Q70: 87 | R70: 1527 | S70: =+Q70*R70 -> 132849 | V70: =+T70*U70 -> 0 | Y70: =+W70*X70 -> 0 | Z70: =+W70 -> 0 | AB70: =+Z70*AA70 -> 0 | AC70: =+Q70 -> 87 | AD70: =+R70+U70-X70+AA70 -> 1527 | AE70: =+AC70*AD70 -> 132849 | AG70: ="UPDATE MU_PRODUCT SET MU_TREATMENT_ID = '" & H70 & "' WHERE MU_PRODUCT_ID = '" & K70 & "';" -> UPDATE MU_PRODUCT SET MU_TREATMENT_ID = 'C1713152686736000000046' WHERE MU_PRODUCT_ID = 'P174533104211000000000234';
A71: =VLOOKUP(B71,거래처ID!$A$2:$B$36,2,FALSE) -> C173258871030100000000039 | B71: ㈜클래시스 | C71: =VLOOKUP(B71,$B$6:$C$55,2,0) -> 107-88-39288 | D71: =VLOOKUP(B71,$B$6:$D$55,3,0) -> 확인필요 | E71: =VLOOKUP(B71,$B$6:$L$55,4,0) -> 확인필요 | H71: =VLOOKUP(I71,Sheet1!$A$1:$B$5,2,FALSE) -> C1713152686736000000046 | I71: 피부 | K71: =VLOOKUP(L71,PRODUCTID!C67:D192,2,FALSE) -> P174533104211000000000235 | L71: 슈링크B L-4.5(2만) | M71: 100 | N71: 샷 | O71: 1 | P71: 샷 | Q71: 87 | R71: 0 | S71: =+Q71*R71 -> 0 | V71: =+T71*U71 -> 0 | Y71: =+W71*X71 -> 0 | Z71: =+W71 -> 0 | AB71: =+Z71*AA71 -> 0 | AC71: =+Q71 -> 87 | AD71: =+R71+U71-X71+AA71 -> 0 | AE71: =+AC71*AD71 -> 0 | AG71: ="UPDATE MU_PRODUCT SET MU_TREATMENT_ID = '" & H71 & "' WHERE MU_PRODUCT_ID = '" & K71 & "';" -> UPDATE MU_PRODUCT SET MU_TREATMENT_ID = 'C1713152686736000000046' WHERE MU_PRODUCT_ID = 'P174533104211000000000235';
A72: =VLOOKUP(B72,거래처ID!$A$2:$B$36,2,FALSE) -> C173258871030100000000039 | B72: ㈜클래시스 | C72: =VLOOKUP(B72,$B$6:$C$55,2,0) -> 107-88-39288 | D72: =VLOOKUP(B72,$B$6:$D$55,3,0) -> 확인필요 | E72: =VLOOKUP(B72,$B$6:$L$55,4,0) -> 확인필요 | H72: =VLOOKUP(I72,Sheet1!$A$1:$B$5,2,FALSE) -> C1713152686736000000046 | I72: 피부 | K72: =VLOOKUP(L72,PRODUCTID!C68:D193,2,FALSE) -> P174533104211000000000236 | L72: 슈링크B C-3.0(2만) | M72: 100 | N72: 샷 | O72: 1 | P72: 샷 | Q72: 87 | R72: 15570 | S72: =+Q72*R72 -> 1354590 | V72: =+T72*U72 -> 0 | Y72: =+W72*X72 -> 0 | Z72: =+W72 -> 0 | AB72: =+Z72*AA72 -> 0 | AC72: =+Q72 -> 87 | AD72: =+R72+U72-X72+AA72 -> 15570 | AE72: =+AC72*AD72 -> 1354590 | AG72: ="UPDATE MU_PRODUCT SET MU_TREATMENT_ID = '" & H72 & "' WHERE MU_PRODUCT_ID = '" & K72 & "';" -> UPDATE MU_PRODUCT SET MU_TREATMENT_ID = 'C1713152686736000000046' WHERE MU_PRODUCT_ID = 'P174533104211000000000236';
A73: =VLOOKUP(B73,거래처ID!$A$2:$B$36,2,FALSE) -> C173258871030100000000039 | B73: ㈜클래시스 | C73: =VLOOKUP(B73,$B$6:$C$55,2,0) -> 107-88-39288 | D73: =VLOOKUP(B73,$B$6:$D$55,3,0) -> 확인필요 | E73: =VLOOKUP(B73,$B$6:$L$55,4,0) -> 확인필요 | H73: =VLOOKUP(I73,Sheet1!$A$1:$B$5,2,FALSE) -> C1713152686736000000046 | I73: 피부 | K73: =VLOOKUP(L73,PRODUCTID!C69:D194,2,FALSE) -> P174533104211000000000237 | L73: 슈링크B D-1.5(2만) | M73: 100 | N73: 샷 | O73: 1 | P73: 샷 | Q73: 87 | R73: 0 | S73: =+Q73*R73 -> 0 | V73: =+T73*U73 -> 0 | Y73: =+W73*X73 -> 0 | Z73: =+W73 -> 0 | AB73: =+Z73*AA73 -> 0 | AC73: =+Q73 -> 87 | AD73: =+R73+U73-X73+AA73 -> 0 | AE73: =+AC73*AD73 -> 0 | AG73: ="UPDATE MU_PRODUCT SET MU_TREATMENT_ID = '" & H73 & "' WHERE MU_PRODUCT_ID = '" & K73 & "';" -> UPDATE MU_PRODUCT SET MU_TREATMENT_ID = 'C1713152686736000000046' WHERE MU_PRODUCT_ID = 'P174533104211000000000237';
A74: =VLOOKUP(B74,거래처ID!$A$2:$B$36,2,FALSE) -> C173258871030100000000039 | B74: ㈜클래시스 | C74: =VLOOKUP(B74,$B$6:$C$55,2,0) -> 107-88-39288 | D74: =VLOOKUP(B74,$B$6:$D$55,3,0) -> 확인필요 | E74: =VLOOKUP(B74,$B$6:$L$55,4,0) -> 확인필요 | H74: =VLOOKUP(I74,Sheet1!$A$1:$B$5,2,FALSE) -> C1713152686736000000046 | I74: 피부 | K74: =VLOOKUP(L74,PRODUCTID!C70:D195,2,FALSE) -> P174533104211000000000238 | L74: GT38앰플 | M74: 1 | N74: ea | O74: 1 | P74: cc | Q74: 5000 | R74: 34 | S74: =+Q74*R74 -> 170000 | V74: =+T74*U74 -> 0 | Y74: =+W74*X74 -> 0 | Z74: =+W74 -> 0 | AB74: =+Z74*AA74 -> 0 | AC74: =+Q74 -> 5000 | AD74: =+R74+U74-X74+AA74 -> 34 | AE74: =+AC74*AD74 -> 170000 | AG74: ="UPDATE MU_PRODUCT SET MU_TREATMENT_ID = '" & H74 & "' WHERE MU_PRODUCT_ID = '" & K74 & "';" -> UPDATE MU_PRODUCT SET MU_TREATMENT_ID = 'C1713152686736000000046' WHERE MU_PRODUCT_ID = 'P174533104211000000000238';
A75: =VLOOKUP(B75,거래처ID!$A$2:$B$36,2,FALSE) -> C173258871030100000000063 | B75: 하이로닉 | C75: =VLOOKUP(B75,$B$6:$C$55,2,0) -> #N/A | D75: =VLOOKUP(B75,$B$6:$D$55,3,0) -> #N/A | E75: =VLOOKUP(B75,$B$6:$L$55,4,0) -> #N/A | H75: =VLOOKUP(I75,Sheet1!$A$1:$B$5,2,FALSE) -> C1713152686736000000046 | I75: 피부 | K75: =VLOOKUP(L75,PRODUCTID!C71:D196,2,FALSE) -> P174533104211000000000239 | L75: 더블로M7 | M75: 확인필요 | N75: 확인필요 | O75: 확인필요 | P75: 확인필요 | Q75: 104 | R75: 12513 | S75: =+Q75*R75 -> 1301352 | V75: =+T75*U75 -> 0 | Y75: =+W75*X75 -> 0 | Z75: =+W75 -> 0 | AB75: =+Z75*AA75 -> 0 | AC75: =+Q75 -> 104 | AD75: =+R75+U75-X75+AA75 -> 12513 | AE75: =+AC75*AD75 -> 1301352 | AG75: ="UPDATE MU_PRODUCT SET MU_TREATMENT_ID = '" & H75 & "' WHERE MU_PRODUCT_ID = '" & K75 & "';" -> UPDATE MU_PRODUCT SET MU_TREATMENT_ID = 'C1713152686736000000046' WHERE MU_PRODUCT_ID = 'P174533104211000000000239';
A76: =VLOOKUP(B76,거래처ID!$A$2:$B$36,2,FALSE) -> C173258871030100000000063 | B76: 하이로닉 | C76: =VLOOKUP(B76,$B$6:$C$55,2,0) -> #N/A | D76: =VLOOKUP(B76,$B$6:$D$55,3,0) -> #N/A | E76: =VLOOKUP(B76,$B$6:$L$55,4,0) -> #N/A | H76: =VLOOKUP(I76,Sheet1!$A$1:$B$5,2,FALSE) -> C1713152686736000000046 | I76: 피부 | K76: =VLOOKUP(L76,PRODUCTID!C72:D197,2,FALSE) -> P174533104211000000000240 | L76: 더블러D4 | M76: 확인필요 | N76: 확인필요 | O76: 확인필요 | P76: 확인필요 | Q76: 104 | R76: 721 | S76: =+Q76*R76 -> 74984 | V76: =+T76*U76 -> 0 | Y76: =+W76*X76 -> 0 | Z76: =+W76 -> 0 | AB76: =+Z76*AA76 -> 0 | AC76: =+Q76 -> 104 | AD76: =+R76+U76-X76+AA76 -> 721 | AE76: =+AC76*AD76 -> 74984 | AG76: ="UPDATE MU_PRODUCT SET MU_TREATMENT_ID = '" & H76 & "' WHERE MU_PRODUCT_ID = '" & K76 & "';" -> UPDATE MU_PRODUCT SET MU_TREATMENT_ID = 'C1713152686736000000046' WHERE MU_PRODUCT_ID = 'P174533104211000000000240';
A77: =VLOOKUP(B77,거래처ID!$A$2:$B$36,2,FALSE) -> C173258871030100000000064 | B77: 에이치투메디 | C77: =VLOOKUP(B77,$B$6:$C$55,2,0) -> #N/A | D77: =VLOOKUP(B77,$B$6:$D$55,3,0) -> #N/A | E77: =VLOOKUP(B77,$B$6:$L$55,4,0) -> #N/A | H77: =VLOOKUP(I77,Sheet1!$A$1:$B$5,2,FALSE) -> C1713152686736000000046 | I77: 피부 | K77: =VLOOKUP(L77,PRODUCTID!C73:D198,2,FALSE) -> P174533104211000000000241 | L77: 라라필 폼클렌져 | M77: 1 | N77: ea | O77: 1 | P77: ea | Q77: 29700 | R77: 1 | S77: =+Q77*R77 -> 29700 | V77: =+T77*U77 -> 0 | Y77: =+W77*X77 -> 0 | Z77: =+W77 -> 0 | AC77: =+Q77 -> 29700 | AD77: =+R77+U77-X77+AA77 -> 1 | AE77: =+AC77*AD77 -> 29700 | AG77: ="UPDATE MU_PRODUCT SET MU_TREATMENT_ID = '" & H77 & "' WHERE MU_PRODUCT_ID = '" & K77 & "';" -> UPDATE MU_PRODUCT SET MU_TREATMENT_ID = 'C1713152686736000000046' WHERE MU_PRODUCT_ID = 'P174533104211000000000241';
A78: =VLOOKUP(B78,거래처ID!$A$2:$B$36,2,FALSE) -> C173258871030100000000064 | B78: 에이치투메디 | C78: =VLOOKUP(B78,$B$6:$C$55,2,0) -> #N/A | D78: =VLOOKUP(B78,$B$6:$D$55,3,0) -> #N/A | E78: =VLOOKUP(B78,$B$6:$L$55,4,0) -> #N/A | H78: =VLOOKUP(I78,Sheet1!$A$1:$B$5,2,FALSE) -> C1713152686736000000046 | I78: 피부 | K78: =VLOOKUP(L78,PRODUCTID!C74:D199,2,FALSE) -> P174533104211000000000242 | L78: 라라필 1제 | M78: 1 | N78: ea | O78: 1 | P78: ea | Q78: 55000 | R78: 2 | S78: =+Q78*R78 -> 110000 | V78: =+T78*U78 -> 0 | Y78: =+W78*X78 -> 0 | AC78: =+Q78 -> 55000 | AD78: =+R78+U78-X78+AA78 -> 2 | AE78: =+AC78*AD78 -> 110000 | AG78: ="UPDATE MU_PRODUCT SET MU_TREATMENT_ID = '" & H78 & "' WHERE MU_PRODUCT_ID = '" & K78 & "';" -> UPDATE MU_PRODUCT SET MU_TREATMENT_ID = 'C1713152686736000000046' WHERE MU_PRODUCT_ID = 'P174533104211000000000242';
A79: =VLOOKUP(B79,거래처ID!$A$2:$B$36,2,FALSE) -> C173258871030100000000064 | B79: 에이치투메디 | C79: =VLOOKUP(B79,$B$6:$C$55,2,0) -> #N/A | D79: =VLOOKUP(B79,$B$6:$D$55,3,0) -> #N/A | E79: =VLOOKUP(B79,$B$6:$L$55,4,0) -> #N/A | H79: =VLOOKUP(I79,Sheet1!$A$1:$B$5,2,FALSE) -> C1713152686736000000046 | I79: 피부 | K79: =VLOOKUP(L79,PRODUCTID!C75:D200,2,FALSE) -> P174533104211000000000243 | L79: 라라필 2제 | M79: 1 | N79: ea | O79: 1 | P79: ea | Q79: 55000 | R79: 4 | S79: =+Q79*R79 -> 220000 | V79: =+T79*U79 -> 0 | AC79: =+Q79 -> 55000 | AD79: =+R79+U79-X79+AA79 -> 4 | AE79: =+AC79*AD79 -> 220000 | AG79: ="UPDATE MU_PRODUCT SET MU_TREATMENT_ID = '" & H79 & "' WHERE MU_PRODUCT_ID = '" & K79 & "';" -> UPDATE MU_PRODUCT SET MU_TREATMENT_ID = 'C1713152686736000000046' WHERE MU_PRODUCT_ID = 'P174533104211000000000243';
A80: =VLOOKUP(B80,거래처ID!$A$2:$B$36,2,FALSE) -> C173258871030100000000064 | B80: 에이치투메디 | C80: =VLOOKUP(B80,$B$6:$C$55,2,0) -> #N/A | D80: =VLOOKUP(B80,$B$6:$D$55,3,0) -> #N/A | E80: =VLOOKUP(B80,$B$6:$L$55,4,0) -> #N/A | H80: =VLOOKUP(I80,Sheet1!$A$1:$B$5,2,FALSE) -> C1713152686736000000046 | I80: 피부 | K80: =VLOOKUP(L80,PRODUCTID!C76:D201,2,FALSE) -> P174533104211000000000244 | L80: 라라필 마스크팩 | M80: 1 | N80: ea | O80: 1 | P80: ea | Q80: 4125 | R80: 37 | S80: =+Q80*R80 -> 152625 | V80: =+T80*U80 -> 0 | Y80: =+W80*X80 -> 0 | AC80: =+Q80 -> 4125 | AD80: =+R80+U80-X80+AA80 -> 37 | AE80: =+AC80*AD80 -> 152625 | AG80: ="UPDATE MU_PRODUCT SET MU_TREATMENT_ID = '" & H80 & "' WHERE MU_PRODUCT_ID = '" & K80 & "';" -> UPDATE MU_PRODUCT SET MU_TREATMENT_ID = 'C1713152686736000000046' WHERE MU_PRODUCT_ID = 'P174533104211000000000244';
A81: C174541386371200000000039 | B81: 기타 | C81: =VLOOKUP(B81,$B$6:$C$55,2,0) -> 확인필요 | D81: =VLOOKUP(B81,$B$6:$D$55,3,0) -> 확인필요 | E81: =VLOOKUP(B81,$B$6:$L$55,4,0) -> 확인필요 | H81: =VLOOKUP(I81,Sheet1!$A$1:$B$5,2,FALSE) -> C1713152686736000000046 | I81: 피부 | K81: =VLOOKUP(L81,PRODUCTID!C77:D202,2,FALSE) -> P174533104211000000000245 | L81: 라라젯 x로션 1 | M81: 1 | N81: ea | O81: 1 | P81: ea | Q81: 55000 | R81: 3 | S81: =+Q81*R81 -> 165000 | V81: =+T81*U81 -> 0 | Y81: =+W81*X81 -> 0 | AC81: =+Q81 -> 55000 | AD81: =+R81+U81-X81+AA81 -> 3 | AE81: =+AC81*AD81 -> 165000 | AG81: ="UPDATE MU_PRODUCT SET MU_TREATMENT_ID = '" & H81 & "' WHERE MU_PRODUCT_ID = '" & K81 & "';" -> UPDATE MU_PRODUCT SET MU_TREATMENT_ID = 'C1713152686736000000046' WHERE MU_PRODUCT_ID = 'P174533104211000000000245';
A82: =VLOOKUP(B82,거래처ID!$A$2:$B$36,2,FALSE) -> C173258871030100000000055 | B82: ㈜엠제이메디컬 | C82: 406-87-01396 | D82: 이만재 대표 | E82: 010-4420-1825 | H82: =VLOOKUP(I82,Sheet1!$A$1:$B$5,2,FALSE) -> C1713152686736000000046 | I82: 피부 | K82: =VLOOKUP(L82,PRODUCTID!C78:D203,2,FALSE) -> P174533104211000000000246 | L82: 라라젯 s1 | M82: 1 | N82: ea | O82: 1 | P82: ea | Q82: 55000 | R82: 1 | S82: =+Q82*R82 -> 55000 | V82: =+T82*U82 -> 0 | Y82: =+W82*X82 -> 0 | Z82: =+W82 -> 0 | AC82: =+Q82 -> 55000 | AD82: =+R82+U82-X82+AA82 -> 1 | AE82: =+AC82*AD82 -> 55000 | AG82: ="UPDATE MU_PRODUCT SET MU_TREATMENT_ID = '" & H82 & "' WHERE MU_PRODUCT_ID = '" & K82 & "';" -> UPDATE MU_PRODUCT SET MU_TREATMENT_ID = 'C1713152686736000000046' WHERE MU_PRODUCT_ID = 'P174533104211000000000246';
A83: =VLOOKUP(B83,거래처ID!$A$2:$B$36,2,FALSE) -> C173258871030100000000055 | B83: ㈜엠제이메디컬 | C83: 406-87-01396 | D83: 이만재 대표 | E83: 010-4420-1825 | H83: =VLOOKUP(I83,Sheet1!$A$1:$B$5,2,FALSE) -> C1713152686736000000046 | I83: 피부 | K83: =VLOOKUP(L83,PRODUCTID!C79:D204,2,FALSE) -> P174533104211000000000247 | L83: 라라젯 s2 | M83: 1 | N83: ea | O83: 1 | P83: ea | Q83: 55000 | R83: 3 | S83: =+Q83*R83 -> 165000 | V83: =+T83*U83 -> 0 | Y83: =+W83*X83 -> 0 | Z83: =+W83 -> 0 | AC83: =+Q83 -> 55000 | AD83: =+R83+U83-X83+AA83 -> 3 | AE83: =+AC83*AD83 -> 165000 | AG83: ="UPDATE MU_PRODUCT SET MU_TREATMENT_ID = '" & H83 & "' WHERE MU_PRODUCT_ID = '" & K83 & "';" -> UPDATE MU_PRODUCT SET MU_TREATMENT_ID = 'C1713152686736000000046' WHERE MU_PRODUCT_ID = 'P174533104211000000000247';
A84: =VLOOKUP(B84,거래처ID!$A$2:$B$36,2,FALSE) -> C173258871030100000000055 | B84: ㈜엠제이메디컬 | C84: 406-87-01396 | D84: 이만재 대표 | E84: 010-4420-1825 | H84: =VLOOKUP(I84,Sheet1!$A$1:$B$5,2,FALSE) -> C1713152686736000000046 | I84: 피부 | K84: =VLOOKUP(L84,PRODUCTID!C80:D205,2,FALSE) -> P174533104211000000000248 | L84: 라라젯 s3 | M84: 1 | N84: ea | O84: 1 | P84: ea | Q84: 55000 | R84: 1 | S84: =+Q84*R84 -> 55000 | V84: =+T84*U84 -> 0 | Y84: =+W84*X84 -> 0 | Z84: =+W84 -> 0 | AC84: =+Q84 -> 55000 | AD84: =+R84+U84-X84+AA84 -> 1 | AE84: =+AC84*AD84 -> 55000 | AG84: ="UPDATE MU_PRODUCT SET MU_TREATMENT_ID = '" & H84 & "' WHERE MU_PRODUCT_ID = '" & K84 & "';" -> UPDATE MU_PRODUCT SET MU_TREATMENT_ID = 'C1713152686736000000046' WHERE MU_PRODUCT_ID = 'P174533104211000000000248';
A85: =VLOOKUP(B85,거래처ID!$A$2:$B$36,2,FALSE) -> C173258871030100000000055 | B85: ㈜엠제이메디컬 | C85: 406-87-01396 | D85: 이만재 대표 | E85: 010-4420-1825 | H85: =VLOOKUP(I85,Sheet1!$A$1:$B$5,2,FALSE) -> C1713152686736000000046 | I85: 피부 | K85: =VLOOKUP(L85,PRODUCTID!C81:D206,2,FALSE) -> P174533104211000000000249 | L85: 라라젯 팁 | M85: 1 | N85: ea | O85: 1 | P85: ea | Q85: 2750 | R85: 39 | S85: =+Q85*R85 -> 107250 | V85: =+T85*U85 -> 0 | Y85: =+W85*X85 -> 0 | AC85: =+Q85 -> 2750 | AD85: =+R85+U85-X85+AA85 -> 39 | AE85: =+AC85*AD85 -> 107250 | AG85: ="UPDATE MU_PRODUCT SET MU_TREATMENT_ID = '" & H85 & "' WHERE MU_PRODUCT_ID = '" & K85 & "';" -> UPDATE MU_PRODUCT SET MU_TREATMENT_ID = 'C1713152686736000000046' WHERE MU_PRODUCT_ID = 'P174533104211000000000249';
A86: =VLOOKUP(B86,거래처ID!$A$2:$B$36,2,FALSE) -> C173258871030100000000055 | B86: ㈜엠제이메디컬 | C86: 406-87-01396 | D86: 이만재 대표 | E86: 010-4420-1825 | H86: =VLOOKUP(I86,Sheet1!$A$1:$B$5,2,FALSE) -> C1713152686736000000046 | I86: 피부 | K86: =VLOOKUP(L86,PRODUCTID!C82:D207,2,FALSE) -> P174533104211000000000250 | L86: 아쿠아필S1 | M86: 1 | N86: ea | O86: 1 | P86: ea | Q86: 11000 | R86: 10 | S86: =+Q86*R86 -> 110000 | V86: =+T86*U86 -> 0 | Y86: =+W86*X86 -> 0 | Z86: =+W86 -> 0 | AB86: =+Z86*AA86 -> 0 | AC86: =+Q86 -> 11000 | AD86: =+R86+U86-X86+AA86 -> 10 | AE86: =+AC86*AD86 -> 110000 | AG86: ="UPDATE MU_PRODUCT SET MU_TREATMENT_ID = '" & H86 & "' WHERE MU_PRODUCT_ID = '" & K86 & "';" -> UPDATE MU_PRODUCT SET MU_TREATMENT_ID = 'C1713152686736000000046' WHERE MU_PRODUCT_ID = 'P174533104211000000000250';
A87: =VLOOKUP(B87,거래처ID!$A$2:$B$36,2,FALSE) -> C173258871030100000000055 | B87: ㈜엠제이메디컬 | C87: 406-87-01396 | D87: 이만재 대표 | E87: 010-4420-1825 | H87: =VLOOKUP(I87,Sheet1!$A$1:$B$5,2,FALSE) -> C1713152686736000000046 | I87: 피부 | K87: =VLOOKUP(L87,PRODUCTID!C83:D208,2,FALSE) -> P174533104211000000000251 | L87: 아쿠아필S2 | M87: 1 | N87: ea | O87: 1 | P87: ea | Q87: 11000 | R87: 15 | S87: =+Q87*R87 -> 165000 | V87: =+T87*U87 -> 0 | Y87: =+W87*X87 -> 0 | Z87: =+W87 -> 0 | AB87: =+Z87*AA87 -> 0 | AC87: =+Q87 -> 11000 | AD87: =+R87+U87-X87+AA87 -> 15 | AE87: =+AC87*AD87 -> 165000 | AG87: ="UPDATE MU_PRODUCT SET MU_TREATMENT_ID = '" & H87 & "' WHERE MU_PRODUCT_ID = '" & K87 & "';" -> UPDATE MU_PRODUCT SET MU_TREATMENT_ID = 'C1713152686736000000046' WHERE MU_PRODUCT_ID = 'P174533104211000000000251';
A88: =VLOOKUP(B88,거래처ID!$A$2:$B$36,2,FALSE) -> C173258871030100000000055 | B88: ㈜엠제이메디컬 | C88: 406-87-01396 | D88: 이만재 대표 | E88: 010-4420-1825 | H88: =VLOOKUP(I88,Sheet1!$A$1:$B$5,2,FALSE) -> C1713152686736000000046 | I88: 피부 | K88: =VLOOKUP(L88,PRODUCTID!C84:D209,2,FALSE) -> P174533104211000000000252 | L88: 아쿠아필S3 | M88: 1 | N88: ea | O88: 1 | P88: ea | Q88: 11000 | R88: 9 | S88: =+Q88*R88 -> 99000 | V88: =+T88*U88 -> 0 | Y88: =+W88*X88 -> 0 | Z88: =+W88 -> 0 | AB88: =+Z88*AA88 -> 0 | AC88: =+Q88 -> 11000 | AD88: =+R88+U88-X88+AA88 -> 9 | AE88: =+AC88*AD88 -> 99000 | AG88: ="UPDATE MU_PRODUCT SET MU_TREATMENT_ID = '" & H88 & "' WHERE MU_PRODUCT_ID = '" & K88 & "';" -> UPDATE MU_PRODUCT SET MU_TREATMENT_ID = 'C1713152686736000000046' WHERE MU_PRODUCT_ID = 'P174533104211000000000252';
A89: =VLOOKUP(B89,거래처ID!$A$2:$B$36,2,FALSE) -> C173258871030100000000055 | B89: ㈜엠제이메디컬 | C89: 406-87-01396 | D89: 이만재 대표 | E89: 010-4420-1825 | H89: =VLOOKUP(I89,Sheet1!$A$1:$B$5,2,FALSE) -> C1713152686736000000046 | I89: 피부 | K89: =VLOOKUP(L89,PRODUCTID!C85:D210,2,FALSE) -> P174533104211000000000253 | L89: 디아지팁(인트라셀) | M89: 1 | N89: ea | O89: 1 | P89: ea | Q89: 22000 | R89: 15 | S89: =+Q89*R89 -> 330000 | V89: =+T89*U89 -> 0 | Y89: =+W89*X89 -> 0 | Z89: =+W89 -> 0 | AB89: =+Z89*AA89 -> 0 | AC89: =+Q89 -> 22000 | AD89: =+R89+U89-X89+AA89 -> 15 | AE89: =+AC89*AD89 -> 330000 | AG89: ="UPDATE MU_PRODUCT SET MU_TREATMENT_ID = '" & H89 & "' WHERE MU_PRODUCT_ID = '" & K89 & "';" -> UPDATE MU_PRODUCT SET MU_TREATMENT_ID = 'C1713152686736000000046' WHERE MU_PRODUCT_ID = 'P174533104211000000000253';
A90: =VLOOKUP(B90,거래처ID!$A$2:$B$36,2,FALSE) -> C173258871030100000000055 | B90: ㈜엠제이메디컬 | C90: 406-87-01396 | D90: 이만재 대표 | E90: 010-4420-1825 | H90: =VLOOKUP(I90,Sheet1!$A$1:$B$5,2,FALSE) -> C1713152686736000000046 | I90: 피부 | K90: =VLOOKUP(L90,PRODUCTID!C86:D211,2,FALSE) -> P174533104211000000000254 | L90: PDT | M90: 1 | N90: ea | O90: 1 | P90: ea | Q90: 14850 | R90: 29 | S90: =+Q90*R90 -> 430650 | V90: =+T90*U90 -> 0 | Y90: =+W90*X90 -> 0 | Z90: =+W90 -> 0 | AB90: =+Z90*AA90 -> 0 | AC90: =+Q90 -> 14850 | AD90: =+R90+U90-X90+AA90 -> 29 | AE90: =+AC90*AD90 -> 430650 | AG90: ="UPDATE MU_PRODUCT SET MU_TREATMENT_ID = '" & H90 & "' WHERE MU_PRODUCT_ID = '" & K90 & "';" -> UPDATE MU_PRODUCT SET MU_TREATMENT_ID = 'C1713152686736000000046' WHERE MU_PRODUCT_ID = 'P174533104211000000000254';
A91: =VLOOKUP(B91,거래처ID!$A$2:$B$36,2,FALSE) -> C173258871030100000000065 | B91: 원진메디팜 | C91: =VLOOKUP(B91,$B$6:$C$55,2,0) -> #N/A | D91: =VLOOKUP(B91,$B$6:$D$55,3,0) -> #N/A | E91: =VLOOKUP(B91,$B$6:$L$55,4,0) -> #N/A | H91: =VLOOKUP(I91,Sheet1!$A$1:$B$5,2,FALSE) -> C1713152686736000000046 | I91: 피부 | K91: =VLOOKUP(L91,PRODUCTID!C87:D212,2,FALSE) -> P174533104211000000000255 | L91: 골드PTT | M91: 1 | N91: ea | O91: 1 | P91: ea | Q91: 29333 | R91: 23 | S91: =+Q91*R91 -> 674659 | V91: =+T91*U91 -> 0 | Y91: =+W91*X91 -> 0 | Z91: =+W91 -> 0 | AB91: =+Z91*AA91 -> 0 | AC91: =+Q91 -> 29333 | AD91: =+R91+U91-X91+AA91 -> 23 | AE91: =+AC91*AD91 -> 674659 | AG91: ="UPDATE MU_PRODUCT SET MU_TREATMENT_ID = '" & H91 & "' WHERE MU_PRODUCT_ID = '" & K91 & "';" -> UPDATE MU_PRODUCT SET MU_TREATMENT_ID = 'C1713152686736000000046' WHERE MU_PRODUCT_ID = 'P174533104211000000000255';
A92: =VLOOKUP(B92,거래처ID!$A$2:$B$36,2,FALSE) -> C173258871030100000000066 | B92: 더메스테릭스 | C92: =VLOOKUP(B92,$B$6:$C$55,2,0) -> #N/A | D92: =VLOOKUP(B92,$B$6:$D$55,3,0) -> #N/A | E92: =VLOOKUP(B92,$B$6:$L$55,4,0) -> #N/A | H92: =VLOOKUP(I92,Sheet1!$A$1:$B$5,2,FALSE) -> C1713152686736000000046 | I92: 피부 | K92: =VLOOKUP(L92,PRODUCTID!C88:D213,2,FALSE) -> P174533104211000000000256 | L92: 산소필1-젤 | M92: 1 | N92: ea | O92: 1 | P92: ea | Q92: 75000 | R92: 1 | S92: =+Q92*R92 -> 75000 | V92: =+T92*U92 -> 0 | Y92: =+W92*X92 -> 0 | Z92: =+W92 -> 0 | AB92: =+Z92*AA92 -> 0 | AC92: =+Q92 -> 75000 | AD92: =+R92+U92-X92+AA92 -> 1 | AE92: =+AC92*AD92 -> 75000 | AG92: ="UPDATE MU_PRODUCT SET MU_TREATMENT_ID = '" & H92 & "' WHERE MU_PRODUCT_ID = '" & K92 & "';" -> UPDATE MU_PRODUCT SET MU_TREATMENT_ID = 'C1713152686736000000046' WHERE MU_PRODUCT_ID = 'P174533104211000000000256';
A93: =VLOOKUP(B93,거래처ID!$A$2:$B$36,2,FALSE) -> C173258871030100000000066 | B93: 더메스테릭스 | C93: =VLOOKUP(B93,$B$6:$C$55,2,0) -> #N/A | D93: =VLOOKUP(B93,$B$6:$D$55,3,0) -> #N/A | E93: =VLOOKUP(B93,$B$6:$L$55,4,0) -> #N/A | H93: =VLOOKUP(I93,Sheet1!$A$1:$B$5,2,FALSE) -> C1713152686736000000046 | I93: 피부 | K93: =VLOOKUP(L93,PRODUCTID!C89:D214,2,FALSE) -> P174533104211000000000257 | L93: 산소필2-젤 | M93: 1 | N93: ea | O93: 1 | P93: ea | Q93: 75000 | R93: 0 | S93: =+Q93*R93 -> 0 | V93: =+T93*U93 -> 0 | Y93: =+W93*X93 -> 0 | Z93: =+W93 -> 0 | AB93: =+Z93*AA93 -> 0 | AC93: =+Q93 -> 75000 | AD93: =+R93+U93-X93+AA93 -> 0 | AE93: =+AC93*AD93 -> 0 | AG93: ="UPDATE MU_PRODUCT SET MU_TREATMENT_ID = '" & H93 & "' WHERE MU_PRODUCT_ID = '" & K93 & "';" -> UPDATE MU_PRODUCT SET MU_TREATMENT_ID = 'C1713152686736000000046' WHERE MU_PRODUCT_ID = 'P174533104211000000000257';
A94: =VLOOKUP(B94,거래처ID!$A$2:$B$36,2,FALSE) -> C173258871030100000000066 | B94: 더메스테릭스 | C94: =VLOOKUP(B94,$B$6:$C$55,2,0) -> #N/A | D94: =VLOOKUP(B94,$B$6:$D$55,3,0) -> #N/A | E94: =VLOOKUP(B94,$B$6:$L$55,4,0) -> #N/A | H94: =VLOOKUP(I94,Sheet1!$A$1:$B$5,2,FALSE) -> C1713152686736000000046 | I94: 피부 | K94: =VLOOKUP(L94,PRODUCTID!C90:D215,2,FALSE) -> P174533104211000000000258 | L94: 비타민C파우더 | M94: 1 | N94: ea | O94: 1 | P94: ea | Q94: 89000 | R94: 0 | S94: 0 | V94: 0 | W94: 89000 | X94: 0 | Y94: 0 | Z94: 89000 | AB94: 0 | AC94: 89000 | AD94: 0 | AE94: 0 | AG94: ="UPDATE MU_PRODUCT SET MU_TREATMENT_ID = '" & H94 & "' WHERE MU_PRODUCT_ID = '" & K94 & "';" -> UPDATE MU_PRODUCT SET MU_TREATMENT_ID = 'C1713152686736000000046' WHERE MU_PRODUCT_ID = 'P174533104211000000000258';
A95: =VLOOKUP(B95,거래처ID!$A$2:$B$36,2,FALSE) -> C173258871030100000000067 | B95: 쎄라덤 | C95: =VLOOKUP(B95,$B$6:$C$55,2,0) -> #N/A | D95: =VLOOKUP(B95,$B$6:$D$55,3,0) -> #N/A | E95: =VLOOKUP(B95,$B$6:$L$55,4,0) -> #N/A | H95: =VLOOKUP(I95,Sheet1!$A$1:$B$5,2,FALSE) -> C1713152686736000000046 | I95: 피부 | K95: =VLOOKUP(L95,PRODUCTID!C91:D216,2,FALSE) -> P174533104211000000000259 | L95: 씨위드 크림팩 | M95: 1 | N95: ea | O95: 1 | P95: ea | Q95: 44000 | R95: 1 | S95: =+Q95*R95 -> 44000 | V95: =+T95*U95 -> 0 | Y95: =+W95*X95 -> 0 | Z95: =+W95 -> 0 | AB95: =+Z95*AA95 -> 0 | AC95: =+Q95 -> 44000 | AD95: =+R95+U95-X95+AA95 -> 1 | AE95: =+AC95*AD95 -> 44000 | AG95: ="UPDATE MU_PRODUCT SET MU_TREATMENT_ID = '" & H95 & "' WHERE MU_PRODUCT_ID = '" & K95 & "';" -> UPDATE MU_PRODUCT SET MU_TREATMENT_ID = 'C1713152686736000000046' WHERE MU_PRODUCT_ID = 'P174533104211000000000259';
A96: =VLOOKUP(B96,거래처ID!$A$2:$B$36,2,FALSE) -> C173258871030100000000067 | B96: 쎄라덤 | C96: =VLOOKUP(B96,$B$6:$C$55,2,0) -> #N/A | D96: =VLOOKUP(B96,$B$6:$D$55,3,0) -> #N/A | E96: =VLOOKUP(B96,$B$6:$L$55,4,0) -> #N/A | H96: =VLOOKUP(I96,Sheet1!$A$1:$B$5,2,FALSE) -> C1713152686736000000046 | I96: 피부 | K96: =VLOOKUP(L96,PRODUCTID!C92:D217,2,FALSE) -> P174533104211000000000260 | L96: 아세로라크림팩 | M96: 1 | N96: ea | O96: 1 | P96: ea | Q96: 44000 | R96: 1 | S96: =+Q96*R96 -> 44000 | V96: =+T96*U96 -> 0 | Y96: =+W96*X96 -> 0 | Z96: =+W96 -> 0 | AB96: =+Z96*AA96 -> 0 | AC96: =+Q96 -> 44000 | AD96: =+R96+U96-X96+AA96 -> 1 | AE96: =+AC96*AD96 -> 44000 | AG96: ="UPDATE MU_PRODUCT SET MU_TREATMENT_ID = '" & H96 & "' WHERE MU_PRODUCT_ID = '" & K96 & "';" -> UPDATE MU_PRODUCT SET MU_TREATMENT_ID = 'C1713152686736000000046' WHERE MU_PRODUCT_ID = 'P174533104211000000000260';
A97: =VLOOKUP(B97,거래처ID!$A$2:$B$36,2,FALSE) -> C173258871030100000000067 | B97: 쎄라덤 | C97: =VLOOKUP(B97,$B$6:$C$55,2,0) -> #N/A | D97: =VLOOKUP(B97,$B$6:$D$55,3,0) -> #N/A | E97: =VLOOKUP(B97,$B$6:$L$55,4,0) -> #N/A | H97: =VLOOKUP(I97,Sheet1!$A$1:$B$5,2,FALSE) -> C1713152686736000000046 | I97: 피부 | K97: =VLOOKUP(L97,PRODUCTID!C93:D218,2,FALSE) -> P174533104211000000000261 | L97: 야쥴렌크림팩 | M97: 1 | N97: ea | O97: 1 | P97: ea | Q97: 44000 | R97: 0 | S97: =+Q97*R97 -> 0 | V97: =+T97*U97 -> 0 | Y97: =+W97*X97 -> 0 | Z97: =+W97 -> 0 | AB97: =+Z97*AA97 -> 0 | AC97: =+Q97 -> 44000 | AD97: =+R97+U97-X97+AA97 -> 0 | AE97: =+AC97*AD97 -> 0 | AG97: ="UPDATE MU_PRODUCT SET MU_TREATMENT_ID = '" & H97 & "' WHERE MU_PRODUCT_ID = '" & K97 & "';" -> UPDATE MU_PRODUCT SET MU_TREATMENT_ID = 'C1713152686736000000046' WHERE MU_PRODUCT_ID = 'P174533104211000000000261';
A98: =VLOOKUP(B98,거래처ID!$A$2:$B$36,2,FALSE) -> C173258871030100000000067 | B98: 쎄라덤 | C98: =VLOOKUP(B98,$B$6:$C$55,2,0) -> #N/A | D98: =VLOOKUP(B98,$B$6:$D$55,3,0) -> #N/A | E98: =VLOOKUP(B98,$B$6:$L$55,4,0) -> #N/A | H98: =VLOOKUP(I98,Sheet1!$A$1:$B$5,2,FALSE) -> C1713152686736000000046 | I98: 피부 | K98: =VLOOKUP(L98,PRODUCTID!C94:D219,2,FALSE) -> P174533104211000000000262 | L98: 캄퍼크림팩 | M98: 1 | N98: ea | O98: 1 | P98: ea | Q98: 44000 | R98: 0 | S98: =+Q98*R98 -> 0 | V98: =+T98*U98 -> 0 | Y98: =+W98*X98 -> 0 | Z98: =+W98 -> 0 | AB98: =+Z98*AA98 -> 0 | AC98: =+Q98 -> 44000 | AD98: =+R98+U98-X98+AA98 -> 0 | AE98: =+AC98*AD98 -> 0 | AG98: ="UPDATE MU_PRODUCT SET MU_TREATMENT_ID = '" & H98 & "' WHERE MU_PRODUCT_ID = '" & K98 & "';" -> UPDATE MU_PRODUCT SET MU_TREATMENT_ID = 'C1713152686736000000046' WHERE MU_PRODUCT_ID = 'P174533104211000000000262';
A99: C174541386371200000000039 | B99: 기타 | C99: =VLOOKUP(B99,$B$6:$C$55,2,0) -> 확인필요 | D99: =VLOOKUP(B99,$B$6:$D$55,3,0) -> 확인필요 | E99: =VLOOKUP(B99,$B$6:$L$55,4,0) -> 확인필요 | H99: =VLOOKUP(I99,Sheet1!$A$1:$B$5,2,FALSE) -> C1713152686736000000046 | I99: 피부 | K99: =VLOOKUP(L99,PRODUCTID!C95:D220,2,FALSE) -> P174533104211000000000263 | L99: 데콘겔 | M99: 1 | N99: ea | O99: 1 | P99: ea | Q99: 18700 | R99: 0 | S99: =+Q99*R99 -> 0 | V99: =+T99*U99 -> 0 | Y99: =+W99*X99 -> 0 | Z99: =+W99 -> 0 | AB99: =+Z99*AA99 -> 0 | AC99: =+Q99 -> 18700 | AD99: =+R99+U99-X99+AA99 -> 0 | AE99: =+AC99*AD99 -> 0 | AG99: ="UPDATE MU_PRODUCT SET MU_TREATMENT_ID = '" & H99 & "' WHERE MU_PRODUCT_ID = '" & K99 & "';" -> UPDATE MU_PRODUCT SET MU_TREATMENT_ID = 'C1713152686736000000046' WHERE MU_PRODUCT_ID = 'P174533104211000000000263';
A100: =VLOOKUP(B100,거래처ID!$A$2:$B$36,2,FALSE) -> C173258871030100000000067 | B100: 쎄라덤 | C100: =VLOOKUP(B100,$B$6:$C$55,2,0) -> #N/A | D100: =VLOOKUP(B100,$B$6:$D$55,3,0) -> #N/A | E100: =VLOOKUP(B100,$B$6:$L$55,4,0) -> #N/A | H100: =VLOOKUP(I100,Sheet1!$A$1:$B$5,2,FALSE) -> C1713152686736000000046 | I100: 피부 | K100: =VLOOKUP(L100,PRODUCTID!C96:D221,2,FALSE) -> P174533104211000000000264 | L100: 블랙필 | M100: 1 | N100: ea | O100: 1 | P100: ea | Q100: 73333 | R100: 3 | S100: =+Q100*R100 -> 219999 | V100: =+T100*U100 -> 0 | Y100: =+W100*X100 -> 0 | Z100: =+W100 -> 0 | AB100: =+Z100*AA100 -> 0 | AC100: =+Q100 -> 73333 | AD100: =+R100+U100-X100+AA100 -> 3 | AE100: =+AC100*AD100 -> 219999 | AG100: ="UPDATE MU_PRODUCT SET MU_TREATMENT_ID = '" & H100 & "' WHERE MU_PRODUCT_ID = '" & K100 & "';" -> UPDATE MU_PRODUCT SET MU_TREATMENT_ID = 'C1713152686736000000046' WHERE MU_PRODUCT_ID = 'P174533104211000000000264';
A101: =VLOOKUP(B101,거래처ID!$A$2:$B$36,2,FALSE) -> C173258871030100000000067 | B101: 쎄라덤 | C101: =VLOOKUP(B101,$B$6:$C$55,2,0) -> #N/A | D101: =VLOOKUP(B101,$B$6:$D$55,3,0) -> #N/A | E101: =VLOOKUP(B101,$B$6:$L$55,4,0) -> #N/A | H101: =VLOOKUP(I101,Sheet1!$A$1:$B$5,2,FALSE) -> C1713152686736000000046 | I101: 피부 | K101: =VLOOKUP(L101,PRODUCTID!C97:D222,2,FALSE) -> P174533104211000000000265 | L101: 그린티중화제 | M101: 1 | N101: ea | O101: 1 | P101: ea | Q101: 27500 | R101: 2 | S101: =+Q101*R101 -> 55000 | V101: =+T101*U101 -> 0 | Y101: =+W101*X101 -> 0 | Z101: =+W101 -> 0 | AB101: =+Z101*AA101 -> 0 | AC101: =+Q101 -> 27500 | AD101: =+R101+U101-X101+AA101 -> 2 | AE101: =+AC101*AD101 -> 55000 | AG101: ="UPDATE MU_PRODUCT SET MU_TREATMENT_ID = '" & H101 & "' WHERE MU_PRODUCT_ID = '" & K101 & "';" -> UPDATE MU_PRODUCT SET MU_TREATMENT_ID = 'C1713152686736000000046' WHERE MU_PRODUCT_ID = 'P174533104211000000000265';
A102: =VLOOKUP(B102,거래처ID!$A$2:$B$36,2,FALSE) -> C173258871030100000000067 | B102: 쎄라덤 | C102: =VLOOKUP(B102,$B$6:$C$55,2,0) -> #N/A | D102: =VLOOKUP(B102,$B$6:$D$55,3,0) -> #N/A | E102: =VLOOKUP(B102,$B$6:$L$55,4,0) -> #N/A | H102: =VLOOKUP(I102,Sheet1!$A$1:$B$5,2,FALSE) -> C1713152686736000000046 | I102: 피부 | K102: =VLOOKUP(L102,PRODUCTID!C98:D223,2,FALSE) -> P174533104211000000000266 | L102: GA 40% | M102: 1 | N102: ea | O102: 1 | P102: ea | Q102: 75200 | R102: 1 | S102: =+Q102*R102 -> 75200 | V102: =+T102*U102 -> 0 | Y102: =+W102*X102 -> 0 | Z102: =+W102 -> 0 | AB102: =+Z102*AA102 -> 0 | AC102: =+Q102 -> 75200 | AD102: =+R102+U102-X102+AA102 -> 1 | AE102: =+AC102*AD102 -> 75200 | AG102: ="UPDATE MU_PRODUCT SET MU_TREATMENT_ID = '" & H102 & "' WHERE MU_PRODUCT_ID = '" & K102 & "';" -> UPDATE MU_PRODUCT SET MU_TREATMENT_ID = 'C1713152686736000000046' WHERE MU_PRODUCT_ID = 'P174533104211000000000266';
...

Sheet companyproduct
A1: MU_COMPANY_PRODUCT_ID | B1: MU_COMPANY_ID | C1: MU_PRODUCT_ID | D1: ORDER_NUMBER | E1: WRITE_DATE | F1: WRITE_TIME | G1: REMARK | H1: CUD_FLAG | I1: USE_YN | J1: REG_ID | K1: REG_DATE | L1: MOD_ID | M1: MOD_DATE | N1: T_ID | O1: T_DATE
A2: CP17453310421380000000170 | B2: C174541386371200000000039 | C2: P174533104211000000000198 | D2: =IF(B1=B2,D1+1,1) -> 1 | E2: 2025-04-23 | F2: 00:00:00 | H2: C | I2: Y | J2: admin | L2: admin | P2: 170
A3: CP17453310421380000000171 | B3: C174541386371200000000039 | C3: P174533104211000000000215 | D3: =IF(B2=B3,D2+1,1) -> 2 | E3: 2025-04-23 | F3: 00:00:00 | H3: C | I3: Y | J3: admin | L3: admin | P3: 171
A4: CP17453310421380000000172 | B4: C174541386371200000000039 | C4: P174533104211000000000216 | D4: =IF(B3=B4,D3+1,1) -> 3 | E4: 2025-04-23 | F4: 00:00:00 | H4: C | I4: Y | J4: admin | L4: admin | P4: 172
A5: CP17453310421380000000173 | B5: C174541386371200000000039 | C5: P174533104211000000000217 | D5: =IF(B4=B5,D4+1,1) -> 4 | E5: 2025-04-23 | F5: 00:00:00 | H5: C | I5: Y | J5: admin | L5: admin | P5: 173
A6: CP17453310421380000000174 | B6: C174541386371200000000039 | C6: P174533104211000000000218 | D6: =IF(B5=B6,D5+1,1) -> 5 | E6: 2025-04-23 | F6: 00:00:00 | H6: C | I6: Y | J6: admin | L6: admin | P6: 174
A7: CP17453310421380000000175 | B7: C174541386371200000000039 | C7: P174533104211000000000219 | D7: =IF(B6=B7,D6+1,1) -> 6 | E7: 2025-04-23 | F7: 00:00:00 | H7: C | I7: Y | J7: admin | L7: admin | P7: 175
A8: CP17453310421380000000176 | B8: C174541386371200000000039 | C8: P174533104211000000000245 | D8: =IF(B7=B8,D7+1,1) -> 7 | E8: 2025-04-23 | F8: 00:00:00 | H8: C | I8: Y | J8: admin | L8: admin | P8: 176
A9: CP17453310421380000000177 | B9: C174541386371200000000039 | C9: P174533104211000000000263 | D9: =IF(B8=B9,D8+1,1) -> 8 | E9: 2025-04-23 | F9: 00:00:00 | H9: C | I9: Y | J9: admin | L9: admin | P9: 177
A10: CP17453310421380000000178 | B10: C174541386371200000000039 | C10: P174533104211000000000291 | D10: =IF(B9=B10,D9+1,1) -> 9 | E10: 2025-04-23 | F10: 00:00:00 | H10: C | I10: Y | J10: admin | L10: admin | P10: 178
A11: CP17453310421380000000179 | B11: C174541386371200000000039 | C11: P174533104211000000000294 | D11: =IF(B10=B11,D10+1,1) -> 10 | E11: 2025-04-23 | F11: 00:00:00 | H11: C | I11: Y | J11: admin | L11: admin | P11: 179
A12: CP17453310421380000000180 | B12: C173258871030100000000072 | C12: P174533104211000000000283 | D12: =IF(B11=B12,D11+1,1) -> 1 | E12: 2025-04-23 | F12: 00:00:00 | H12: C | I12: Y | J12: admin | L12: admin | P12: 180
A13: CP17453310421380000000181 | B13: C173258871030100000000072 | C13: P174533104211000000000284 | D13: =IF(B12=B13,D12+1,1) -> 2 | E13: 2025-04-23 | F13: 00:00:00 | H13: C | I13: Y | J13: admin | L13: admin | P13: 181
... A127: CP17453310421380000000295 | B127: C173258871030100000000039 | C127: P174533104211000000000238 | D127: =IF(B126=B127,D126+1,1) -> 11 | E127: 2025-04-23 | F127: 00:00:00 | H127: C | I127: Y | J127: admin | L127: admin | P127: 295

Sheet 25'03월 (2)
B2: 제품명 | C2: 거래처 | D2: 구분 | E2: 이월 | H2: 입고 | K2: 실사용 | N2: 과부족 | Q2: 실재 재고 | T2: 사유
E3: 단가 | F3: 수량 | G3: 금액 | H3: 단가 | I3: 수량 | J3: 입고금액 | K3: 단가 | L3: 수량 | M3: 사용금액 | N3: 단가 | O3: 수량 | P3: 사용금액 | Q3: 단가 | R3: 수량 | S3: 재고금액
B4: 채움프리미엄 1 | D4: 필러 | E4: 18000 | F4: 16 | G4: =+E4*F4 -> 288000 | J4: =+H4*I4 -> 0 | M4: =+K4*L4 -> 0 | P4: =+N4*O4 -> 0 | Q4: =+E4 -> 18000 | R4: =+F4+I4-L4+O4 -> 16 | S4: =+Q4*R4 -> 288000
B5: 체움프리미엄 2 | E5: 18000 | F5: 23 | G5: =+E5*F5 -> 414000 | J5: =+H5*I5 -> 0 | M5: =+K5*L5 -> 0 | P5: =+N5*O5 -> 0 | Q5: =+E5 -> 18000 | R5: =+F5+I5-L5+O5 -> 23 | S5: =+Q5*R5 -> 414000
B6: 채움프리미엄 3 | E6: 18000 | F6: 25 | G6: =+E6*F6 -> 450000 | J6: =+H6*I6 -> 0 | M6: =+K6*L6 -> 0 | P6: =+N6*O6 -> 0 | Q6: =+E6 -> 18000 | R6: =+F6+I6-L6+O6 -> 25 | S6: =+Q6*R6 -> 450000
B7: 뉴라미스라이트 | E7: 14000 | F7: 24 | G7: =+E7*F7 -> 336000 | J7: =+H7*I7 -> 0 | M7: =+K7*L7 -> 0 | P7: =+N7*O7 -> 0 | Q7: =+E7 -> 14000 | R7: =+F7+I7-L7+O7 -> 24 | S7: =+Q7*R7 -> 336000
B8: 뉴라미스리도카인 | E8: 18000 | F8: 20 | G8: =+E8*F8 -> 360000 | J8: =+H8*I8 -> 0 | M8: =+K8*L8 -> 0 | P8: =+N8*O8 -> 0 | Q8: =+E8 -> 18000 | R8: =+F8+I8-L8+O8 -> 20 | S8: =+Q8*R8 -> 360000
B9: 뉴라미스볼륨 | E9: 18000 | F9: 11 | G9: =+E9*F9 -> 198000 | J9: =+H9*I9 -> 0 | M9: =+K9*L9 -> 0 | P9: =+N9*O9 -> 0 | Q9: =+E9 -> 18000 | R9: =+F9+I9-L9+O9 -> 11 | S9: =+Q9*R9 -> 198000
B10: 쥬비덤 볼벨라 | E10: 130164 | F10: 18 | G10: =+E10*F10 -> 2342952 | J10: =+H10*I10 -> 0 | M10: =+K10*L10 -> 0 | P10: =+N10*O10 -> 0 | Q10: =+E10 -> 130164 | R10: =+F10+I10-L10+O10 -> 18 | S10: =+Q10*R10 -> 2342952
B11: 쥬비덤 볼리프트 | E11: 130164.1 | F11: 27 | G11: =+E11*F11 -> 3514430.7 | J11: =+H11*I11 -> 0 | M11: =+K11*L11 -> 0 | P11: =+N11*O11 -> 0 | Q11: =+E11 -> 130164.1 | R11: =+F11+I11-L11+O11 -> 27 | S11: =+Q11*R11 -> 3514430.7
B12: 쥬비덤 볼루마 | E12: 130164 | F12: 36 | G12: =+E12*F12 -> 4685904 | J12: =+H12*I12 -> 0 | M12: =+K12*L12 -> 0 | P12: =+N12*O12 -> 0 | Q12: =+E12 -> 130164 | R12: =+F12+I12-L12+O12 -> 36 | S12: =+Q12*R12 -> 4685904
B13: 레스틸렌비탈 | E13: 115500 | F13: 9 | G13: =+E13*F13 -> 1039500 | J13: =+H13*I13 -> 0 | M13: =+K13*L13 -> 0 | P13: =+N13*O13 -> 0 | Q13: =+E13 -> 115500 | R13: =+F13+I13-L13+O13 -> 9 | S13: =+Q13*R13 -> 1039500
B14: 레스틸렌리파인 | E14: 110000 | F14: 18 | G14: =+E14*F14 -> 1980000 | J14: =+H14*I14 -> 0 | M14: =+K14*L14 -> 0 | P14: =+N14*O14 -> 0 | Q14: =+E14 -> 110000 | R14: =+F14+I14-L14+O14 -> 18 | S14: =+Q14*R14 -> 1980000
B15: 레스틸렌디파인 | E15: 110000 | F15: 15 | G15: =+E15*F15 -> 1650000 | J15: =+H15*I15 -> 0 | M15: =+K15*L15 -> 0 | P15: =+N15*O15 -> 0 | Q15: =+E15 -> 110000 | R15: =+F15+I15-L15+O15 -> 15 | S15: =+Q15*R15 -> 1650000
B16: 엘란쎄M | E16: 211747 | F16: 32 | G16: =+E16*F16 -> 6775904 | J16: =+H16*I16 -> 0 | M16: =+K16*L16 -> 0 | P16: =+N16*O16 -> 0 | Q16: =+E16 -> 211747 | R16: =+F16+I16-L16+O16 -> 32 | S16: =+Q16*R16 -> 6775904
E17: 211612.52 | F17: 120 | G17: =+E17*F17 -> 25393502 | J17: =+H17*I17 -> 0 | Q17: =+E17 -> 211612.52 | R17: =+F17+I17-L17+O17 -> 120 | S17: =+Q17*R17 -> 25393502
B18: 스컬트라 | E18: 242000 | F18: 40 | G18: =+E18*F18 -> 9680000 | J18: =+H18*I18 -> 0 | M18: =+K18*L18 -> 0 | P18: =+N18*O18 -> 0 | Q18: =+E18 -> 242000 | R18: =+F18+I18-L18+O18 -> 40 | S18: =+Q18*R18 -> 9680000
B19: 쥬베룩볼륨 | E19: 110000 | F19: 12 | G19: =+E19*F19 -> 1320000 | J19: =+H19*I19 -> 0 | M19: =+K19*L19 -> 0 | P19: =+N19*O19 -> 0 | Q19: =+E19 -> 110000 | R19: =+F19+I19-L19+O19 -> 12 | S19: =+Q19*R19 -> 1320000
B20: 벨로테로소프트 | E20: 91000 | F20: 55 | G20: =+E20*F20 -> 5005000 | J20: =+H20*I20 -> 0 | M20: =+K20*L20 -> 0 | P20: =+N20*O20 -> 0 | Q20: =+E20 -> 91000 | R20: =+F20+I20-L20+O20 -> 55 | S20: =+Q20*R20 -> 5005000
E21: 82727 | F21: 3 | G21: =+E21*F21 -> 248181 | J21: =+H21*I21 -> 0 | M21: =+K21*L21 -> 0 | P21: =+N21*O21 -> 0 | Q21: =+E21 -> 82727 | R21: =+F21+I21-L21+O21 -> 3 | S21: =+Q21*R21 -> 248181
B22: 리즈톡스 | D22: 보톡스 | E22: 25000 | F22: 54 | G22: =+E22*F22 -> 1350000 | J22: =+H22*I22 -> 0 | M22: =+K22*L22 -> 0 | P22: =+N22*O22 -> 0 | Q22: =+E22 -> 25000 | R22: =+F22+I22-L22+O22 -> 54 | S22: =+Q22*R22 -> 1350000
B23: 코어톡스 | E23: 33000 | F23: 37 | G23: =+E23*F23 -> 1221000 | J23: =+H23*I23 -> 0 | M23: =+K23*L23 -> 0 | P23: =+N23*O23 -> 0 | Q23: =+E23 -> 33000 | R23: =+F23+I23-L23+O23 -> 37 | S23: =+Q23*R23 -> 1221000
B24: 제오민 | E24: 110000 | F24: 13 | G24: =+E24*F24 -> 1430000 | J24: =+H24*I24 -> 0 | M24: =+K24*L24 -> 0 | P24: =+N24*O24 -> 0 | Q24: =+E24 -> 110000 | R24: =+F24+I24-L24+O24 -> 13 | S24: =+Q24*R24 -> 1430000
E25: 120000 | F25: 30 | G25: =+E25*F25 -> 3600000 | J25: =+H25*I25 -> 0 | Q25: =+E25 -> 120000 | R25: =+F25+I25-L25+O25 -> 30 | S25: =+Q25*R25 -> 3600000
B26: 리쥬란아이 | D26: 스킨부스터 | E26: 52923 | F26: 25 | G26: =+E26*F26 -> 1323075 | J26: =+H26*I26 -> 0 | M26: =+K26*L26 -> 0 | P26: =+N26*O26 -> 0 | Q26: =+E26 -> 52923 | R26: =+F26+I26-L26+O26 -> 25 | S26: =+Q26*R26 -> 1323075
B27: 리쥬란 | E27: 94430 | F27: 126 | G27: =+E27*F27 -> 11898180 | J27: =+H27*I27 -> 0 | M27: =+K27*L27 -> 0 | P27: =+N27*O27 -> 0 | Q27: =+E27 -> 94430 | R27: =+F27+I27-L27+O27 -> 126 | S27: =+Q27*R27 -> 11898180
B28: 리쥬란HB | E28: 55377 | F28: 51 | G28: =+E28*F28 -> 2824227 | J28: =+H28*I28 -> 0 | M28: =+K28*L28 -> 0 | P28: =+N28*O28 -> 0 | Q28: =+E28 -> 55377 | R28: =+F28+I28-L28+O28 -> 51 | S28: =+Q28*R28 -> 2824227
B29: 샤넬 | E29: 55648 | F29: 81 | G29: =+E29*F29 -> 4507488 | J29: =+H29*I29 -> 0 | M29: =+K29*L29 -> 0 | P29: =+N29*O29 -> 0 | Q29: =+E29 -> 55648 | R29: =+F29+I29-L29+O29 -> 81 | S29: =+Q29*R29 -> 4507488
B30: 쥬베룩 | E30: 100000 | F30: 16 | G30: =+E30*F30 -> 1600000 | J30: =+H30*I30 -> 0 | M30: =+K30*L30 -> 0 | P30: =+N30*O30 -> 0 | Q30: =+E30 -> 100000 | R30: =+F30+I30-L30+O30 -> 16 | S30: =+Q30*R30 -> 1600000
E31: 121000 | F31: 50 | G31: =+E31*F31 -> 6050000 | J31: =+H31*I31 -> 0 | P31: =+N31*O31 -> 0 | Q31: =+E31 -> 121000 | R31: =+F31+I31-L31+O31 -> 50 | S31: =+Q31*R31 -> 6050000
B32: 하이주 | E32: 9616 | F32: 52 | G32: =+E32*F32 -> 500032 | J32: =+H32*I32 -> 0 | M32: =+K32*L32 -> 0 | P32: =+N32*O32 -> 0 | Q32: =+E32 -> 9616 | R32: =+F32+I32-L32+O32 -> 52 | S32: =+Q32*R32 -> 500032
B33: 하이코(4cm) | D33: 실리프팅 | E33: 4950 | F33: 84 | G33: =+E33*F33 -> 415800 | J33: =+H33*I33 -> 0 | M33: =+K33*L33 -> 0 | P33: =+N33*O33 -> 0 | Q33: =+E33 -> 4950 | R33: =+F33+I33-L33+O33 -> 84 | S33: =+Q33*R33 -> 415800
B34: 메이드코(6cm) | E34: 4950 | F34: 20 | G34: =+E34*F34 -> 99000 | J34: =+H34*I34 -> 0 | M34: =+K34*L34 -> 0 | P34: =+N34*O34 -> 0 | Q34: =+E34 -> 4950 | R34: =+F34+I34-L34+O34 -> 20 | S34: =+Q34*R34 -> 99000
B35: 오메가 | E35: 5500 | F35: 188 | G35: =+E35*F35 -> 1034000 | J35: =+H35*I35 -> 0 | M35: =+K35*L35 -> 0 | P35: =+N35*O35 -> 0 | Q35: =+E35 -> 5500 | R35: =+F35+I35-L35+O35 -> 188 | S35: =+Q35*R35 -> 1034000
B36: 울트라V | E36: 550 | F36: 960 | G36: =+E36*F36 -> 528000 | J36: =+H36*I36 -> 0 | M36: =+K36*L36 -> 0 | P36: =+N36*O36 -> 0 | Q36: =+E36 -> 550 | R36: =+F36+I36-L36+O36 -> 960 | S36: =+Q36*R36 -> 528000
B37: 민트쁘띠 | E37: 9000 | F37: 168 | G37: =+E37*F37 -> 1512000 | J37: =+H37*I37 -> 0 | M37: =+K37*L37 -> 0 | P37: =+N37*O37 -> 0 | Q37: =+E37 -> 9000 | R37: =+F37+I37-L37+O37 -> 168 | S37: =+Q37*R37 -> 1512000
B38: 실루엣8콘 | E38: 107250 | F38: 28 | G38: =+E38*F38 -> 3003000 | J38: =+H38*I38 -> 0 | M38: =+K38*L38 -> 0 | P38: =+N38*O38 -> 0 | Q38: =+E38 -> 107250 | R38: =+F38+I38-L38+O38 -> 28 | S38: =+Q38*R38 -> 3003000
B39: 울쎄라-DS 10-1.5N | D39: 레이저 | E39: 1271 | F39: 1106 | G39: =+E39*F39 -> 1405726 | J39: =+H39*I39 -> 0 | M39: =+K39*L39 -> 0 | P39: =+N39*O39 -> 0 | Q39: =+E39 -> 1271 | R39: =+F39+I39-L39+O39 -> 1106 | S39: =+Q39*R39 -> 1405726
E40: 1121 | F40: 12000 | G40: =+E40*F40 -> 13452000 | J40: =+H40*I40 -> 0 | Q40: =+E40 -> 1121 | R40: =+F40+I40-L40+O40 -> 12000 | S40: =+Q40*R40 -> 13452000
B41: 울쎄라-DS 7-3.0 | E41: 1121 | F41: 1419 | G41: =+E41*F41 -> 1590699 | J41: =+H41*I41 -> 0 | M41: =+K41*L41 -> 0 | P41: =+N41*O41 -> 0 | Q41: =+E41 -> 1121 | R41: =+F41+I41-L41+O41 -> 1419 | S41: =+Q41*R41 -> 1590699
E42: 1145.9 | F42: 12000 | G42: =+E42*F42 -> 13750800 | J42: =+H42*I42 -> 0 | Q42: =+E42 -> 1145.9 | R42: =+F42+I42-L42+O42 -> 12000 | S42: =+Q42*R42 -> 13750800
B43: 울쎄라-DS 4-4.5 | E43: 1145.9 | F43: 98243 | G43: =+E43*F43 -> 1.1257665e+08 | J43: =+H43*I43 -> 0 | M43: =+K43*L43 -> 0 | P43: =+N43*O43 -> 0 | Q43: =+E43 -> 1145.9 | R43: =+F43+I43-L43+O43 -> 98243 | S43: =+Q43*R43 -> 1.1257665e+08
B44: 울핏6.0 | E44: 22 | F44: 67892 | G44: =+E44*F44 -> 1493624 | J44: =+H44*I44 -> 0 | M44: =+K44*L44 -> 0 | P44: =+N44*O44 -> 0 | Q44: =+E44 -> 22 | R44: =+F44+I44-L44+O44 -> 67892 | S44: =+Q44*R44 -> 1493624
B45: 울핏9.0 | E45: 22 | F45: 69660 | G45: =+E45*F45 -> 1532520 | J45: =+H45*I45 -> 0 | M45: =+K45*L45 -> 0 | P45: =+N45*O45 -> 0 | Q45: =+E45 -> 22 | R45: =+F45+I45-L45+O45 -> 69660 | S45: =+Q45*R45 -> 1532520
B46: 써마지 FLX 600샷 | E46: 0 | F46: 0 | G46: =+E46*F46 -> 0 | J46: =+H46*I46 -> 0 | M46: =+K46*L46 -> 0 | Q46: =+E46 -> 0 | R46: =+F46+I46-L46+O46 -> 0 | S46: =+Q46*R46 -> 0
B47: 써마지 FLX 600샷 | E47: 960000 | F47: 18 | G47: =+E47*F47 -> 17280000 | J47: =+H47*I47 -> 0 | M47: =+K47*L47 -> 0 | Q47: =+E47 -> 960000 | R47: =+F47+I47-L47+O47 -> 18 | S47: =+Q47*R47 -> 17280000
B48: 멀티블루 | E48: 8800 | F48: 19 | G48: =+E48*F48 -> 167200 | J48: =+H48*I48 -> 0 | M48: =+K48*L48 -> 0 | P48: =+N48*O48 -> 0 | Q48: =+E48 -> 8800 | R48: =+F48+I48-L48+O48 -> 19 | S48: =+Q48*R48 -> 167200
B49: 아르기닌 | E49: 20000 | F49: 16 | G49: =+E49*F49 -> 320000 | J49: =+H49*I49 -> 0 | M49: =+K49*L49 -> 0 | P49: =+N49*O49 -> 0 | Q49: =+E49 -> 20000 | R49: =+F49+I49-L49+O49 -> 16 | S49: =+Q49*R49 -> 320000
B50: BSC-30 | E50: 170000 | F50: 3 | G50: =+E50*F50 -> 510000 | J50: =+H50*I50 -> 0 | M50: =+K50*L50 -> 0 | P50: =+N50*O50 -> 0 | Q50: =+E50 -> 170000 | R50: =+F50+I50-L50+O50 -> 3 | S50: =+Q50*R50 -> 510000
B51: BSC-60 | E51: 350000 | F51: 6 | G51: =+E51*F51 -> 2100000 | J51: =+H51*I51 -> 0 | M51: =+K51*L51 -> 0 | P51: =+N51*O51 -> 0 | Q51: =+E51 -> 350000 | R51: =+F51+I51-L51+O51 -> 6 | S51: =+Q51*R51 -> 2100000
B52: BSC-120 | E52: 600000 | F52: 3 | G52: =+E52*F52 -> 1800000 | J52: =+H52*I52 -> 0 | M52: =+K52*L52 -> 0 | P52: =+N52*O52 -> 0 | Q52: =+E52 -> 600000 | R52: =+F52+I52-L52+O52 -> 3 | S52: =+Q52*R52 -> 1800000
C53: 소계 | G53: =SUM(G4:G52) -> 2.765564e+08 | J53: =SUM(J4:J52) -> 0 | M53: =SUM(M4:M52) -> 0 | N53: =+K53 -> 0 | P53: =SUM(P4:P52) -> 0 | S53: =SUM(S4:S52) -> 2.765564e+08
B54: NDA플러스 | C54: 유벤타헬스케어 | E54: 15400 | F54: 55 | G54: =+E54*F54 -> 847000 | J54: =+H54*I54 -> 0 | K54: 15400 | L54: 0 | M54: =+K54*L54 -> 0 | N54: =+K54 -> 15400 | P54: =+N54*O54 -> 0 | Q54: =+E54 -> 15400 | R54: =+F54+I54-L54+O54 -> 55 | S54: =+Q54*R54 -> 847000
B55: 큐티셀 | C55: 에스테팜 | E55: 33000 | F55: 24 | G55: =+E55*F55 -> 792000 | J55: =+H55*I55 -> 0 | K55: 33000 | L55: 0 | M55: =+K55*L55 -> 0 | N55: =+K55 -> 33000 | P55: =+N55*O55 -> 0 | Q55: =+E55 -> 33000 | R55: =+F55+I55-L55+O55 -> 24 | S55: =+Q55*R55 -> 792000
B56: N-25 | C56: 제이시스 | E56: 33000 | F56: 14 | G56: =+E56*F56 -> 462000 | H56: 33000 | I56: 15 | J56: =+H56*I56 -> 495000 | K56: 33000 | L56: 19 | M56: =+K56*L56 -> 627000 | P56: =+N56*O56 -> 0 | Q56: =+E56 -> 33000 | R56: =+F56+I56-L56+O56 -> 10 | S56: =+Q56*R56 -> 330000 | T56: DIA팁 교환건
B57: I-25 | C57: 제이시스 | E57: 33000 | F57: 7 | G57: =+E57*F57 -> 231000 | J57: =+H57*I57 -> 0 | K57: 33000 | L57: 1 | M57: =+K57*L57 -> 33000 | N57: =+K57 -> 33000 | P57: =+N57*O57 -> 0 | Q57: =+E57 -> 33000 | R57: =+F57+I57-L57+O57 -> 6 | S57: =+Q57*R57 -> 198000
B58: CP-25 | C58: 제이시스 | E58: 49000 | F58: 38 | G58: =+E58*F58 -> 1862000 | H58: 49000 | I58: 20 | J58: =+H58*I58 -> 980000 | K58: 49000 | L58: 26 | M58: =+K58*L58 -> 1274000 | N58: =+K58 -> 49000 | P58: =+N58*O58 -> 0 | Q58: =+E58 -> 49000 | R58: =+F58+I58-L58+O58 -> 32 | S58: =+Q58*R58 -> 1568000 | T58: DIA팁 교환건
B59: DDR | C59: 제이시스 | E59: 44 | F59: 7954 | G59: =+E59*F59 -> 349976 | J59: =+H59*I59 -> 0 | K59: 44 | L59: 0 | M59: =+K59*L59 -> 0 | P59: =+N59*O59 -> 0 | Q59: =+E59 -> 44 | R59: =+F59+I59-L59+O59 -> 7954 | S59: =+Q59*R59 -> 349976
B60: DIA | C60: 제이시스 | E60: 165 | F60: 10901 | G60: =+E60*F60 -> 1798665 | J60: =+H60*I60 -> 0 | K60: 165 | L60: 9000 | M60: =+K60*L60 -> 1485000 | N60: =+K60 -> 165 | P60: =+N60*O60 -> 0 | Q60: =+E60 -> 165 | R60: =+F60+I60-L60+O60 -> 1901 | S60: =+Q60*R60 -> 313665 | T60: 팁 교환 (CP25-20개 , N25-15개)
B61: 포텐자 젤(s.v) | C61: 제이시스 | E61: 0 | F61: 4 | G61: =+E61*F61 -> 0 | J61: =+H61*I61 -> 0 | K61: 0 | L61: 0 | M61: =+K61*L61 -> 0 | P61: =+N61*O61 -> 0 | Q61: =+E61 -> 0 | R61: =+F61+I61-L61+O61 -> 4 | S61: =+Q61*R61 -> 0
B62: 듀엣써마지 팁 | C62: 은성메디컬 | E62: 11 | F62: 3153 | G62: =+E62*F62 -> 34683 | J62: =+H62*I62 -> 0 | K62: 11 | L62: 300 | M62: =+K62*L62 -> 3300 | N62: =+K62 -> 11 | P62: =+N62*O62 -> 0 | Q62: =+E62 -> 11 | R62: =+F62+I62-L62+O62 -> 2853 | S62: =+Q62*R62 -> 31383
B63: 듀엣써마지 패드 | C63: 은성메디컬 | E63: 5500 | F63: 19 | G63: =+E63*F63 -> 104500 | J63: =+H63*I63 -> 0 | K63: 5500 | L63: 0 | M63: =+K63*L63 -> 0 | N63: =+K63 -> 5500 | P63: =+N63*O63 -> 0 | Q63: =+E63 -> 5500 | R63: =+F63+I63-L63+O63 -> 19 | S63: =+Q63*R63 -> 104500
B64: 슈링크U L-4.5(2만) | C64: ㈜클래시스 | E64: 110 | F64: 48505 | G64: =+E64*F64 -> 5335550 | H64: 110 | I64: 40200 | J64: 4400000 | K64: 110 | L64: 42713 | M64: =+K64*L64 -> 4698430 | P64: =+N64*O64 -> 0 | Q64: =+E64 -> 110 | R64: =+F64+I64-L64+O64 -> 45992 | S64: =+Q64*R64 -> 5059120 | T64: 단가변경
B65: 슈링크U C-3.0(2만) | C65: ㈜클래시스 | E65: 110 | F65: 45443 | G65: =+E65*F65 -> 4998730 | J65: =+H65*I65 -> 0 | K65: 110 | L65: 13154 | M65: =+K65*L65 -> 1446940 | P65: =+N65*O65 -> 0 | Q65: =+E65 -> 110 | R65: =+F65+I65-L65+O65 -> 32289 | S65: =+Q65*R65 -> 3551790
B66: 슈링크U I-.2.0(2만) | C66: ㈜클래시스 | E66: 110 | F66: 11690 | G66: =+E66*F66 -> 1285900 | J66: =+H66*I66 -> 0 | K66: 110 | L66: 0 | M66: =+K66*L66 -> 0 | N66: =+K66 -> 110 | P66: =+N66*O66 -> 0 | Q66: =+E66 -> 110 | R66: =+F66+I66-L66+O66 -> 11690 | S66: =+Q66*R66 -> 1285900
B67: 슈링크B L-.4.5 | C67: ㈜클래시스 | E67: 87 | F67: 3682 | G67: =+E67*F67 -> 320334 | J67: =+H67*I67 -> 0 | K67: 87 | L67: 0 | M67: =+K67*L67 -> 0 | N67: =+K67 -> 87 | P67: =+N67*O67 -> 0 | Q67: =+E67 -> 87 | R67: =+F67+I67-L67+O67 -> 3682 | S67: =+Q67*R67 -> 320334
B68: 슈링크B D-1.5 | C68: ㈜클래시스 | E68: 87 | F68: 1527 | G68: =+E68*F68 -> 132849 | J68: =+H68*I68 -> 0 | K68: 87 | L68: 0 | M68: =+K68*L68 -> 0 | N68: =+K68 -> 87 | P68: =+N68*O68 -> 0 | Q68: =+E68 -> 87 | R68: =+F68+I68-L68+O68 -> 1527 | S68: =+Q68*R68 -> 132849
B69: 슈링크B L-4.5(2만) | C69: ㈜클래시스 | E69: 87 | F69: 0 | G69: =+E69*F69 -> 0 | J69: =+H69*I69 -> 0 | K69: 87 | L69: 0 | M69: =+K69*L69 -> 0 | N69: =+K69 -> 87 | P69: =+N69*O69 -> 0 | Q69: =+E69 -> 87 | R69: =+F69+I69-L69+O69 -> 0 | S69: =+Q69*R69 -> 0
B70: 슈링크B C-3.0(2만) | C70: ㈜클래시스 | E70: 87 | F70: 15570 | G70: =+E70*F70 -> 1354590 | J70: =+H70*I70 -> 0 | K70: 87 | L70: 0 | M70: =+K70*L70 -> 0 | N70: =+K70 -> 87 | P70: =+N70*O70 -> 0 | Q70: =+E70 -> 87 | R70: =+F70+I70-L70+O70 -> 15570 | S70: =+Q70*R70 -> 1354590
B71: 슈링크B D-1.5(2만) | C71: ㈜클래시스 | E71: 87 | F71: 0 | G71: =+E71*F71 -> 0 | J71: =+H71*I71 -> 0 | K71: 87 | L71: 0 | M71: =+K71*L71 -> 0 | N71: =+K71 -> 87 | P71: =+N71*O71 -> 0 | Q71: =+E71 -> 87 | R71: =+F71+I71-L71+O71 -> 0 | S71: =+Q71*R71 -> 0
B72: GT38앰플 | C72: ㈜클래시스 | E72: 5000 | F72: 34 | G72: =+E72*F72 -> 170000 | J72: =+H72*I72 -> 0 | K72: 5000 | L72: 0 | M72: =+K72*L72 -> 0 | N72: =+K72 -> 5000 | P72: =+N72*O72 -> 0 | Q72: =+E72 -> 5000 | R72: =+F72+I72-L72+O72 -> 34 | S72: =+Q72*R72 -> 170000
B73: 더블로M7 | C73: 하이로닉 | E73: 104 | F73: 12513 | G73: =+E73*F73 -> 1301352 | J73: =+H73*I73 -> 0 | K73: 104 | L73: 0 | M73: =+K73*L73 -> 0 | N73: =+K73 -> 104 | P73: =+N73*O73 -> 0 | Q73: =+E73 -> 104 | R73: =+F73+I73-L73+O73 -> 12513 | S73: =+Q73*R73 -> 1301352
B74: 더블러D4 | C74: 하이로닉 | E74: 104 | F74: 721 | G74: =+E74*F74 -> 74984 | J74: =+H74*I74 -> 0 | K74: 104 | L74: 0 | M74: =+K74*L74 -> 0 | N74: =+K74 -> 104 | P74: =+N74*O74 -> 0 | Q74: =+E74 -> 104 | R74: =+F74+I74-L74+O74 -> 721 | S74: =+Q74*R74 -> 74984
B75: 라라필 폼클렌져 | C75: 에이치투메디 | E75: 29700 | F75: 1 | G75: =+E75*F75 -> 29700 | J75: =+H75*I75 -> 0 | K75: 29700 | L75: 1 | M75: =+K75*L75 -> 29700 | N75: =+K75 -> 29700 | P75: =+N75*O75 -> 0 | Q75: =+E75 -> 29700 | R75: =+F75+I75-L75+O75 -> 0 | S75: =+Q75*R75 -> 0
B76: 라라필 1제 | C76: 에이치투메디 | E76: 55000 | F76: 2 | G76: =+E76*F76 -> 110000 | J76: =+H76*I76 -> 0 | K76: 55000 | L76: 0 | M76: =+K76*L76 -> 0 | P76: =+N76*O76 -> 0 | Q76: =+E76 -> 55000 | R76: =+F76+I76-L76+O76 -> 2 | S76: =+Q76*R76 -> 110000
B77: 라라필 2제 | C77: 에이치투메디 | E77: 55000 | F77: 4 | G77: =+E77*F77 -> 220000 | J77: =+H77*I77 -> 0 | K77: 55000 | L77: 0 | M77: =+K77*L77 -> 0 | P77: =+N77*O77 -> 0 | Q77: =+E77 -> 55000 | R77: =+F77+I77-L77+O77 -> 4 | S77: =+Q77*R77 -> 220000
B78: 라라필 마스크팩 | C78: 에이치투메디 | E78: 4125 | F78: 37 | G78: =+E78*F78 -> 152625 | J78: =+H78*I78 -> 0 | K78: 4125 | L78: 6 | M78: =+K78*L78 -> 24750 | P78: =+N78*O78 -> 0 | Q78: =+E78 -> 4125 | R78: =+F78+I78-L78+O78 -> 31 | S78: =+Q78*R78 -> 127875
B79: 라라젯 x로션 | C79: ㈜엠제이메디컬 | E79: 55000 | F79: 3 | G79: =+E79*F79 -> 165000 | J79: =+H79*I79 -> 0 | K79: 55000 | L79: 0 | M79: =+K79*L79 -> 0 | P79: =+N79*O79 -> 0 | Q79: =+E79 -> 55000 | R79: =+F79+I79-L79+O79 -> 3 | S79: =+Q79*R79 -> 165000
B80: 라라젯 s1 | C80: ㈜엠제이메디컬 | E80: 55000 | F80: 1 | G80: =+E80*F80 -> 55000 | J80: =+H80*I80 -> 0 | K80: 55000 | L80: 0 | M80: =+K80*L80 -> 0 | N80: =+K80 -> 55000 | P80: =+N80*O80 -> 0 | Q80: =+E80 -> 55000 | R80: =+F80+I80-L80+O80 -> 1 | S80: =+Q80*R80 -> 55000
B81: 라라젯 s2 | C81: ㈜엠제이메디컬 | E81: 55000 | F81: 3 | G81: =+E81*F81 -> 165000 | J81: =+H81*I81 -> 0 | K81: 55000 | L81: 0 | M81: =+K81*L81 -> 0 | N81: =+K81 -> 55000 | P81: =+N81*O81 -> 0 | Q81: =+E81 -> 55000 | R81: =+F81+I81-L81+O81 -> 3 | S81: =+Q81*R81 -> 165000
B82: 라라젯 s3 | C82: ㈜엠제이메디컬 | E82: 55000 | F82: 1 | G82: =+E82*F82 -> 55000 | J82: =+H82*I82 -> 0 | K82: 55000 | L82: 0 | M82: =+K82*L82 -> 0 | N82: =+K82 -> 55000 | P82: =+N82*O82 -> 0 | Q82: =+E82 -> 55000 | R82: =+F82+I82-L82+O82 -> 1 | S82: =+Q82*R82 -> 55000
B83: 라라젯 팁 | C83: ㈜엠제이메디컬 | E83: 2750 | F83: 39 | G83: =+E83*F83 -> 107250 | J83: =+H83*I83 -> 0 | K83: 2750 | L83: 11 | M83: =+K83*L83 -> 30250 | P83: =+N83*O83 -> 0 | Q83: =+E83 -> 2750 | R83: =+F83+I83-L83+O83 -> 28 | S83: =+Q83*R83 -> 77000
B84: 아쿠아필S1 | C84: ㈜엠제이메디컬 | E84: 11000 | F84: 10 | G84: =+E84*F84 -> 110000 | H84: 11000 | I84: 10 | J84: =+H84*I84 -> 110000 | K84: 11000 | L84: 14 | M84: =+K84*L84 -> 154000 | N84: =+K84 -> 11000 | P84: =+N84*O84 -> 0 | Q84: =+E84 -> 11000 | R84: =+F84+I84-L84+O84 -> 6 | S84: =+Q84*R84 -> 66000
B85: 아쿠아필S2 | C85: ㈜엠제이메디컬 | E85: 11000 | F85: 15 | G85: =+E85*F85 -> 165000 | H85: 11000 | I85: 5 | J85: =+H85*I85 -> 55000 | K85: 11000 | L85: 14 | M85: =+K85*L85 -> 154000 | N85: =+K85 -> 11000 | P85: =+N85*O85 -> 0 | Q85: =+E85 -> 11000 | R85: =+F85+I85-L85+O85 -> 6 | S85: =+Q85*R85 -> 66000
B86: 아쿠아필S3 | C86: ㈜엠제이메디컬 | E86: 11000 | F86: 9 | G86: =+E86*F86 -> 99000 | H86: 11000 | I86: 5 | J86: =+H86*I86 -> 55000 | K86: 11000 | L86: 11 | M86: =+K86*L86 -> 121000 | N86: =+K86 -> 11000 | P86: =+N86*O86 -> 0 | Q86: =+E86 -> 11000 | R86: =+F86+I86-L86+O86 -> 3 | S86: =+Q86*R86 -> 33000
B87: 디아지팁(인트라셀) | C87: ㈜엠제이메디컬 | E87: 22000 | F87: 15 | G87: =+E87*F87 -> 330000 | J87: =+H87*I87 -> 0 | K87: 22000 | L87: 4 | M87: =+K87*L87 -> 88000 | N87: =+K87 -> 22000 | P87: =+N87*O87 -> 0 | Q87: =+E87 -> 22000 | R87: =+F87+I87-L87+O87 -> 11 | S87: =+Q87*R87 -> 242000
B88: PDT | C88: ㈜엠제이메디컬 | E88: 14850 | F88: 29 | G88: =+E88*F88 -> 430650 | J88: =+H88*I88 -> 0 | K88: 14850 | L88: 0 | M88: =+K88*L88 -> 0 | N88: =+K88 -> 14850 | P88: =+N88*O88 -> 0 | Q88: =+E88 -> 14850 | R88: =+F88+I88-L88+O88 -> 29 | S88: =+Q88*R88 -> 430650
B89: 골드PTT | C89: 원진메디팜 | E89: 29333 | F89: 23 | G89: =+E89*F89 -> 674659 | J89: =+H89*I89 -> 0 | K89: 29333 | L89: 8 | M89: =+K89*L89 -> 234664 | N89: =+K89 -> 29333 | P89: =+N89*O89 -> 0 | Q89: =+E89 -> 29333 | R89: =+F89+I89-L89+O89 -> 15 | S89: =+Q89*R89 -> 439995
B90: 산소필1-젤 | C90: 더메스테릭스 | E90: 75000 | F90: 1 | G90: =+E90*F90 -> 75000 | J90: =+H90*I90 -> 0 | K90: 75000 | L90: 0 | M90: =+K90*L90 -> 0 | N90: =+K90 -> 75000 | P90: =+N90*O90 -> 0 | Q90: =+E90 -> 75000 | R90: =+F90+I90-L90+O90 -> 1 | S90: =+Q90*R90 -> 75000
B91: 산소필2-젤 | C91: 더메스테릭스 | E91: 75000 | F91: 0 | G91: =+E91*F91 -> 0 | J91: =+H91*I91 -> 0 | K91: 75000 | L91: 0 | M91: =+K91*L91 -> 0 | N91: =+K91 -> 75000 | P91: =+N91*O91 -> 0 | Q91: =+E91 -> 75000 | R91: =+F91+I91-L91+O91 -> 0 | S91: =+Q91*R91 -> 0
B92: 비타민C파우더 | C92: 더메스테릭스 | E92: 89000 | F92: 0 | G92: =+E92*F92 -> 0 | J92: =+H92*I92 -> 0 | K92: 89000 | L92: 0 | M92: =+K92*L92 -> 0 | N92: =+K92 -> 89000 | P92: =+N92*O92 -> 0 | Q92: =+E92 -> 89000 | R92: =+F92+I92-L92+O92 -> 0 | S92: =+Q92*R92 -> 0
B93: 씨위드 크림팩 | C93: 쎄라덤 | E93: 44000 | F93: 1 | G93: =+E93*F93 -> 44000 | J93: =+H93*I93 -> 0 | K93: 44000 | L93: 0 | M93: =+K93*L93 -> 0 | N93: =+K93 -> 44000 | P93: =+N93*O93 -> 0 | Q93: =+E93 -> 44000 | R93: =+F93+I93-L93+O93 -> 1 | S93: =+Q93*R93 -> 44000
B94: 아세로라크림팩 | C94: 쎄라덤 | E94: 44000 | F94: 1 | G94: =+E94*F94 -> 44000 | J94: =+H94*I94 -> 0 | K94: 44000 | L94: 0 | M94: =+K94*L94 -> 0 | N94: =+K94 -> 44000 | P94: =+N94*O94 -> 0 | Q94: =+E94 -> 44000 | R94: =+F94+I94-L94+O94 -> 1 | S94: =+Q94*R94 -> 44000
B95: 야쥴렌크림팩 | C95: 쎄라덤 | E95: 44000 | F95: 0 | G95: =+E95*F95 -> 0 | J95: =+H95*I95 -> 0 | K95: 44000 | L95: 0 | M95: =+K95*L95 -> 0 | N95: =+K95 -> 44000 | P95: =+N95*O95 -> 0 | Q95: =+E95 -> 44000 | R95: =+F95+I95-L95+O95 -> 0 | S95: =+Q95*R95 -> 0
B96: 캄퍼크림팩 | C96: 쎄라덤 | E96: 44000 | F96: 0 | G96: =+E96*F96 -> 0 | J96: =+H96*I96 -> 0 | K96: 44000 | L96: 0 | M96: =+K96*L96 -> 0 | N96: =+K96 -> 44000 | P96: =+N96*O96 -> 0 | Q96: =+E96 -> 44000 | R96: =+F96+I96-L96+O96 -> 0 | S96: =+Q96*R96 -> 0
B97: 블랙필 | C97: 쎄라덤 | E97: 73333 | F97: 3 | G97: =+E97*F97 -> 219999 | J97: =+H97*I97 -> 0 | K97: 73333 | L97: 0 | M97: =+K97*L97 -> 0 | N97: =+K97 -> 73333 | P97: =+N97*O97 -> 0 | Q97: =+E97 -> 73333 | R97: =+F97+I97-L97+O97 -> 3 | S97: =+Q97*R97 -> 219999
B98: 그린티중화제 | C98: 쎄라덤 | E98: 27500 | F98: 2 | G98: =+E98*F98 -> 55000 | J98: =+H98*I98 -> 0 | K98: 27500 | L98: 0 | M98: =+K98*L98 -> 0 | N98: =+K98 -> 27500 | P98: =+N98*O98 -> 0 | Q98: =+E98 -> 27500 | R98: =+F98+I98-L98+O98 -> 2 | S98: =+Q98*R98 -> 55000
... B101: K크림(멍크림) | C101: 히스토랩 | E101: 0 | F101: 2 | G101: =+E101*F101 -> 0 | J101: =+H101*I101 -> 0 | K101: 0 | L101: 0 | M101: =+K101*L101 -> 0 | N101: =+K101 -> 0 | P101: =+N101*O101 -> 0 | Q101: =+E101 -> 0 | R101: =+F101+I101-L101+O101 -> 2 | S101: =+Q101*R101 -> 0
B102: 밀크클렌져 | C102: 히스토랩 | E102: 32857.143 | F102: 6 | G102: =+E102*F102 -> 197142.86 | J102: =+H102*I102 -> 0 | K102: 32857.143 | L102: 0 | M102: =+K102*L102 -> 0 | P102: =+N102*O102 -> 0 | Q102: =+E102 -> 32857.143 | R102: =+F102+I102-L102+O102 -> 6 | S102: =+Q102*R102 -> 197142.86
B103: 폼클렌저 | C103: 히스토랩 | E103: 30000 | F103: 3 | G103: =+E103*F103 -> 90000 | H103: 30000 | I103: 7 | J103: =+H103*I103 -> 210000 | K103: 30000 | L103: 4 | M103: =+K103*L103 -> 120000 | N103: =+K103 -> 30000 | P103: =+N103*O103 -> 0 | Q103: =+E103 -> 30000 | R103: =+F103+I103-L103+O103 -> 6 | S103: =+Q103*R103 -> 180000
...

Sheet Sheet1
A1: 피부 | B1: C1713152686736000000046
A2: 쁘띠 | B2: C1713152686736000000047
A3: 비만 | B3: C1713152686736000000048
A4: 기타 | B4: C1713152686736000000050
A5: 제모 | B5: CI1722329371468000000081

Sheet PRODUCTID
A1: MU_PRODUCT_ID | B1: PRODUCT_CODE | C1: PRODUCT_NAME | E1: MU_TREATMENT_ID | F1: VOLUME | G1: UNIT_CODE | H1: UNIT_NAME | I1: USAGE_VOLUME | J1: USAGE_UNIT_CODE | K1: WRITE_DATE | L1: WRITE_TIME | M1: REMARK | N1: CUD_FLAG | O1: USE_YN | P1: REG_ID | Q1: REG_DATE | R1: MOD_ID | S1: MOD_DATE | T1: T_ID | U1: T_DATE
A2: P174533104211000000000170 | B2: P202504220174 | C2: 채움프리미엄 1 | D2: P174533104211000000000170 | F2: 2 | G2: =VLOOKUP(H2,거래처ID!$C$2:$D$8,2,FALSE) -> #N/A | H2: cc | I2: 2 | J2: cc | K2: 45770 | L2: 00:00:00 | N2: C | O2: Y | P2: admin | R2: admin
A3: P174533104211000000000171 | B3: P202504220175 | C3: 체움프리미엄 2 | D3: P174533104211000000000171 | F3: 2 | G3: =VLOOKUP(H3,거래처ID!$C$2:$D$8,2,FALSE) -> #N/A | H3: cc | I3: 2 | J3: cc | K3: 45770 | L3: 00:00:00 | N3: C | O3: Y | P3: admin | R3: admin
A4: P174533104211000000000172 | B4: P202504220176 | C4: 채움프리미엄 3 | D4: P174533104211000000000172 | F4: 2 | G4: =VLOOKUP(H4,거래처ID!$C$2:$D$8,2,FALSE) -> #N/A | H4: cc | I4: 2 | J4: cc | K4: 45770 | L4: 00:00:00 | N4: C | O4: Y | P4: admin | R4: admin
A5: P174533104211000000000173 | B5: P202504220177 | C5: 뉴라미스라이트 | D5: P174533104211000000000173 | F5: 1 | G5: =VLOOKUP(H5,거래처ID!$C$2:$D$8,2,FALSE) -> #N/A | H5: cc | I5: 1 | J5: cc | K5: 45770 | L5: 00:00:00 | N5: C | O5: Y | P5: admin | R5: admin
A6: P174533104211000000000174 | B6: P202504220178 | C6: 뉴라미스리도카인 | D6: P174533104211000000000174 | F6: 1 | G6: =VLOOKUP(H6,거래처ID!$C$2:$D$8,2,FALSE) -> #N/A | H6: cc | I6: 1 | J6: cc | K6: 45770 | L6: 00:00:00 | N6: C | O6: Y | P6: admin | R6: admin
A7: P174533104211000000000175 | B7: P202504220179 | C7: 뉴라미스볼륨 | D7: P174533104211000000000175 | F7: 1 | G7: =VLOOKUP(H7,거래처ID!$C$2:$D$8,2,FALSE) -> #N/A | H7: cc | I7: 1 | J7: cc | K7: 45770 | L7: 00:00:00 | N7: C | O7: Y | P7: admin | R7: admin
A8: P174533104211000000000176 | B8: P202504220180 | C8: 쥬비덤 볼벨라 | D8: P174533104211000000000176 | F8: 2 | G8: =VLOOKUP(H8,거래처ID!$C$2:$D$8,2,FALSE) -> #N/A | H8: cc | I8: 2 | J8: cc | K8: 45770 | L8: 00:00:00 | N8: C | O8: Y | P8: admin | R8: admin
A9: P174533104211000000000177 | B9: P202504220181 | C9: 쥬비덤 볼리프트 | D9: P174533104211000000000177 | F9: 2 | G9: =VLOOKUP(H9,거래처ID!$C$2:$D$8,2,FALSE) -> #N/A | H9: cc | I9: 2 | J9: cc | K9: 45770 | L9: 00:00:00 | N9: C | O9: Y | P9: admin | R9: admin
A10: P174533104211000000000178 | B10: P202504220182 | C10: 쥬비덤 볼루마 | D10: P174533104211000000000178 | F10: 2 | G10: =VLOOKUP(H10,거래처ID!$C$2:$D$8,2,FALSE) -> #N/A | H10: cc | I10: 2 | J10: cc | K10: 45770 | L10: 00:00:00 | N10: C | O10: Y | P10: admin | R10: admin
A11: P174533104211000000000179 | B11: P202504220183 | C11: 레스틸렌비탈 | D11: P174533104211000000000179 | F11: 1 | G11: =VLOOKUP(H11,거래처ID!$C$2:$D$8,2,FALSE) -> #N/A | H11: cc | I11: 1 | J11: cc | K11: 45770 | L11: 00:00:00 | N11: C | O11: Y | P11: admin | R11: admin
A12: P174533104211000000000180 | B12: P202504220184 | C12: 레스틸렌리파인 | D12: P174533104211000000000180 | F12: 1 | G12: =VLOOKUP(H12,거래처ID!$C$2:$D$8,2,FALSE) -> #N/A | H12: cc | I12: 1 | J12: cc | K12: 45770 | L12: 00:00:00 | N12: C | O12: Y | P12: admin | R12: admin
A13: P174533104211000000000181 | B13: P202504220185 | C13: 레스틸렌디파인 | D13: P174533104211000000000181 | F13: 1 | G13: =VLOOKUP(H13,거래처ID!$C$2:$D$8,2,FALSE) -> #N/A | H13: cc | I13: 1 | J13: cc | K13: 45770 | L13: 00:00:00 | N13: C | O13: Y | P13: admin | R13: admin
... A19: P174533104211000000000187 | B19: P202504220191 | C19: 벨로테로소프트(2) | D19: P174533104211000000000187 | F19: 1 | G19: =VLOOKUP(H19,거래처ID!$C$2:$D$8,2,FALSE) -> #N/A | H19: cc | I19: 1 | J19: cc | K19: 45770 | L19: 00:00:00 | N19: C | O19: Y | P19: admin | R19: admin
A20: P174533104211000000000188 | B20: P202504220192 | C20: 리즈톡신 | D20: P174533104211000000000188 | F20: 200 | G20: =VLOOKUP(H20,거래처ID!$C$2:$D$8,2,FALSE) -> #N/A | H20: unit | I20: 8 | J20: cc | K20: 45770 | L20: 00:00:00 | M20: 분말 200unit을 액체 8cc로 사용 | N20: C | O20: Y | P20: admin | R20: admin
A21: P174533104211000000000189 | B21: P202504220193 | C21: 코어톡스 | D21: P174533104211000000000189 | F21: 100 | G21: =VLOOKUP(H21,거래처ID!$C$2:$D$8,2,FALSE) -> #N/A | H21: unit | I21: 4 | J21: cc | K21: 45770 | L21: 00:00:00 | M21: 분말 100unit을 액체 4cc로 사용 | N21: C | O21: Y | P21: admin | R21: admin
A22: P174533104211000000000190 | B22: P202504220194 | C22: 제오민(1) | D22: P174533104211000000000190 | F22: 100 | G22: =VLOOKUP(H22,거래처ID!$C$2:$D$8,2,FALSE) -> #N/A | H22: unit | I22: 4 | J22: cc | K22: 45770 | L22: 00:00:00 | M22: 분말 100unit을 액체 4cc로 사용 | N22: C | O22: Y | P22: admin | R22: admin
A23: P174533104211000000000191 | B23: P202504220195 | C23: 제오민(2) | D23: P174533104211000000000191 | F23: 100 | G23: =VLOOKUP(H23,거래처ID!$C$2:$D$8,2,FALSE) -> #N/A | H23: unit | I23: 4 | J23: cc | K23: 45770 | L23: 00:00:00 | M23: 분말 100unit을 액체 4cc로 사용 | N23: C | O23: Y | P23: admin | R23: admin
A24: P174533104211000000000192 | B24: P202504220196 | C24: 리쥬란아이 | D24: P174533104211000000000192 | F24: 1 | G24: =VLOOKUP(H24,거래처ID!$C$2:$D$8,2,FALSE) -> #N/A | H24: cc | I24: 1 | J24: cc | K24: 45770 | L24: 00:00:00 | N24: C | O24: Y | P24: admin | R24: admin
A25: P174533104211000000000193 | B25: P202504220197 | C25: 리쥬란 | D25: P174533104211000000000193 | F25: 4 | G25: =VLOOKUP(H25,거래처ID!$C$2:$D$8,2,FALSE) -> #N/A | H25: cc | I25: 4 | J25: cc | K25: 45770 | L25: 00:00:00 | N25: C | O25: Y | P25: admin | R25: admin
A26: P174533104211000000000194 | B26: P202504220198 | C26: 리쥬란HB | D26: P174533104211000000000194 | F26: 1 | G26: =VLOOKUP(H26,거래처ID!$C$2:$D$8,2,FALSE) -> #N/A | H26: cc | I26: 1 | J26: cc | K26: 45770 | L26: 00:00:00 | N26: C | O26: Y | P26: admin | R26: admin
A27: P174533104211000000000195 | B27: P202504220199 | C27: 샤넬 | D27: P174533104211000000000195 | F27: 3 | G27: =VLOOKUP(H27,거래처ID!$C$2:$D$8,2,FALSE) -> #N/A | H27: cc | I27: 3 | J27: cc | K27: 45770 | L27: 00:00:00 | N27: C | O27: Y | P27: admin | R27: admin
A28: P174533104211000000000196 | B28: P202504220200 | C28: 쥬베룩(1) | D28: P174533104211000000000196 | F28: 8 | G28: =VLOOKUP(H28,거래처ID!$C$2:$D$8,2,FALSE) -> #N/A | H28: cc | I28: 8 | J28: cc | K28: 45770 | L28: 00:00:00 | N28: C | O28: Y | P28: admin | R28: admin
A29: P174533104211000000000197 | B29: P202504220201 | C29: 쥬베룩(2) | D29: P174533104211000000000197 | F29: 8 | G29: =VLOOKUP(H29,거래처ID!$C$2:$D$8,2,FALSE) -> #N/A | H29: cc | I29: 8 | J29: cc | K29: 45770 | L29: 00:00:00 | N29: C | O29: Y | P29: admin | R29: admin
A30: P174533104211000000000198 | B30: P202504220202 | C30: 하이주 | D30: P174533104211000000000198 | F30: 6 | G30: =VLOOKUP(H30,거래처ID!$C$2:$D$8,2,FALSE) -> #N/A | H30: cc | I30: 6 | J30: cc | K30: 45770 | L30: 00:00:00 | N30: C | O30: Y | P30: admin | R30: admin
A31: P174533104211000000000199 | B31: P202504220203 | C31: 하이코(4cm) | D31: P174533104211000000000199 | F31: 4 | G31: =VLOOKUP(H31,거래처ID!$C$2:$D$8,2,FALSE) -> #N/A | H31: ea | I31: 4 | J31: ea | K31: 45770 | L31: 00:00:00 | N31: C | O31: Y | P31: admin | R31: admin
A32: P174533104211000000000200 | B32: P202504220204 | C32: 메이드코(6cm) | D32: P174533104211000000000200 | F32: 4 | G32: =VLOOKUP(H32,거래처ID!$C$2:$D$8,2,FALSE) -> #N/A | H32: ea | I32: 4 | J32: ea | K32: 45770 | L32: 00:00:00 | N32: C | O32: Y | P32: admin | R32: admin
A33: P174533104211000000000201 | B33: P202504220205 | C33: 오메가 | D33: P174533104211000000000201 | F33: 2 | G33: =VLOOKUP(H33,거래처ID!$C$2:$D$8,2,FALSE) -> #N/A | H33: ea | I33: 2 | J33: ea | K33: 45770 | L33: 00:00:00 | N33: C | O33: Y | P33: admin | R33: admin
A34: P174533104211000000000202 | B34: P202504220206 | C34: 울트라V | D34: P174533104211000000000202 | F34: 10 | G34: =VLOOKUP(H34,거래처ID!$C$2:$D$8,2,FALSE) -> #N/A | H34: ea | I34: 10 | J34: ea | K34: 45770 | L34: 00:00:00 | N34: C | O34: Y | P34: admin | R34: admin
A35: P174533104211000000000203 | B35: P202504220207 | C35: 민트쁘띠 | D35: P174533104211000000000203 | F35: 4 | G35: =VLOOKUP(H35,거래처ID!$C$2:$D$8,2,FALSE) -> #N/A | H35: ea | I35: 4 | J35: ea | K35: 45770 | L35: 00:00:00 | N35: C | O35: Y | P35: admin | R35: admin
... A127: P174533104211000000000295 | B127: P202504220299 | C127: fcr리젠트론마스크 | D127: P174533104211000000000295 | F127: 1 | G127: =VLOOKUP(H127,거래처ID!$C$2:$D$8,2,FALSE) -> #N/A | H127: ea | I127: 1 | J127: ea | K127: 45770 | L127: 00:00:00 | N127: C | O127: Y | P127: admin | R127: admin

Sheet 거래처ID
B1: MU_COMPANY_ID | C1: COMPANY_NAME | D1: BUSINESS_NUMBER | E1: USER_NAME | F1: PHONE_NUMBER | G1: EMAIL | H1: MEMO | I1: WRITE_DATE | J1: WRITE_TIME | K1: REMARK | L1: CUD_FLAG | M1: USE_YN | N1: REG_ID | O1: REG_DATE | P1: MOD_ID | Q1: MOD_DATE | R1: T_ID | S1: T_DATE
A2: 휴젤 | B2: C173258871030100000000057 | C2: 휴젤 | D2: 확인필요 | E2: 이창기 | F2: 010-2869-0068 | H2: ㈜블루엠텍 | I2: 2025-04-23 | J2: 00:00:00 | L2: C | M2: Y | N2: admin | P2: admin
A3: (주)아프로메디온 | B3: C173258871030100000000058 | C3: (주)아프로메디온 | D3: - | E3: 박세호부장 | F3: 010-6411-0772 | I3: 2025-04-23 | J3: 00:00:00 | L3: C | M3: Y | N3: admin | P3: admin
A4: 유벤타헬스케어 | B4: C173258871030100000000059 | C4: 유벤타헬스케어 | D4: - | E4: - | F4: - | I4: 2025-04-23 | J4: 00:00:00 | L4: C | M4: Y | N4: admin | P4: admin
A5: 에스테팜 | B5: C173258871030100000000060 | C5: 에스테팜 | D5: - | E5: - | F5: - | I5: 2025-04-23 | J5: 00:00:00 | L5: C | M5: Y | N5: admin | P5: admin
A6: 제이시스 | B6: C173258871030100000000061 | C6: 제이시스 | D6: 424-87-00852 | E6: - | F6: - | I6: 2025-04-23 | J6: 00:00:00 | L6: C | M6: Y | N6: admin | P6: admin
A7: 은성메디컬 | B7: C173258871030100000000062 | C7: 은성메디컬 | D7: - | E7: - | F7: 010-5323-3196 | I7: 2025-04-23 | J7: 00:00:00 | L7: C | M7: Y | N7: admin | P7: admin
A8: 하이로닉 | B8: C173258871030100000000063 | C8: 하이로닉 | D8: - | E8: - | F8: - | I8: 2025-04-23 | J8: 00:00:00 | L8: C | M8: Y | N8: admin | P8: admin
A9: 에이치투메디 | B9: C173258871030100000000064 | C9: 에이치투메디 | D9: - | E9: - | F9: - | I9: 2025-04-23 | J9: 00:00:00 | L9: C | M9: Y | N9: admin | P9: admin
A10: 원진메디팜 | B10: C173258871030100000000065 | C10: 원진메디팜 | D10: - | E10: - | F10: - | I10: 2025-04-23 | J10: 00:00:00 | L10: C | M10: Y | N10: admin | P10: admin
A11: 더메스테릭스 | B11: C173258871030100000000066 | C11: 더메스테릭스 | D11: - | E11: - | F11: - | I11: 2025-04-23 | J11: 00:00:00 | L11: C | M11: Y | N11: admin | P11: admin
A12: 쎄라덤 | B12: C173258871030100000000067 | C12: 쎄라덤 | D12: - | E12: - | F12: - | I12: 2025-04-23 | J12: 00:00:00 | L12: C | M12: Y | N12: admin | P12: admin
A13: C&K | B13: C173258871030100000000068 | C13: C&K | D13: - | E13: - | F13: - | I13: 2025-04-23 | J13: 00:00:00 | L13: C | M13: Y | N13: admin | P13: admin
A14: 히스토랩 | B14: C173258871030100000000069 | C14: 히스토랩 | D14: - | E14: 성기문 팀장 | F14: 010-8502-1669 | I14: 2025-04-23 | J14: 00:00:00 | L14: C | M14: Y | N14: admin | P14: admin
... A17: 옥시젠 | B17: C173258871030100000000072 | C17: 옥시젠 | D17: - | E17: - | F17: - | I17: 2025-04-23 | J17: 00:00:00 | L17: C | M17: Y | N17: admin | P17: admin
A18: ㈜클래시스 | B18: C173258871030100000000039 | C18: ㈜클래시스
A19: ㈜휴메딕스 | B19: C173258871030100000000040 | C19: ㈜휴메딕스
A20: 뉴메코 | B20: C173258871030100000000041 | C20: 뉴메코
A21: 멀츠아시아퍼스픽피티이엘티디 | B21: C173258871030100000000042 | C21: 멀츠아시아퍼스픽피티이엘티디
A22: 한국애브비㈜ | B22: C173258871030100000000043 | C22: 한국애브비㈜
A23: 우노스킨 | B23: C173258871030100000000044 | C23: 우노스킨
A24: 한국싱클레어(유) | B24: C173258871030100000000045 | C24: 한국싱클레어(유)
A25: (주)한용팜 | B25: C173258871030100000000046 | C25: (주)한용팜
A26: 라윤코리아 | B26: C173258871030100000000047 | C26: 라윤코리아
A27: ㈜지오영 | B27: C173258871030100000000048 | C27: ㈜지오영
A28: 케어캠프㈜ | B28: C173258871030100000000049 | C28: 케어캠프㈜
A29: 민트메디컬㈜ | B29: C173258871030100000000050 | C29: 민트메디컬㈜
... A36: 메이드유의원 | B36: C174504737937400000000038 | C36: 메이드유의원
