Workbook

Sheet 25'03월
B3: 2025년 03월 재고 현황 | L3: 리즈톡신 | M3: 1 | N3: unit | O3: 8.8 | P3: cc
B4: 거래처 | I4: 진료구분 | J4: 구분 | L4: 제품명 | M4: 재고관리용량 | N4: 재고관리용량단위 | O4: 사용시 용량 | P4: 사용시 용량단위 | Q4: 이월 | T4: 입고 | W4: 실사용 | Z4: 과부족 | AC4: 실재 재고 | AF4: 사유
B5: 거래처명 | C5: 사업자번호 | D5: 담당자명 | E5: 연락처 | F5: 이메일 | G5: 거래처 메모 | H5: 재고구분ID | Q5: 단가 | R5: 수량 | S5: 금액 | T5: 단가 | U5: 수량 | V5: 입고금액 | W5: 단가 | X5: 수량 | Y5: 사용금액 | Z5: 단가 | AA5: 수량 | AB5: 사용금액 | AC5: 단가 | AD5: 수량 | AE5: 재고금액
A6: =VLOOKUP(B6,거래처ID!$A$2:$B$36,2,FALSE) -> C173258871030100000000057 | B6: 휴젤 | C6: 확인필요 | D6: 이창기 | E6: 010-2869-0068 | G6: ㈜블루엠텍 | H6: =VLOOKUP(I6,Sheet1!$A$1:$B$5,2,FALSE) -> C1713152686736000000047 | I6: 쁘띠 | J6: 필러 | K6: =VLOOKUP(L6,PRODUCTID!C2:D127,2,FALSE) -> P174533104211000000000170 | L6: 채움프리미엄 1 | M6: 2 | N6: cc | O6: 1 | P6: cc | Q6: 18000 | R6: 16 | S6: =+Q6*R6 -> 288000 | T6: 18000 | U6: -6 | V6: =+T6*U6 -> -108000 | W6: 18000 | X6: 11 | Y6: =+W6*X6 -> 198000 | AA6: 1 | AB6: =+Z6*AA6 -> 0 | AC6: =+Q6 -> 18000 | AD6: =+R6+U6-X6+AA6 -> 0 | AE6: =+AC6*AD6 -> 0 | AF6: 시술 축소로 일부 제고 반품 | AG6: ="UPDATE MU_PRODUCT SET MU_TREATMENT_ID = '" & H6 & "' WHERE MU_PRODUCT_ID = '" & K6 & "';" -> UPDATE MU_PRODUCT SET MU_TREATMENT_ID = 'C1713152686736000000047' WHERE MU_PRODUCT_ID = 'P174533104211000000000170';
A7: =VLOOKUP(B7,거래처ID!$A$2:$B$36,2,FALSE) -> C173258871030100000000057 | B7: 휴젤 | C7: 확인필요 | D7: 이창기 | E7: 010-2869-0068 | H7: =VLOOKUP(I7,Sheet1!$A$1:$B$5,2,FALSE) -> C1713152686736000000047 | I7: 쁘띠 | J7: 필러 | K7: =VLOOKUP(L7,PRODUCTID!C3:D128,2,FALSE) -> P174533104211000000000171 | L7: 체움프리미엄 2 | M7: 2 | N7: cc | O7: 1 | P7: cc | Q7: 18000 | R7: 23 | S7: =+Q7*R7 -> 414000 | T7: 18000 | U7: -10 | V7: =+T7*U7 -> -180000 | W7: 18000 | X7: 14 | Y7: =+W7*X7 -> 252000 | AA7: 1 | AB7: =+Z7*AA7 -> 0 | AC7: =+Q7 -> 18000 | AD7: =+R7+U7-X7+AA7 -> 0 | AE7: =+AC7*AD7 -> 0 | AF7: 시술 축소로 일부 제고 반품 | AG7: ="UPDATE MU_PRODUCT SET MU_TREATMENT_ID = '" & H7 & "' WHERE MU_PRODUCT_ID = '" & K7 & "';" -> UPDATE MU_PRODUCT SET MU_TREATMENT_ID = 'C1713152686736000000047' WHERE MU_PRODUCT_ID = 'P174533104211000000000171';
A8: =VLOOKUP(B8,거래처ID!$A$2:$B$36,2,FALSE) -> C173258871030100000000057 | B8: 휴젤 | C8: 확인필요 | D8: 이창기 | E8: 010-2869-0068 | H8: =VLOOKUP(I8,Sheet1!$A$1:$B$5,2,FALSE) -> C1713152686736000000047 | I8: 쁘띠 | J8: 필러 | K8: =VLOOKUP(L8,PRODUCTID!C4:D129,2,FALSE) -> P174533104211000000000172 | L8: 채움프리미엄 3 | M8: 2 | N8: cc | O8: 1 | P8: cc | Q8: 18000 | R8: 25 | S8: =+Q8*R8 -> 450000 | T8: 18000 | U8: -10 | V8: =+T8*U8 -> -180000 | W8: 18000 | X8: 11 | Y8: =+W8*X8 -> 198000 | AA8: 0 | AB8: =+Z8*AA8 -> 0 | AC8: =+Q8 -> 18000 | AD8: =+R8+U8-X8+AA8 -> 4 | AE8: =+AC8*AD8 -> 72000 | AF8: 시술 축소로 일부 제고 반품 | AG8: ="UPDATE MU_PRODUCT SET MU_TREATMENT_ID = '" & H8 & "' WHERE MU_PRODUCT_ID = '" & K8 & "';" -> UPDATE MU_PRODUCT SET MU_TREATMENT_ID = 'C1713152686736000000047' WHERE MU_PRODUCT_ID = 'P174533104211000000000172';
A9: =VLOOKUP(B9,거래처ID!$A$2:$B$36,2,FALSE) -> C173258871030100000000041 | B9: 뉴메코 | C9: 264-81-13092 | D9: 윤진섭과장 | E9: 010-4757-0391 | H9: =VLOOKUP(I9,Sheet1!$A$1:$B$5,2,FALSE) -> C1713152686736000000047 | I9: 쁘띠 | J9: 필러 | K9: =VLOOKUP(L9,PRODUCTID!C5:D130,2,FALSE) -> P174533104211000000000173 | L9: 뉴라미스라이트 | M9: 1 | N9: cc | O9: 1 | P9: cc | Q9: 14000 | R9: 24 | S9: =+Q9*R9 -> 336000 | V9: =+T9*U9 -> 0 | W9: 14000 | X9: 1 | Y9: =+W9*X9 -> 14000 | AA9: 0 | AB9: =+Z9*AA9 -> 0 | AC9: =+Q9 -> 14000 | AD9: =+R9+U9-X9+AA9 -> 23 | AE9: =+AC9*AD9 -> 322000 | AG9: ="UPDATE MU_PRODUCT SET MU_TREATMENT_ID = '" & H9 & "' WHERE MU_PRODUCT_ID = '" & K9 & "';" -> UPDATE MU_PRODUCT SET MU_TREATMENT_ID = 'C1713152686736000000047' WHERE MU_PRODUCT_ID = 'P174533104211000000000173';
A10: =VLOOKUP(B10,거래처ID!$A$2:$B$36,2,FALSE) -> C173258871030100000000041 | B10: 뉴메코 | C10: 264-81-13092 | D10: 윤진섭과장 | E10: 010-4757-0391 | H10: =VLOOKUP(I10,Sheet1!$A$1:$B$5,2,FALSE) -> C1713152686736000000047 | I10: 쁘띠 | J10: 필러 | K10: =VLOOKUP(L10,PRODUCTID!C6:D131,2,FALSE) -> P174533104211000000000174 | L10: 뉴라미스리도카인 | M10: 1 | N10: cc | O10: 1 | P10: cc | Q10: 18000 | R10: 20 | S10: =+Q10*R10 -> 360000 | V10: =+T10*U10 -> 0 | W10: 18000 | X10: 2 | Y10: =+W10*X10 -> 36000 | AA10: 1 | AB10: =+Z10*AA10 -> 0 | AC10: =+Q10 -> 18000 | AD10: =+R10+U10-X10+AA10 -> 19 | AE10: =+AC10*AD10 -> 342000 | AG10: ="UPDATE MU_PRODUCT SET MU_TREATMENT_ID = '" & H10 & "' WHERE MU_PRODUCT_ID = '" & K10 & "';" -> UPDATE MU_PRODUCT SET MU_TREATMENT_ID = 'C1713152686736000000047' WHERE MU_PRODUCT_ID = 'P174533104211000000000174';
A11: =VLOOKUP(B11,거래처ID!$A$2:$B$36,2,FALSE) -> C173258871030100000000041 | B11: 뉴메코 | C11: 264-81-13092 | D11: 윤진섭과장 | E11: 010-4757-0391 | H11: =VLOOKUP(I11,Sheet1!$A$1:$B$5,2,FALSE) -> C1713152686736000000047 | I11: 쁘띠 | J11: 필러 | K11: =VLOOKUP(L11,PRODUCTID!C7:D132,2,FALSE) -> P174533104211000000000175 | L11: 뉴라미스볼륨 | M11: 1 | N11: cc | O11: 1 | P11: cc | Q11: 18000 | R11: 11 | S11: =+Q11*R11 -> 198000 | V11: =+T11*U11 -> 0 | W11: 18000 | X11: 1 | Y11: =+W11*X11 -> 18000 | AA11: 0 | AB11: =+Z11*AA11 -> 0 | AC11: =+Q11 -> 18000 | AD11: =+R11+U11-X11+AA11 -> 10 | AE11: =+AC11*AD11 -> 180000 | AG11: ="UPDATE MU_PRODUCT SET MU_TREATMENT_ID = '" & H11 & "' WHERE MU_PRODUCT_ID = '" & K11 & "';" -> UPDATE MU_PRODUCT SET MU_TREATMENT_ID = 'C1713152686736000000047' WHERE MU_PRODUCT_ID = 'P174533104211000000000175';
A12: =VLOOKUP(B12,거래처ID!$A$2:$B$36,2,FALSE) -> C173258871030100000000043 | B12: 한국애브비㈜ | C12: 120-87-80221 | D12: 김주현차장 | E12: 010-4097-2589 | H12: =VLOOKUP(I12,Sheet1!$A$1:$B$5,2,FALSE) -> C1713152686736000000047 | I12: 쁘띠 | J12: 필러 | K12: =VLOOKUP(L12,PRODUCTID!C8:D133,2,FALSE) -> P174533104211000000000176 | L12: 쥬비덤 볼벨라 | M12: 2 | N12: cc | O12: 1 | P12: cc | Q12: 130164 | R12: 18 | S12: =+Q12*R12 -> 2342952 | T12: 130164 | U12: 20 | V12: =+T12*U12 -> 2603280 | W12: 130164 | X12: 21 | Y12: =+W12*X12 -> 2733444 | AA12: 6 | AB12: =+Z12*AA12 -> 0 | AC12: =+Q12 -> 130164 | AD12: =+R12+U12-X12+AA12 -> 23 | AE12: =+AC12*AD12 -> 2993772 | AG12: ="UPDATE MU_PRODUCT SET MU_TREATMENT_ID = '" & H12 & "' WHERE MU_PRODUCT_ID = '" & K12 & "';" -> UPDATE MU_PRODUCT SET MU_TREATMENT_ID = 'C1713152686736000000047' WHERE MU_PRODUCT_ID = 'P174533104211000000000176';
A13: =VLOOKUP(B13,거래처ID!$A$2:$B$36,2,FALSE) -> C173258871030100000000043 | B13: 한국애브비㈜ | C13: 120-87-80221 | D13: 김주현차장 | E13: 010-4097-2589 | H13: =VLOOKUP(I13,Sheet1!$A$1:$B$5,2,FALSE) -> C1713152686736000000047 | I13: 쁘띠 | J13: 필러 | K13: =VLOOKUP(L13,PRODUCTID!C9:D134,2,FALSE) -> P174533104211000000000177 | L13: 쥬비덤 볼리프트 | M13: 2 | N13: cc | O13: 1 | P13: cc | Q13: 130164.1 | R13: 27 | S13: =+Q13*R13 -> 3514430.7 | T13: 130164 | U13: 20 | V13: =+T13*U13 -> 2603280 | W13: 130164 | X13: 19 | Y13: =+W13*X13 -> 2473116 | AA13: 1 | AB13: =+Z13*AA13 -> 0 | AC13: =+Q13 -> 130164.1 | AD13: =+R13+U13-X13+AA13 -> 29 | AE13: =+AC13*AD13 -> 3774758.9 | AG13: ="UPDATE MU_PRODUCT SET MU_TREATMENT_ID = '" & H13 & "' WHERE MU_PRODUCT_ID = '" & K13 & "';" -> UPDATE MU_PRODUCT SET MU_TREATMENT_ID = 'C1713152686736000000047' WHERE MU_PRODUCT_ID = 'P174533104211000000000177';
A14: =VLOOKUP(B14,거래처ID!$A$2:$B$36,2,FALSE) -> C173258871030100000000043 | B14: 한국애브비㈜ | C14: 120-87-80221 | D14: 김주현차장 | E14: 010-4097-2589 | H14: =VLOOKUP(I14,Sheet1!$A$1:$B$5,2,FALSE) -> C1713152686736000000047 | I14: 쁘띠 | J14: 필러 | K14: =VLOOKUP(L14,PRODUCTID!C10:D135,2,FALSE) -> P174533104211000000000178 | L14: 쥬비덤 볼루마 | M14: 2 | N14: cc | O14: 1 | P14: cc | Q14: 130164 | R14: 36 | S14: =+Q14*R14 -> 4685904 | V14: =+T14*U14 -> 0 | W14: 130164 | X14: 5 | Y14: =+W14*X14 -> 650820 | AA14: 1 | AB14: =+Z14*AA14 -> 0 | AC14: =+Q14 -> 130164 | AD14: =+R14+U14-X14+AA14 -> 32 | AE14: =+AC14*AD14 -> 4165248 | AG14: ="UPDATE MU_PRODUCT SET MU_TREATMENT_ID = '" & H14 & "' WHERE MU_PRODUCT_ID = '" & K14 & "';" -> UPDATE MU_PRODUCT SET MU_TREATMENT_ID = 'C1713152686736000000047' WHERE MU_PRODUCT_ID = 'P174533104211000000000178';
A15: =VLOOKUP(B15,거래처ID!$A$2:$B$36,2,FALSE) -> C173258871030100000000044 | B15: 우노스킨 | C15: 128-36-45769 | D15: 한수정 | E15: 010-4787-5735 | H15: =VLOOKUP(I15,Sheet1!$A$1:$B$5,2,FALSE) -> C1713152686736000000047 | I15: 쁘띠 | J15: 필러 | K15: =VLOOKUP(L15,PRODUCTID!C11:D136,2,FALSE) -> P174533104211000000000179 | L15: 레스틸렌비탈 | M15: 1 | N15: cc | O15: 1 | P15: cc | Q15: 115500 | R15: 9 | S15: =+Q15*R15 -> 1039500 | V15: =+T15*U15 -> 0 | W15: 115500 | X15: 1 | Y15: =+W15*X15 -> 115500 | AA15: 9 | AB15: =+Z15*AA15 -> 0 | AC15: =+Q15 -> 115500 | AD15: =+R15+U15-X15+AA15 -> 17 | AE15: =+AC15*AD15 -> 1963500 | AF15: 유통기한 폐기 교환 | AG15: ="UPDATE MU_PRODUCT SET MU_TREATMENT_ID = '" & H15 & "' WHERE MU_PRODUCT_ID = '" & K15 & "';" -> UPDATE MU_PRODUCT SET MU_TREATMENT_ID = 'C1713152686736000000047' WHERE MU_PRODUCT_ID = 'P174533104211000000000179';
A16: =VLOOKUP(B16,거래처ID!$A$2:$B$36,2,FALSE) -> C173258871030100000000044 | B16: 우노스킨 | C16: 128-36-45769 | D16: 한수정 | E16: 010-4787-5735 | H16: =VLOOKUP(I16,Sheet1!$A$1:$B$5,2,FALSE) -> C1713152686736000000047 | I16: 쁘띠 | J16: 필러 | K16: =VLOOKUP(L16,PRODUCTID!C12:D137,2,FALSE) -> P174533104211000000000180 | L16: 레스틸렌리파인 | M16: 1 | N16: cc | O16: 1 | P16: cc | Q16: 110000 | R16: 18 | S16: =+Q16*R16 -> 1980000 | V16: =+T16*U16 -> 0 | W16: 110000 | X16: 0 | Y16: =+W16*X16 -> 0 | AA16: 7 | AB16: =+Z16*AA16 -> 0 | AC16: =+Q16 -> 110000 | AD16: =+R16+U16-X16+AA16 -> 25 | AE16: =+AC16*AD16 -> 2750000 | AF16: 유통기한 폐기 교환 | AG16: ="UPDATE MU_PRODUCT SET MU_TREATMENT_ID = '" & H16 & "' WHERE MU_PRODUCT_ID = '" & K16 & "';" -> UPDATE MU_PRODUCT SET MU_TREATMENT_ID = 'C1713152686736000000047' WHERE MU_PRODUCT_ID = 'P174533104211000000000180';
A17: =VLOOKUP(B17,거래처ID!$A$2:$B$36,2,FALSE) -> C173258871030100000000044 | B17: 우노스킨 | C17: 128-36-45769 | D17: 한수정 | E17: 010-4787-5735 | H17: =VLOOKUP(I17,Sheet1!$A$1:$B$5,2,FALSE) -> C1713152686736000000047 | I17: 쁘띠 | J17: 필러 | K17: =VLOOKUP(L17,PRODUCTID!C13:D138,2,FALSE) -> P174533104211000000000181 | L17: 레스틸렌디파인 | M17: 1 | N17: cc | O17: 1 | P17: cc | Q17: 110000 | R17: 15 | S17: =+Q17*R17 -> 1650000 | V17: =+T17*U17 -> 0 | W17: 110000 | X17: 4 | Y17: =+W17*X17 -> 440000 | AA17: 1 | AB17: =+Z17*AA17 -> 0 | AC17: =+Q17 -> 110000 | AD17: =+R17+U17-X17+AA17 -> 12 | AE17: =+AC17*AD17 -> 1320000 | AF17: 불량 교환 | AG17: ="UPDATE MU_PRODUCT SET MU_TREATMENT_ID = '" & H17 & "' WHERE MU_PRODUCT_ID = '" & K17 & "';" -> UPDATE MU_PRODUCT SET MU_TREATMENT_ID = 'C1713152686736000000047' WHERE MU_PRODUCT_ID = 'P174533104211000000000181';
A18: =VLOOKUP(B18,거래처ID!$A$2:$B$36,2,FALSE) -> C173258871030100000000045 | B18: 한국싱클레어(유) | C18: 530-87-00797 | D18: 확인필요 | E18: 010-8837-7677 | H18: =VLOOKUP(I18,Sheet1!$A$1:$B$5,2,FALSE) -> C1713152686736000000047 | I18: 쁘띠 | J18: 필러 | K18: =VLOOKUP(L18,PRODUCTID!C14:D139,2,FALSE) -> P174533104211000000000182 | L18: 엘란쎄M(1) | M18: 2 | N18: cc | O18: 1 | P18: cc | Q18: 211747 | R18: 32 | S18: =+Q18*R18 -> 6775904 | V18: =+T18*U18 -> 0 | W18: 211747 | X18: 19.8 | Y18: =+W18*X18 -> 4192590.6 | AA18: -1 | AB18: =+Z18*AA18 -> 0 | AC18: =+Q18 -> 211747 | AD18: =+R18+U18-X18+AA18 -> 11.2 | AE18: =+AC18*AD18 -> 2371566.4 | AF18: 믹스 폐기 | AG18: ="UPDATE MU_PRODUCT SET MU_TREATMENT_ID = '" & H18 & "' WHERE MU_PRODUCT_ID = '" & K18 & "';" -> UPDATE MU_PRODUCT SET MU_TREATMENT_ID = 'C1713152686736000000047' WHERE MU_PRODUCT_ID = 'P174533104211000000000182';
A19: =VLOOKUP(B19,거래처ID!$A$2:$B$36,2,FALSE) -> C173258871030100000000045 | B19: 한국싱클레어(유) | C19: 530-87-00797 | D19: 확인필요 | E19: 010-8837-7677 | H19: =VLOOKUP(I19,Sheet1!$A$1:$B$5,2,FALSE) -> C1713152686736000000047 | I19: 쁘띠 | J19: 필러 | K19: =VLOOKUP(L19,PRODUCTID!C15:D140,2,FALSE) -> P174533104211000000000183 | L19: 엘란쎄M(2) | M19: 2 | N19: cc | O19: 1 | P19: cc | Q19: 211612.52 | R19: 120 | S19: =+Q19*R19 -> 25393502 | V19: =+T19*U19 -> 0 | W19: 211613 | X19: 0 | Y19: =+W19*X19 -> 0 | AA19: 0 | AB19: =+Z19*AA19 -> 0 | AC19: =+Q19 -> 211612.52 | AD19: =+R19+U19-X19+AA19 -> 120 | AE19: =+AC19*AD19 -> 25393502 | AG19: ="UPDATE MU_PRODUCT SET MU_TREATMENT_ID = '" & H19 & "' WHERE MU_PRODUCT_ID = '" & K19 & "';" -> UPDATE MU_PRODUCT SET MU_TREATMENT_ID = 'C1713152686736000000047' WHERE MU_PRODUCT_ID = 'P174533104211000000000183';
A20: =VLOOKUP(B20,거래처ID!$A$2:$B$36,2,FALSE) -> C173258871030100000000046 | B20: (주)한용팜 | C20: 214-87-99253 | D20: 한수정 | E20: 010-4787-5735 | H20: =VLOOKUP(I20,Sheet1!$A$1:$B$5,2,FALSE) -> C1713152686736000000047 | I20: 쁘띠 | J20: 필러 | K20: =VLOOKUP(L20,PRODUCTID!C16:D141,2,FALSE) -> P174533104211000000000184 | L20: 스컬트라 | M20: 10 | N20: cc | O20: 1 | P20: cc | Q20: 242000 | R20: 40 | S20: =+Q20*R20 -> 9680000 | T20: 242000 | U20: 50 | V20: =+T20*U20 -> 12100000 | W20: 242000 | X20: 31.8 | Y20: =+W20*X20 -> 7695600 | AA20: 4 | AB20: =+Z20*AA20 -> 0 | AC20: =+Q20 -> 242000 | AD20: =+R20+U20-X20+AA20 -> 62.2 | AE20: =+AC20*AD20 -> 15052400 | AG20: ="UPDATE MU_PRODUCT SET MU_TREATMENT_ID = '" & H20 & "' WHERE MU_PRODUCT_ID = '" & K20 & "';" -> UPDATE MU_PRODUCT SET MU_TREATMENT_ID = 'C1713152686736000000047' WHERE MU_PRODUCT_ID = 'P174533104211000000000184';
A21: =VLOOKUP(B21,거래처ID!$A$2:$B$36,2,FALSE) -> C173258871030100000000052 | B21: 바임글로벌 | C21: 757-87-01595 | D21: 조봉근대리 | E21: 010-3033-0729 | H21: =VLOOKUP(I21,Sheet1!$A$1:$B$5,2,FALSE) -> C1713152686736000000047 | I21: 쁘띠 | J21: 필러 | K21: =VLOOKUP(L21,PRODUCTID!C17:D142,2,FALSE) -> P174533104211000000000185 | L21: 쥬베룩볼륨 | M21: 9 | N21: cc | O21: 1 | P21: cc | Q21: 110000 | R21: 12 | S21: =+Q21*R21 -> 1320000 | V21: =+T21*U21 -> 0 | W21: 110000 | X21: 3.13 | Y21: =+W21*X21 -> 344300 | AA21: 0.1 | AB21: =+Z21*AA21 -> 0 | AC21: =+Q21 -> 110000 | AD21: =+R21+U21-X21+AA21 -> 8.97 | AE21: =+AC21*AD21 -> 986700 | AG21: ="UPDATE MU_PRODUCT SET MU_TREATMENT_ID = '" & H21 & "' WHERE MU_PRODUCT_ID = '" & K21 & "';" -> UPDATE MU_PRODUCT SET MU_TREATMENT_ID = 'C1713152686736000000047' WHERE MU_PRODUCT_ID = 'P174533104211000000000185';
A22: =VLOOKUP(B22,거래처ID!$A$2:$B$36,2,FALSE) -> C173258871030100000000042 | B22: 멀츠아시아퍼스픽피티이엘티디 | C22: 211-84-10660 | D22: 최진성 | E22: 010-2942-0907 | H22: =VLOOKUP(I22,Sheet1!$A$1:$B$5,2,FALSE) -> C1713152686736000000047 | I22: 쁘띠 | J22: 필러 | K22: =VLOOKUP(L22,PRODUCTID!C18:D143,2,FALSE) -> P174533104211000000000186 | L22: 벨로테로소프트(1) | M22: 1 | N22: cc | O22: 1 | P22: cc | Q22: 91000 | R22: 55 | S22: =+Q22*R22 -> 5005000 | V22: =+T22*U22 -> 0 | W22: 91000 | X22: 7 | Y22: =+W22*X22 -> 637000 | AA22: 2 | AB22: =+Z22*AA22 -> 0 | AC22: =+Q22 -> 91000 | AD22: =+R22+U22-X22+AA22 -> 50 | AE22: =+AC22*AD22 -> 4550000 | AG22: ="UPDATE MU_PRODUCT SET MU_TREATMENT_ID = '" & H22 & "' WHERE MU_PRODUCT_ID = '" & K22 & "';" -> UPDATE MU_PRODUCT SET MU_TREATMENT_ID = 'C1713152686736000000047' WHERE MU_PRODUCT_ID = 'P174533104211000000000186';
A23: =VLOOKUP(B23,거래처ID!$A$2:$B$36,2,FALSE) -> C173258871030100000000042 | B23: 멀츠아시아퍼스픽피티이엘티디 | C23: 211-84-10660 | D23: 최진성 | E23: 010-2942-0907 | H23: =VLOOKUP(I23,Sheet1!$A$1:$B$5,2,FALSE) -> C1713152686736000000047 | I23: 쁘띠 | J23: 필러 | K23: =VLOOKUP(L23,PRODUCTID!C19:D144,2,FALSE) -> P174533104211000000000187 | L23: 벨로테로소프트(2) | M23: 1 | N23: cc | O23: 1 | P23: cc | Q23: 82727 | R23: 3 | S23: =+Q23*R23 -> 248181 | V23: =+T23*U23 -> 0 | W23: 82727 | X23: 3 | Y23: =+W23*X23 -> 248181 | AA23: 0 | AB23: =+Z23*AA23 -> 0 | AC23: =+Q23 -> 82727 | AD23: =+R23+U23-X23+AA23 -> 0 | AE23: =+AC23*AD23 -> 0 | AG23: ="UPDATE MU_PRODUCT SET MU_TREATMENT_ID = '" & H23 & "' WHERE MU_PRODUCT_ID = '" & K23 & "';" -> UPDATE MU_PRODUCT SET MU_TREATMENT_ID = 'C1713152686736000000047' WHERE MU_PRODUCT_ID = 'P174533104211000000000187';
A24: =VLOOKUP(B24,거래처ID!$A$2:$B$36,2,FALSE) -> C173258871030100000000040 | B24: ㈜휴메딕스 | C24: 204-81-76343 | D24: 김정국차장 | E24: 010-8824-5615 | H24: =VLOOKUP(I24,Sheet1!$A$1:$B$5,2,FALSE) -> C1713152686736000000047 | I24: 쁘띠 | J24: 보톡스 | K24: =VLOOKUP(L24,PRODUCTID!C20:D145,2,FALSE) -> P174533104211000000000188 | L24: 리즈톡신 | M24: 200 | N24: unit | O24: 8 | P24: cc | Q24: 25000 | R24: 54 | S24: =+Q24*R24 -> 1350000 | T24: 25000 | U24: 50 | V24: =+T24*U24 -> 1250000 | W24: 25000 | X24: 43.32 | Y24: =+W24*X24 -> 1083000 | AA24: 2.3 | AB24: =+Z24*AA24 -> 0 | AC24: =+Q24 -> 25000 | AD24: =+R24+U24-X24+AA24 -> 62.98 | AE24: =+AC24*AD24 -> 1574500 | AG24: ="UPDATE MU_PRODUCT SET MU_TREATMENT_ID = '" & H24 & "' WHERE MU_PRODUCT_ID = '" & K24 & "';" -> UPDATE MU_PRODUCT SET MU_TREATMENT_ID = 'C1713152686736000000047' WHERE MU_PRODUCT_ID = 'P174533104211000000000188';
A25: =VLOOKUP(B25,거래처ID!$A$2:$B$36,2,FALSE) -> C173258871030100000000041 | B25: 뉴메코 | C25: 264-81-13092 | D25: 윤진섭과장 | E25: 010-4757-0391 | H25: =VLOOKUP(I25,Sheet1!$A$1:$B$5,2,FALSE) -> C1713152686736000000047 | I25: 쁘띠 | J25: 보톡스 | K25: =VLOOKUP(L25,PRODUCTID!C21:D146,2,FALSE) -> P174533104211000000000189 | L25: 코어톡스 | M25: 100 | N25: unit | O25: 4 | P25: cc | Q25: 33000 | R25: 37 | S25: =+Q25*R25 -> 1221000 | T25: 33000 | U25: 50 | V25: =+T25*U25 -> 1650000 | W25: 33000 | X25: 53.79 | Y25: =+W25*X25 -> 1775070 | AA25: 5.8 | AB25: =+Z25*AA25 -> 0 | AC25: =+Q25 -> 33000 | AD25: =+R25+U25-X25+AA25 -> 39.01 | AE25: =+AC25*AD25 -> 1287330 | AG25: ="UPDATE MU_PRODUCT SET MU_TREATMENT_ID = '" & H25 & "' WHERE MU_PRODUCT_ID = '" & K25 & "';" -> UPDATE MU_PRODUCT SET MU_TREATMENT_ID = 'C1713152686736000000047' WHERE MU_PRODUCT_ID = 'P174533104211000000000189';
A26: =VLOOKUP(B26,거래처ID!$A$2:$B$36,2,FALSE) -> C173258871030100000000042 | B26: 멀츠아시아퍼스픽피티이엘티디 | C26: 211-84-10660 | D26: 최진성 | E26: 010-2942-0907 | H26: =VLOOKUP(I26,Sheet1!$A$1:$B$5,2,FALSE) -> C1713152686736000000047 | I26: 쁘띠 | J26: 보톡스 | K26: =VLOOKUP(L26,PRODUCTID!C22:D147,2,FALSE) -> P174533104211000000000190 | L26: 제오민(1) | M26: 100 | N26: unit | O26: 4 | P26: cc | Q26: 110000 | R26: 13 | S26: =+Q26*R26 -> 1430000 | V26: =+T26*U26 -> 0 | W26: 110000 | X26: 13 | Y26: =+W26*X26 -> 1430000 | AA26: 0 | AB26: =+Z26*AA26 -> 0 | AC26: =+Q26 -> 110000 | AD26: =+R26+U26-X26+AA26 -> 0 | AE26: =+AC26*AD26 -> 0 | AG26: ="UPDATE MU_PRODUCT SET MU_TREATMENT_ID = '" & H26 & "' WHERE MU_PRODUCT_ID = '" & K26 & "';" -> UPDATE MU_PRODUCT SET MU_TREATMENT_ID = 'C1713152686736000000047' WHERE MU_PRODUCT_ID = 'P174533104211000000000190';
A27: =VLOOKUP(B27,거래처ID!$A$2:$B$36,2,FALSE) -> C173258871030100000000042 | B27: 멀츠아시아퍼스픽피티이엘티디 | C27: 211-84-10660 | D27: 최진성 | E27: 010-2942-0907 | H27: =VLOOKUP(I27,Sheet1!$A$1:$B$5,2,FALSE) -> C1713152686736000000047 | I27: 쁘띠 | J27: 보톡스 | K27: =VLOOKUP(L27,PRODUCTID!C23:D148,2,FALSE) -> P174533104211000000000191 | L27: 제오민(2) | M27: 100 | N27: unit | O27: 4 | P27: cc | Q27: 120000 | R27: 30 | S27: =+Q27*R27 -> 3600000 | T27: 120000 | U27: 5 | V27: =+T27*U27 -> 600000 | W27: 120000 | X27: 33.53 | Y27: =+W27*X27 -> 4023600 | AA27: 2.5 | AC27: =+Q27 -> 120000 | AD27: =+R27+U27-X27+AA27 -> 3.97 | AE27: =+AC27*AD27 -> 476400 | AG27: ="UPDATE MU_PRODUCT SET MU_TREATMENT_ID = '" & H27 & "' WHERE MU_PRODUCT_ID = '" & K27 & "';" -> UPDATE MU_PRODUCT SET MU_TREATMENT_ID = 'C1713152686736000000047' WHERE MU_PRODUCT_ID = 'P174533104211000000000191';
A28: =VLOOKUP(B28,거래처ID!$A$2:$B$36,2,FALSE) -> C173258871030100000000051 | B28: 파마리서치 | C28: 220-86-07450 | D28: 장형곤 | E28: 010-4117-6855 | H28: =VLOOKUP(I28,Sheet1!$A$1:$B$5,2,FALSE) -> C1713152686736000000047 | I28: 쁘띠 | J28: 스킨부스터 | K28: =VLOOKUP(L28,PRODUCTID!C24:D149,2,FALSE) -> P174533104211000000000192 | L28: 리쥬란아이 | M28: 1 | N28: cc | O28: 1 | P28: cc | Q28: 52923 | R28: 25 | S28: =+Q28*R28 -> 1323075 | T28: 52923.2 | U28: 50 | V28: =+T28*U28 -> 2646160 | W28: 52923 | X28: 39 | Y28: =+W28*X28 -> 2063997 | AA28: 0 | AB28: =+Z28*AA28 -> 0 | AC28: =+Q28 -> 52923 | AD28: =+R28+U28-X28+AA28 -> 36 | AE28: =+AC28*AD28 -> 1905228 | AG28: ="UPDATE MU_PRODUCT SET MU_TREATMENT_ID = '" & H28 & "' WHERE MU_PRODUCT_ID = '" & K28 & "';" -> UPDATE MU_PRODUCT SET MU_TREATMENT_ID = 'C1713152686736000000047' WHERE MU_PRODUCT_ID = 'P174533104211000000000192';
A29: =VLOOKUP(B29,거래처ID!$A$2:$B$36,2,FALSE) -> C173258871030100000000051 | B29: 파마리서치 | C29: 220-86-07450 | D29: 장형곤 | E29: 010-4117-6855 | H29: =VLOOKUP(I29,Sheet1!$A$1:$B$5,2,FALSE) -> C1713152686736000000047 | I29: 쁘띠 | J29: 스킨부스터 | K29: =VLOOKUP(L29,PRODUCTID!C25:D150,2,FALSE) -> P174533104211000000000193 | L29: 리쥬란 | M29: 4 | N29: cc | O29: 2 | P29: cc | Q29: 94430 | R29: 126 | S29: =+Q29*R29 -> 11898180 | T29: 94429.5 | U29: 100 | V29: =+T29*U29 -> 9442950 | W29: 94430 | X29: 109 | Y29: =+W29*X29 -> 10292870 | AA29: 0 | AB29: =+Z29*AA29 -> 0 | AC29: =+Q29 -> 94430 | AD29: =+R29+U29-X29+AA29 -> 117 | AE29: =+AC29*AD29 -> 11048310 | AG29: ="UPDATE MU_PRODUCT SET MU_TREATMENT_ID = '" & H29 & "' WHERE MU_PRODUCT_ID = '" & K29 & "';" -> UPDATE MU_PRODUCT SET MU_TREATMENT_ID = 'C1713152686736000000047' WHERE MU_PRODUCT_ID = 'P174533104211000000000193';
A30: =VLOOKUP(B30,거래처ID!$A$2:$B$36,2,FALSE) -> C173258871030100000000051 | B30: 파마리서치 | C30: 220-86-07450 | D30: 장형곤 | E30: 010-4117-6855 | H30: =VLOOKUP(I30,Sheet1!$A$1:$B$5,2,FALSE) -> C1713152686736000000047 | I30: 쁘띠 | J30: 스킨부스터 | K30: =VLOOKUP(L30,PRODUCTID!C26:D151,2,FALSE) -> P174533104211000000000194 | L30: 리쥬란HB | M30: 1 | N30: cc | O30: 1 | P30: cc | Q30: 55377 | R30: 51 | S30: =+Q30*R30 -> 2824227 | T30: 55377.3 | U30: 50 | V30: =+T30*U30 -> 2768865 | W30: 55377 | X30: 63 | Y30: =+W30*X30 -> 3488751 | AA30: 1 | AB30: =+Z30*AA30 -> 0 | AC30: =+Q30 -> 55377 | AD30: =+R30+U30-X30+AA30 -> 39 | AE30: =+AC30*AD30 -> 2159703 | AG30: ="UPDATE MU_PRODUCT SET MU_TREATMENT_ID = '" & H30 & "' WHERE MU_PRODUCT_ID = '" & K30 & "';" -> UPDATE MU_PRODUCT SET MU_TREATMENT_ID = 'C1713152686736000000047' WHERE MU_PRODUCT_ID = 'P174533104211000000000194';
A31: =VLOOKUP(B31,거래처ID!$A$2:$B$36,2,FALSE) -> C173258871030100000000053 | B31: ㈜아이더마바이오 | C31: 610-87-00680 | D31: 장영철차장 | E31: 010-2580-4489 | H31: =VLOOKUP(I31,Sheet1!$A$1:$B$5,2,FALSE) -> C1713152686736000000047 | I31: 쁘띠 | J31: 스킨부스터 | K31: =VLOOKUP(L31,PRODUCTID!C27:D152,2,FALSE) -> P174533104211000000000195 | L31: 샤넬 | M31: 3 | N31: cc | O31: 1 | P31: cc | Q31: 55648 | R31: 81 | S31: =+Q31*R31 -> 4507488 | V31: =+T31*U31 -> 0 | W31: 55648 | X31: 12 | Y31: =+W31*X31 -> 667776 | AA31: 0 | AB31: =+Z31*AA31 -> 0 | AC31: =+Q31 -> 55648 | AD31: =+R31+U31-X31+AA31 -> 69 | AE31: =+AC31*AD31 -> 3839712 | AG31: ="UPDATE MU_PRODUCT SET MU_TREATMENT_ID = '" & H31 & "' WHERE MU_PRODUCT_ID = '" & K31 & "';" -> UPDATE MU_PRODUCT SET MU_TREATMENT_ID = 'C1713152686736000000047' WHERE MU_PRODUCT_ID = 'P174533104211000000000195';
A32: =VLOOKUP(B32,거래처ID!$A$2:$B$36,2,FALSE) -> C173258871030100000000052 | B32: 바임글로벌 | C32: 757-87-01595 | D32: 조봉근대리 | E32: 010-3033-0729 | H32: =VLOOKUP(I32,Sheet1!$A$1:$B$5,2,FALSE) -> C1713152686736000000047 | I32: 쁘띠 | J32: 스킨부스터 | K32: =VLOOKUP(L32,PRODUCTID!C28:D153,2,FALSE) -> P174533104211000000000196 | L32: 쥬베룩(1) | M32: 8 | N32: cc | O32: 1 | P32: cc | Q32: 100000 | R32: 16 | S32: =+Q32*R32 -> 1600000 | V32: =+T32*U32 -> 0 | W32: 100000 | X32: 10.74 | Y32: =+W32*X32 -> 1074000 | AA32: 1.7 | AB32: =+Z32*AA32 -> 0 | AC32: =+Q32 -> 100000 | AD32: =+R32+U32-X32+AA32 -> 6.96 | AE32: =+AC32*AD32 -> 696000 | AG32: ="UPDATE MU_PRODUCT SET MU_TREATMENT_ID = '" & H32 & "' WHERE MU_PRODUCT_ID = '" & K32 & "';" -> UPDATE MU_PRODUCT SET MU_TREATMENT_ID = 'C1713152686736000000047' WHERE MU_PRODUCT_ID = 'P174533104211000000000196';
A33: =VLOOKUP(B33,거래처ID!$A$2:$B$36,2,FALSE) -> C173258871030100000000052 | B33: 바임글로벌 | C33: 757-87-01595 | D33: 조봉근대리 | E33: 010-3033-0729 | H33: =VLOOKUP(I33,Sheet1!$A$1:$B$5,2,FALSE) -> C1713152686736000000047 | I33: 쁘띠 | J33: 스킨부스터 | K33: =VLOOKUP(L33,PRODUCTID!C29:D154,2,FALSE) -> P174533104211000000000197 | L33: 쥬베룩(2) | M33: 8 | N33: cc | O33: 1 | P33: cc | Q33: 121000 | R33: 50 | S33: =+Q33*R33 -> 6050000 | V33: =+T33*U33 -> 0 | W33: 121000 | X33: 0 | Y33: =+W33*X33 -> 0 | AA33: 0 | AB33: =+Z33*AA33 -> 0 | AC33: =+Q33 -> 121000 | AD33: =+R33+U33-X33+AA33 -> 50 | AE33: =+AC33*AD33 -> 6050000 | AG33: ="UPDATE MU_PRODUCT SET MU_TREATMENT_ID = '" & H33 & "' WHERE MU_PRODUCT_ID = '" & K33 & "';" -> UPDATE MU_PRODUCT SET MU_TREATMENT_ID = 'C1713152686736000000047' WHERE MU_PRODUCT_ID = 'P174533104211000000000197';
A34: C174541386371200000000039 | B34: 기타 | C34: 확인필요 | D34: 확인필요 | E34: 확인필요 | H34: =VLOOKUP(I34,Sheet1!$A$1:$B$5,2,FALSE) -> C1713152686736000000047 | I34: 쁘띠 | J34: 스킨부스터 | K34: =VLOOKUP(L34,PRODUCTID!C30:D155,2,FALSE) -> P174533104211000000000198 | L34: 하이주 | M34: 6 | N34: cc | O34: 1 | P34: cc | Q34: 9616 | R34: 52 | S34: =+Q34*R34 -> 500032 | V34: =+T34*U34 -> 0 | W34: 9616 | X34: 27.5 | Y34: =+W34*X34 -> 264440 | AA34: 1.5 | AB34: =+Z34*AA34 -> 0 | AC34: =+Q34 -> 9616 | AD34: =+R34+U34-X34+AA34 -> 26 | AE34: =+AC34*AD34 -> 250016 | AG34: ="UPDATE MU_PRODUCT SET MU_TREATMENT_ID = '" & H34 & "' WHERE MU_PRODUCT_ID = '" & K34 & "';" -> UPDATE MU_PRODUCT SET MU_TREATMENT_ID = 'C1713152686736000000047' WHERE MU_PRODUCT_ID = 'P174533104211000000000198';
A35: =VLOOKUP(B35,거래처ID!$A$2:$B$36,2,FALSE) -> C173258871030100000000047 | B35: 라윤코리아 | C35: 220-10-07251 | D35: 윤지혜대표 | E35: 010-2728-5010 | H35: =VLOOKUP(I35,Sheet1!$A$1:$B$5,2,FALSE) -> C1713152686736000000050 | I35: 기타 | J35: 실리프팅 | K35: =VLOOKUP(L35,PRODUCTID!C31:D156,2,FALSE) -> P174533104211000000000199 | L35: 하이코(4cm) | M35: 4 | N35: ea | O35: 4 | P35: ea | Q35: 4950 | R35: 84 | S35: =+Q35*R35 -> 415800 | V35: =+T35*U35 -> 0 | W35: 4950 | X35: 20 | Y35: =+W35*X35 -> 99000 | AA35: 0 | AB35: =+Z35*AA35 -> 0 | AC35: =+Q35 -> 4950 | AD35: =+R35+U35-X35+AA35 -> 64 | AE35: =+AC35*AD35 -> 316800 | AG35: ="UPDATE MU_PRODUCT SET MU_TREATMENT_ID = '" & H35 & "' WHERE MU_PRODUCT_ID = '" & K35 & "';" -> UPDATE MU_PRODUCT SET MU_TREATMENT_ID = 'C1713152686736000000050' WHERE MU_PRODUCT_ID = 'P174533104211000000000199';
A36: =VLOOKUP(B36,거래처ID!$A$2:$B$36,2,FALSE) -> C173258871030100000000047 | B36: 라윤코리아 | C36: 220-10-07251 | D36: 윤지혜대표 | E36: 010-2728-5010 | H36: =VLOOKUP(I36,Sheet1!$A$1:$B$5,2,FALSE) -> C1713152686736000000050 | I36: 기타 | J36: 실리프팅 | K36: =VLOOKUP(L36,PRODUCTID!C32:D157,2,FALSE) -> P174533104211000000000200 | L36: 메이드코(6cm) | M36: 4 | N36: ea | O36: 4 | P36: ea | Q36: 4950 | R36: 20 | S36: =+Q36*R36 -> 99000 | T36: 4950 | U36: 24 | V36: =+T36*U36 -> 118800 | W36: 4950 | X36: 12 | Y36: =+W36*X36 -> 59400 | AA36: -4 | AB36: =+Z36*AA36 -> 0 | AC36: =+Q36 -> 4950 | AD36: =+R36+U36-X36+AA36 -> 28 | AE36: =+AC36*AD36 -> 138600 | AF36: 유통기한 폐기 / 교환 안되서 폐기 진행 | AG36: ="UPDATE MU_PRODUCT SET MU_TREATMENT_ID = '" & H36 & "' WHERE MU_PRODUCT_ID = '" & K36 & "';" -> UPDATE MU_PRODUCT SET MU_TREATMENT_ID = 'C1713152686736000000050' WHERE MU_PRODUCT_ID = 'P174533104211000000000200';
A37: =VLOOKUP(B37,거래처ID!$A$2:$B$36,2,FALSE) -> C173258871030100000000058 | B37: (주)아프로메디온 | C37: 확인필요 | D37: 박세호부장 | E37: 010-6411-0772 | H37: =VLOOKUP(I37,Sheet1!$A$1:$B$5,2,FALSE) -> C1713152686736000000050 | I37: 기타 | J37: 실리프팅 | K37: =VLOOKUP(L37,PRODUCTID!C33:D158,2,FALSE) -> P174533104211000000000201 | L37: 오메가 | M37: 2 | N37: ea | O37: 2 | P37: ea | Q37: 5500 | R37: 188 | S37: =+Q37*R37 -> 1034000 | V37: =+T37*U37 -> 0 | W37: 5500 | X37: 38 | Y37: =+W37*X37 -> 209000 | AA37: 0 | AB37: =+Z37*AA37 -> 0 | AC37: =+Q37 -> 5500 | AD37: =+R37+U37-X37+AA37 -> 150 | AE37: =+AC37*AD37 -> 825000 | AG37: ="UPDATE MU_PRODUCT SET MU_TREATMENT_ID = '" & H37 & "' WHERE MU_PRODUCT_ID = '" & K37 & "';" -> UPDATE MU_PRODUCT SET MU_TREATMENT_ID = 'C1713152686736000000050' WHERE MU_PRODUCT_ID = 'P174533104211000000000201';
A38: =VLOOKUP(B38,거래처ID!$A$2:$B$36,2,FALSE) -> C173258871030100000000047 | B38: 라윤코리아 | C38: 220-10-07251 | D38: 윤지혜대표 | E38: 010-2728-5010 | H38: =VLOOKUP(I38,Sheet1!$A$1:$B$5,2,FALSE) -> C1713152686736000000050 | I38: 기타 | J38: 실리프팅 | K38: =VLOOKUP(L38,PRODUCTID!C34:D159,2,FALSE) -> P174533104211000000000202 | L38: 울트라V | M38: 10 | N38: ea | O38: 10 | P38: ea | Q38: 550 | R38: 960 | S38: =+Q38*R38 -> 528000 | V38: =+T38*U38 -> 0 | W38: 550 | X38: 90 | Y38: =+W38*X38 -> 49500 | AA38: 0 | AB38: =+Z38*AA38 -> 0 | AC38: =+Q38 -> 550 | AD38: =+R38+U38-X38+AA38 -> 870 | AE38: =+AC38*AD38 -> 478500 | AG38: ="UPDATE MU_PRODUCT SET MU_TREATMENT_ID = '" & H38 & "' WHERE MU_PRODUCT_ID = '" & K38 & "';" -> UPDATE MU_PRODUCT SET MU_TREATMENT_ID = 'C1713152686736000000050' WHERE MU_PRODUCT_ID = 'P174533104211000000000202';
A39: =VLOOKUP(B39,거래처ID!$A$2:$B$36,2,FALSE) -> C173258871030100000000050 | B39: 민트메디컬㈜ | C39: 755-87-01997 | D39: 김민수 | E39: 010-7210-2215 | H39: =VLOOKUP(I39,Sheet1!$A$1:$B$5,2,FALSE) -> C1713152686736000000050 | I39: 기타 | J39: 실리프팅 | K39: =VLOOKUP(L39,PRODUCTID!C35:D160,2,FALSE) -> P174533104211000000000203 | L39: 민트쁘띠 | M39: 4 | N39: ea | O39: 4 | P39: ea | Q39: 9000 | R39: 168 | S39: =+Q39*R39 -> 1512000 | V39: =+T39*U39 -> 0 | W39: 9000 | X39: 8 | Y39: =+W39*X39 -> 72000 | AA39: 0 | AB39: =+Z39*AA39 -> 0 | AC39: =+Q39 -> 9000 | AD39: =+R39+U39-X39+AA39 -> 160 | AE39: =+AC39*AD39 -> 1440000 | AG39: ="UPDATE MU_PRODUCT SET MU_TREATMENT_ID = '" & H39 & "' WHERE MU_PRODUCT_ID = '" & K39 & "';" -> UPDATE MU_PRODUCT SET MU_TREATMENT_ID = 'C1713152686736000000050' WHERE MU_PRODUCT_ID = 'P174533104211000000000203';
A40: =VLOOKUP(B40,거래처ID!$A$2:$B$36,2,FALSE) -> C173258871030100000000045 | B40: 한국싱클레어(유) | C40: 530-87-00797 | D40: 확인필요 | E40: 010-8837-7677 | H40: =VLOOKUP(I40,Sheet1!$A$1:$B$5,2,FALSE) -> C1713152686736000000050 | I40: 기타 | J40: 실리프팅 | K40: =VLOOKUP(L40,PRODUCTID!C36:D161,2,FALSE) -> P174533104211000000000204 | L40: 실루엣8콘 | M40: 2 | N40: ea | O40: 2 | P40: ea | Q40: 107250 | R40: 28 | S40: =+Q40*R40 -> 3003000 | V40: =+T40*U40 -> 0 | W40: 107250 | X40: 0 | Y40: =+W40*X40 -> 0 | AA40: 0 | AB40: =+Z40*AA40 -> 0 | AC40: =+Q40 -> 107250 | AD40: =+R40+U40-X40+AA40 -> 28 | AE40: =+AC40*AD40 -> 3003000 | AG40: ="UPDATE MU_PRODUCT SET MU_TREATMENT_ID = '" & H40 & "' WHERE MU_PRODUCT_ID = '" & K40 & "';" -> UPDATE MU_PRODUCT SET MU_TREATMENT_ID = 'C1713152686736000000050' WHERE MU_PRODUCT_ID = 'P174533104211000000000204';
A41: =VLOOKUP(B41,거래처ID!$A$2:$B$36,2,FALSE) -> C173258871030100000000049 | B41: 케어캠프㈜ | C41: 211-86-94742 | D41: 황정필 | E41: 010-6649-8881 | H41: =VLOOKUP(I41,Sheet1!$A$1:$B$5,2,FALSE) -> C1713152686736000000046 | I41: 피부 | J41: 레이저 | K41: =VLOOKUP(L41,PRODUCTID!C37:D162,2,FALSE) -> P174533104211000000000205 | L41: 울쎄라-DS 10-1.5N(1) | M41: 2400 | N41: shot | O41: 1 | P41: shot | Q41: 1271 | R41: 1106 | S41: =+Q41*R41 -> 1405726 | V41: =+T41*U41 -> 0 | W41: 1271 | X41: 1100 | Y41: =+W41*X41 -> 1398100 | AA41: 0 | AB41: =+Z41*AA41 -> 0 | AC41: =+Q41 -> 1271 | AD41: =+R41+U41-X41+AA41 -> 6 | AE41: =+AC41*AD41 -> 7626 | AG41: ="UPDATE MU_PRODUCT SET MU_TREATMENT_ID = '" & H41 & "' WHERE MU_PRODUCT_ID = '" & K41 & "';" -> UPDATE MU_PRODUCT SET MU_TREATMENT_ID = 'C1713152686736000000046' WHERE MU_PRODUCT_ID = 'P174533104211000000000205';
A42: =VLOOKUP(B42,거래처ID!$A$2:$B$36,2,FALSE) -> C173258871030100000000049 | B42: 케어캠프㈜ | C42: 211-86-94742 | D42: 황정필 | E42: 010-6649-8881 | H42: =VLOOKUP(I42,Sheet1!$A$1:$B$5,2,FALSE) -> C1713152686736000000046 | I42: 피부 | K42: =VLOOKUP(L42,PRODUCTID!C38:D163,2,FALSE) -> P174533104211000000000206 | L42: 울쎄라-DS 10-1.5N(2) | M42: 2400 | N42: shot | O42: 1 | P42: shot | Q42: 1121 | R42: 12000 | S42: =+Q42*R42 -> 13452000 | V42: =+T42*U42 -> 0 | W42: 1121 | X42: 0 | Y42: =+W42*X42 -> 0 | AA42: 0 | AB42: =+Z42*AA42 -> 0 | AC42: =+Q42 -> 1121 | AD42: =+R42+U42-X42+AA42 -> 12000 | AE42: =+AC42*AD42 -> 13452000 | AG42: ="UPDATE MU_PRODUCT SET MU_TREATMENT_ID = '" & H42 & "' WHERE MU_PRODUCT_ID = '" & K42 & "';" -> UPDATE MU_PRODUCT SET MU_TREATMENT_ID = 'C1713152686736000000046' WHERE MU_PRODUCT_ID = 'P174533104211000000000206';
...

Sheet companyproduct
A1: MU_COMPANY_PRODUCT_ID | B1: MU_COMPANY_ID | C1: MU_PRODUCT_ID | D1: ORDER_NUMBER | E1: WRITE_DATE | F1: WRITE_TIME | G1: REMARK | H1: CUD_FLAG | I1: USE_YN | J1: REG_ID | K1: REG_DATE | L1: MOD_ID | M1: MOD_DATE | N1: T_ID | O1: T_DATE
A2: CP17453310421380000000170 | B2: C174541386371200000000039 | C2: P174533104211000000000198 | D2: =IF(B1=B2,D1+1,1) -> 1 | E2: 2025-04-23 | F2: 00:00:00 | H2: C | I2: Y | J2: admin | L2: admin | P2: 170
A3: CP17453310421380000000171 | B3: C174541386371200000000039 | C3: P174533104211000000000215 | D3: =IF(B2=B3,D2+1,1) -> 2 | E3: 2025-04-23 | F3: 00:00:00 | H3: C | I3: Y | J3: admin | L3: admin | P3: 171
A4: CP17453310421380000000172 | B4: C174541386371200000000039 | C4: P174533104211000000000216 | D4: =IF(B3=B4,D3+1,1) -> 3 | E4: 2025-04-23 | F4: 00:00:00 | H4: C | I4: Y | J4: admin | L4: admin | P4: 172
A5: CP17453310421380000000173 | B5: C174541386371200000000039 | C5: P174533104211000000000217 | D5: =IF(B4=B5,D4+1,1) -> 4 | E5: 2025-04-23 | F5: 00:00:00 | H5: C | I5: Y | J5: admin | L5: admin | P5: 173
A6: CP17453310421380000000174 | B6: C174541386371200000000039 | C6: P174533104211000000000218 | D6: =IF(B5=B6,D5+1,1) -> 5 | E6: 2025-04-23 | F6: 00:00:00 | H6: C | I6: Y | J6: admin | L6: admin | P6: 174
A7: CP17453310421380000000175 | B7: C174541386371200000000039 | C7: P174533104211000000000219 | D7: =IF(B6=B7,D6+1,1) -> 6 | E7: 2025-04-23 | F7: 00:00:00 | H7: C | I7: Y | J7: admin | L7: admin | P7: 175
A8: CP17453310421380000000176 | B8: C174541386371200000000039 | C8: P174533104211000000000245 | D8: =IF(B7=B8,D7+1,1) -> 7 | E8: 2025-04-23 | F8: 00:00:00 | H8: C | I8: Y | J8: admin | L8: admin | P8: 176
A9: CP17453310421380000000177 | B9: C174541386371200000000039 | C9: P174533104211000000000263 | D9: =IF(B8=B9,D8+1,1) -> 8 | E9: 2025-04-23 | F9: 00:00:00 | H9: C | I9: Y | J9: admin | L9: admin | P9: 177
A10: CP17453310421380000000178 | B10: C174541386371200000000039 | C10: P174533104211000000000291 | D10: =IF(B9=B10,D9+1,1) -> 9 | E10: 2025-04-23 | F10: 00:00:00 | H10: C | I10: Y | J10: admin | L10: admin | P10: 178
A11: CP17453310421380000000179 | B11: C174541386371200000000039 | C11: P174533104211000000000294 | D11: =IF(B10=B11,D10+1,1) -> 10 | E11: 2025-04-23 | F11: 00:00:00 | H11: C | I11: Y | J11: admin | L11: admin | P11: 179
A12: CP17453310421380000000180 | B12: C173258871030100000000072 | C12: P174533104211000000000283 | D12: =IF(B11=B12,D11+1,1) -> 1 | E12: 2025-04-23 | F12: 00:00:00 | H12: C | I12: Y | J12: admin | L12: admin | P12: 180
A13: CP17453310421380000000181 | B13: C173258871030100000000072 | C13: P174533104211000000000284 | D13: =IF(B12=B13,D12+1,1) -> 2 | E13: 2025-04-23 | F13: 00:00:00 | H13: C | I13: Y | J13: admin | L13: admin | P13: 181
... A127: CP17453310421380000000295 | B127: C173258871030100000000039 | C127: P174533104211000000000238 | D127: =IF(B126=B127,D126+1,1) -> 11 | E127: 2025-04-23 | F127: 00:00:00 | H127: C | I127: Y | J127: admin | L127: admin | P127: 295

Sheet 25'03월 (2)
B2: 제품명 | C2: 거래처 | D2: 구분 | E2: 이월 | H2: 입고 | K2: 실사용 | N2: 과부족 | Q2: 실재 재고 | T2: 사유
E3: 단가 | F3: 수량 | G3: 금액 | H3: 단가 | I3: 수량 | J3: 입고금액 | K3: 단가 | L3: 수량 | M3: 사용금액 | N3: 단가 | O3: 수량 | P3: 사용금액 | Q3: 단가 | R3: 수량 | S3: 재고금액
B4: 채움프리미엄 1 | D4: 필러 | E4: 18000 | F4: 16 | G4: =+E4*F4 -> 288000 | J4: =+H4*I4 -> 0 | M4: =+K4*L4 -> 0 | P4: =+N4*O4 -> 0 | Q4: =+E4 -> 18000 | R4: =+F4+I4-L4+O4 -> 16 | S4: =+Q4*R4 -> 288000
B5: 체움프리미엄 2 | E5: 18000 | F5: 23 | G5: =+E5*F5 -> 414000 | J5: =+H5*I5 -> 0 | M5: =+K5*L5 -> 0 | P5: =+N5*O5 -> 0 | Q5: =+E5 -> 18000 | R5: =+F5+I5-L5+O5 -> 23 | S5: =+Q5*R5 -> 414000
B6: 채움프리미엄 3 | E6: 18000 | F6: 25 | G6: =+E6*F6 -> 450000 | J6: =+H6*I6 -> 0 | M6: =+K6*L6 -> 0 | P6: =+N6*O6 -> 0 | Q6: =+E6 -> 18000 | R6: =+F6+I6-L6+O6 -> 25 | S6: =+Q6*R6 -> 450000
B7: 뉴라미스라이트 | E7: 14000 | F7: 24 | G7: =+E7*F7 -> 336000 | J7: =+H7*I7 -> 0 | M7: =+K7*L7 -> 0 | P7: =+N7*O7 -> 0 | Q7: =+E7 -> 14000 | R7: =+F7+I7-L7+O7 -> 24 | S7: =+Q7*R7 -> 336000
B8: 뉴라미스리도카인 | E8: 18000 | F8: 20 | G8: =+E8*F8 -> 360000 | J8: =+H8*I8 -> 0 | M8: =+K8*L8 -> 0 | P8: =+N8*O8 -> 0 | Q8: =+E8 -> 18000 | R8: =+F8+I8-L8+O8 -> 20 | S8: =+Q8*R8 -> 360000
B9: 뉴라미스볼륨 | E9: 18000 | F9: 11 | G9: =+E9*F9 -> 198000 | J9: =+H9*I9 -> 0 | M9: =+K9*L9 -> 0 | P9: =+N9*O9 -> 0 | Q9: =+E9 -> 18000 | R9: =+F9+I9-L9+O9 -> 11 | S9: =+Q9*R9 -> 198000
B10: 쥬비덤 볼벨라 | E10: 130164 | F10: 18 | G10: =+E10*F10 -> 2342952 | J10: =+H10*I10 -> 0 | M10: =+K10*L10 -> 0 | P10: =+N10*O10 -> 0 | Q10: =+E10 -> 130164 | R10: =+F10+I10-L10+O10 -> 18 | S10: =+Q10*R10 -> 2342952
B11: 쥬비덤 볼리프트 | E11: 130164.1 | F11: 27 | G11: =+E11*F11 -> 3514430.7 | J11: =+H11*I11 -> 0 | M11: =+K11*L11 -> 0 | P11: =+N11*O11 -> 0 | Q11: =+E11 -> 130164.1 | R11: =+F11+I11-L11+O11 -> 27 | S11: =+Q11*R11 -> 3514430.7
B12: 쥬비덤 볼루마 | E12: 130164 | F12: 36 | G12: =+E12*F12 -> 4685904 | J12: =+H12*I12 -> 0 | M12: =+K12*L12 -> 0 | P12: =+N12*O12 -> 0 | Q12: =+E12 -> 130164 | R12: =+F12+I12-L12+O12 -> 36 | S12: =+Q12*R12 -> 4685904
B13: 레스틸렌비탈 | E13: 115500 | F13: 9 | G13: =+E13*F13 -> 1039500 | J13: =+H13*I13 -> 0 | M13: =+K13*L13 -> 0 | P13: =+N13*O13 -> 0 | Q13: =+E13 -> 115500 | R13: =+F13+I13-L13+O13 -> 9 | S13: =+Q13*R13 -> 1039500
B14: 레스틸렌리파인 | E14: 110000 | F14: 18 | G14: =+E14*F14 -> 1980000 | J14: =+H14*I14 -> 0 | M14: =+K14*L14 -> 0 | P14: =+N14*O14 -> 0 | Q14: =+E14 -> 110000 | R14: =+F14+I14-L14+O14 -> 18 | S14: =+Q14*R14 -> 1980000
B15: 레스틸렌디파인 | E15: 110000 | F15: 15 | G15: =+E15*F15 -> 1650000 | J15: =+H15*I15 -> 0 | M15: =+K15*L15 -> 0 | P15: =+N15*O15 -> 0 | Q15: =+E15 -> 110000 | R15: =+F15+I15-L15+O15 -> 15 | S15: =+Q15*R15 -> 1650000
B16: 엘란쎄M | E16: 211747 | F16: 32 | G16: =+E16*F16 -> 6775904 | J16: =+H16*I16 -> 0 | M16: =+K16*L16 -> 0 | P16: =+N16*O16 -> 0 | Q16: =+E16 -> 211747 | R16: =+F16+I16-L16+O16 -> 32 | S16: =+Q16*R16 -> 6775904
E17: 211612.52 | F17: 120 | G17: =+E17*F17 -> 25393502 | J17: =+H17*I17 -> 0 | Q17: =+E17 -> 211612.52 | R17: =+F17+I17-L17+O17 -> 120 | S17: =+Q17*R17 -> 25393502
B18: 스컬트라 | E18: 242000 | F18: 40 | G18: =+E18*F18 -> 9680000 | J18: =+H18*I18 -> 0 | M18: =+K18*L18 -> 0 | P18: =+N18*O18 -> 0 | Q18: =+E18 -> 242000 | R18: =+F18+I18-L18+O18 -> 40 | S18: =+Q18*R18 -> 9680000
B19: 쥬베룩볼륨 | E19: 110000 | F19: 12 | G19: =+E19*F19 -> 1320000 | J19: =+H19*I19 -> 0 | M19: =+K19*L19 -> 0 | P19: =+N19*O19 -> 0 | Q19: =+E19 -> 110000 | R19: =+F19+I19-L19+O19 -> 12 | S19: =+Q19*R19 -> 1320000
B20: 벨로테로소프트 | E20: 91000 | F20: 55 | G20: =+E20*F20 -> 5005000 | J20: =+H20*I20 -> 0 | M20: =+K20*L20 -> 0 | P20: =+N20*O20 -> 0 | Q20: =+E20 -> 91000 | R20: =+F20+I20-L20+O20 -> 55 | S20: =+Q20*R20 -> 5005000
E21: 82727 | F21: 3 | G21: =+E21*F21 -> 248181 | J21: =+H21*I21 -> 0 | M21: =+K21*L21 -> 0 | P21: =+N21*O21 -> 0 | Q21: =+E21 -> 82727 | R21: =+F21+I21-L21+O21 -> 3 | S21: =+Q21*R21 -> 248181
B22: 리즈톡스 | D22: 보톡스 | E22: 25000 | F22: 54 | G22: =+E22*F22 -> 1350000 | J22: =+H22*I22 -> 0 | M22: =+K22*L22 -> 0 | P22: =+N22*O22 -> 0 | Q22: =+E22 -> 25000 | R22: =+F22+I22-L22+O22 -> 54 | S22: =+Q22*R22 -> 1350000
B23: 코어톡스 | E23: 33000 | F23: 37 | G23: =+E23*F23 -> 1221000 | J23: =+H23*I23 -> 0 | M23: =+K23*L23 -> 0 | P23: =+N23*O23 -> 0 | Q23: =+E23 -> 33000 | R23: =+F23+I23-L23+O23 -> 37 | S23: =+Q23*R23 -> 1221000
B24: 제오민 | E24: 110000 | F24: 13 | G24: =+E24*F24 -> 1430000 | J24: =+H24*I24 -> 0 | M24: =+K24*L24 -> 0 | P24: =+N24*O24 -> 0 | Q24: =+E24 -> 110000 | R24: =+F24+I24-L24+O24 -> 13 | S24: =+Q24*R24 -> 1430000
E25: 120000 | F25: 30 | G25: =+E25*F25 -> 3600000 | J25: =+H25*I25 -> 0 | Q25: =+E25 -> 120000 | R25: =+F25+I25-L25+O25 -> 30 | S25: =+Q25*R25 -> 3600000
B26: 리쥬란아이 | D26: 스킨부스터 | E26: 52923 | F26: 25 | G26: =+E26*F26 -> 1323075 | J26: =+H26*I26 -> 0 | M26: =+K26*L26 -> 0 | P26: =+N26*O26 -> 0 | Q26: =+E26 -> 52923 | R26: =+F26+I26-L26+O26 -> 25 | S26: =+Q26*R26 -> 1323075
B27: 리쥬란 | E27: 94430 | F27: 126 | G27: =+E27*F27 -> 11898180 | J27: =+H27*I27 -> 0 | M27: =+K27*L27 -> 0 | P27: =+N27*O27 -> 0 | Q27: =+E27 -> 94430 | R27: =+F27+I27-L27+O27 -> 126 | S27: =+Q27*R27 -> 11898180
B28: 리쥬란HB | E28: 55377 | F28: 51 | G28: =+E28*F28 -> 2824227 | J28: =+H28*I28 -> 0 | M28: =+K28*L28 -> 0 | P28: =+N28*O28 -> 0 | Q28: =+E28 -> 55377 | R28: =+F28+I28-L28+O28 -> 51 | S28: =+Q28*R28 -> 2824227
B29: 샤넬 | E29: 55648 | F29: 81 | G29: =+E29*F29 -> 4507488 | J29: =+H29*I29 -> 0 | M29: =+K29*L29 -> 0 | P29: =+N29*O29 -> 0 | Q29: =+E29 -> 55648 | R29: =+F29+I29-L29+O29 -> 81 | S29: =+Q29*R29 -> 4507488
B30: 쥬베룩 | E30: 100000 | F30: 16 | G30: =+E30*F30 -> 1600000 | J30: =+H30*I30 -> 0 | M30: =+K30*L30 -> 0 | P30: =+N30*O30 -> 0 | Q30: =+E30 -> 100000 | R30: =+F30+I30-L30+O30 -> 16 | S30: =+Q30*R30 -> 1600000
E31: 121000 | F31: 50 | G31: =+E31*F31 -> 6050000 | J31: =+H31*I31 -> 0 | P31: =+N31*O31 -> 0 | Q31: =+E31 -> 121000 | R31: =+F31+I31-L31+O31 -> 50 | S31: =+Q31*R31 -> 6050000
B32: 하이주 | E32: 9616 | F32: 52 | G32: =+E32*F32 -> 500032 | J32: =+H32*I32 -> 0 | M32: =+K32*L32 -> 0 | P32: =+N32*O32 -> 0 | Q32: =+E32 -> 9616 | R32: =+F32+I32-L32+O32 -> 52 | S32: =+Q32*R32 -> 500032
B33: 하이코(4cm) | D33: 실리프팅 | E33: 4950 | F33: 84 | G33: =+E33*F33 -> 415800 | J33: =+H33*I33 -> 0 | M33: =+K33*L33 -> 0 | P33: =+N33*O33 -> 0 | Q33: =+E33 -> 4950 | R33: =+F33+I33-L33+O33 -> 84 | S33: =+Q33*R33 -> 415800
B34: 메이드코(6cm) | E34: 4950 | F34: 20 | G34: =+E34*F34 -> 99000 | J34: =+H34*I34 -> 0 | M34: =+K34*L34 -> 0 | P34: =+N34*O34 -> 0 | Q34: =+E34 -> 4950 | R34: =+F34+I34-L34+O34 -> 20 | S34: =+Q34*R34 -> 99000
B35: 오메가 | E35: 5500 | F35: 188 | G35: =+E35*F35 -> 1034000 | J35: =+H35*I35 -> 0 | M35: =+K35*L35 -> 0 | P35: =+N35*O35 -> 0 | Q35: =+E35 -> 5500 | R35: =+F35+I35-L35+O35 -> 188 | S35: =+Q35*R35 -> 1034000
B36: 울트라V | E36: 550 | F36: 960 | G36: =+E36*F36 -> 528000 | J36: =+H36*I36 -> 0 | M36: =+K36*L36 -> 0 | P36: =+N36*O36 -> 0 | Q36: =+E36 -> 550 | R36: =+F36+I36-L36+O36 -> 960 | S36: =+Q36*R36 -> 528000
B37: 민트쁘띠 | E37: 9000 | F37: 168 | G37: =+E37*F37 -> 1512000 | J37: =+H37*I37 -> 0 | M37: =+K37*L37 -> 0 | P37: =+N37*O37 -> 0 | Q37: =+E37 -> 9000 | R37: =+F37+I37-L37+O37 -> 168 | S37: =+Q37*R37 -> 1512000
B38: 실루엣8콘 | E38: 107250 | F38: 28 | G38: =+E38*F38 -> 3003000 | J38: =+H38*I38 -> 0 | M38: =+K38*L38 -> 0 | P38: =+N38*O38 -> 0 | Q38: =+E38 -> 107250 | R38: =+F38+I38-L38+O38 -> 28 | S38: =+Q38*R38 -> 3003000
B39: 울쎄라-DS 10-1.5N | D39: 레이저 | E39: 1271 | F39: 1106 | G39: =+E39*F39 -> 1405726 | J39: =+H39*I39 -> 0 | M39: =+K39*L39 -> 0 | P39: =+N39*O39 -> 0 | Q39: =+E39 -> 1271 | R39: =+F39+I39-L39+O39 -> 1106 | S39: =+Q39*R39 -> 1405726
E40: 1121 | F40: 12000 | G40: =+E40*F40 -> 13452000 | J40: =+H40*I40 -> 0 | Q40: =+E40 -> 1121 | R40: =+F40+I40-L40+O40 -> 12000 | S40: =+Q40*R40 -> 13452000
B41: 울쎄라-DS 7-3.0 | E41: 1121 | F41: 1419 | G41: =+E41*F41 -> 1590699 | J41: =+H41*I41 -> 0 | M41: =+K41*L41 -> 0 | P41: =+N41*O41 -> 0 | Q41: =+E41 -> 1121 | R41: =+F41+I41-L41+O41 -> 1419 | S41: =+Q41*R41 -> 1590699
...

Sheet Sheet1
A1: 피부 | B1: C1713152686736000000046
A2: 쁘띠 | B2: C1713152686736000000047
A3: 비만 | B3: C1713152686736000000048
A4: 기타 | B4: C1713152686736000000050
A5: 제모 | B5: CI1722329371468000000081

Sheet PRODUCTID
A1: MU_PRODUCT_ID | B1: PRODUCT_CODE | C1: PRODUCT_NAME | E1: MU_TREATMENT_ID | F1: VOLUME | G1: UNIT_CODE | H1: UNIT_NAME | I1: USAGE_VOLUME | J1: USAGE_UNIT_CODE | K1: WRITE_DATE | L1: WRITE_TIME | M1: REMARK | N1: CUD_FLAG | O1: USE_YN | P1: REG_ID | Q1: REG_DATE | R1: MOD_ID | S1: MOD_DATE | T1: T_ID | U1: T_DATE
A2: P174533104211000000000170 | B2: P202504220174 | C2: 채움프리미엄 1 | D2: P174533104211000000000170 | F2: 2 | G2: =VLOOKUP(H2,거래처ID!$C$2:$D$8,2,FALSE) -> #N/A | H2: cc | I2: 2 | J2: cc | K2: 45770 | L2: 00:00:00 | N2: C | O2: Y | P2: admin | R2: admin
A3: P174533104211000000000171 | B3: P202504220175 | C3: 체움프리미엄 2 | D3: P174533104211000000000171 | F3: 2 | G3: =VLOOKUP(H3,거래처ID!$C$2:$D$8,2,FALSE) -> #N/A | H3: cc | I3: 2 | J3: cc | K3: 45770 | L3: 00:00:00 | N3: C | O3: Y | P3: admin | R3: admin
A4: P174533104211000000000172 | B4: P202504220176 | C4: 채움프리미엄 3 | D4: P174533104211000000000172 | F4: 2 | G4: =VLOOKUP(H4,거래처ID!$C$2:$D$8,2,FALSE) -> #N/A | H4: cc | I4: 2 | J4: cc | K4: 45770 | L4: 00:00:00 | N4: C | O4: Y | P4: admin | R4: admin
A5: P174533104211000000000173 | B5: P202504220177 | C5: 뉴라미스라이트 | D5: P174533104211000000000173 | F5: 1 | G5: =VLOOKUP(H5,거래처ID!$C$2:$D$8,2,FALSE) -> #N/A | H5: cc | I5: 1 | J5: cc | K5: 45770 | L5: 00:00:00 | N5: C | O5: Y | P5: admin | R5: admin
A6: P174533104211000000000174 | B6: P202504220178 | C6: 뉴라미스리도카인 | D6: P174533104211000000000174 | F6: 1 | G6: =VLOOKUP(H6,거래처ID!$C$2:$D$8,2,FALSE) -> #N/A | H6: cc | I6: 1 | J6: cc | K6: 45770 | L6: 00:00:00 | N6: C | O6: Y | P6: admin | R6: admin
A7: P174533104211000000000175 | B7: P202504220179 | C7: 뉴라미스볼륨 | D7: P174533104211000000000175 | F7: 1 | G7: =VLOOKUP(H7,거래처ID!$C$2:$D$8,2,FALSE) -> #N/A | H7: cc | I7: 1 | J7: cc | K7: 45770 | L7: 00:00:00 | N7: C | O7: Y | P7: admin | R7: admin
A8: P174533104211000000000176 | B8: P202504220180 | C8: 쥬비덤 볼벨라 | D8: P174533104211000000000176 | F8: 2 | G8: =VLOOKUP(H8,거래처ID!$C$2:$D$8,2,FALSE) -> #N/A | H8: cc | I8: 2 | J8: cc | K8: 45770 | L8: 00:00:00 | N8: C | O8: Y | P8: admin | R8: admin
A9: P174533104211000000000177 | B9: P202504220181 | C9: 쥬비덤 볼리프트 | D9: P174533104211000000000177 | F9: 2 | G9: =VLOOKUP(H9,거래처ID!$C$2:$D$8,2,FALSE) -> #N/A | H9: cc | I9: 2 | J9: cc | K9: 45770 | L9: 00:00:00 | N9: C | O9: Y | P9: admin | R9: admin
A10: P174533104211000000000178 | B10: P202504220182 | C10: 쥬비덤 볼루마 | D10: P174533104211000000000178 | F10: 2 | G10: =VLOOKUP(H10,거래처ID!$C$2:$D$8,2,FALSE) -> #N/A | H10: cc | I10: 2 | J10: cc | K10: 45770 | L10: 00:00:00 | N10: C | O10: Y | P10: admin | R10: admin
A11: P174533104211000000000179 | B11: P202504220183 | C11: 레스틸렌비탈 | D11: P174533104211000000000179 | F11: 1 | G11: =VLOOKUP(H11,거래처ID!$C$2:$D$8,2,FALSE) -> #N/A | H11: cc | I11: 1 | J11: cc | K11: 45770 | L11: 00:00:00 | N11: C | O11: Y | P11: admin | R11: admin
A12: P174533104211000000000180 | B12: P202504220184 | C12: 레스틸렌리파인 | D12: P174533104211000000000180 | F12: 1 | G12: =VLOOKUP(H12,거래처ID!$C$2:$D$8,2,FALSE) -> #N/A | H12: cc | I12: 1 | J12: cc | K12: 45770 | L12: 00:00:00 | N12: C | O12: Y | P12: admin | R12: admin
A13: P174533104211000000000181 | B13: P202504220185 | C13: 레스틸렌디파인 | D13: P174533104211000000000181 | F13: 1 | G13: =VLOOKUP(H13,거래처ID!$C$2:$D$8,2,FALSE) -> #N/A | H13: cc | I13: 1 | J13: cc | K13: 45770 | L13: 00:00:00 | N13: C | O13: Y | P13: admin | R13: admin
... A19: P174533104211000000000187 | B19: P202504220191 | C19: 벨로테로소프트(2) | D19: P174533104211000000000187 | F19: 1 | G19: =VLOOKUP(H19,거래처ID!$C$2:$D$8,2,FALSE) -> #N/A | H19: cc | I19: 1 | J19: cc | K19: 45770 | L19: 00:00:00 | N19: C | O19: Y | P19: admin | R19: admin
A20: P174533104211000000000188 | B20: P202504220192 | C20: 리즈톡신 | D20: P174533104211000000000188 | F20: 200 | G20: =VLOOKUP(H20,거래처ID!$C$2:$D$8,2,FALSE) -> #N/A | H20: unit | I20: 8 | J20: cc | K20: 45770 | L20: 00:00:00 | M20: 분말 200unit을 액체 8cc로 사용 | N20: C | O20: Y | P20: admin | R20: admin
A21: P174533104211000000000189 | B21: P202504220193 | C21: 코어톡스 | D21: P174533104211000000000189 | F21: 100 | G21: =VLOOKUP(H21,거래처ID!$C$2:$D$8,2,FALSE) -> #N/A | H21: unit | I21: 4 | J21: cc | K21: 45770 | L21: 00:00:00 | M21: 분말 100unit을 액체 4cc로 사용 | N21: C | O21: Y | P21: admin | R21: admin
A22: P174533104211000000000190 | B22: P202504220194 | C22: 제오민(1) | D22: P174533104211000000000190 | F22: 100 | G22: =VLOOKUP(H22,거래처ID!$C$2:$D$8,2,FALSE) -> #N/A | H22: unit | I22: 4 | J22: cc | K22: 45770 | L22: 00:00:00 | M22: 분말 100unit을 액체 4cc로 사용 | N22: C | O22: Y | P22: admin | R22: admin
A23: P174533104211000000000191 | B23: P202504220195 | C23: 제오민(2) | D23: P174533104211000000000191 | F23: 100 | G23: =VLOOKUP(H23,거래처ID!$C$2:$D$8,2,FALSE) -> #N/A | H23: unit | I23: 4 | J23: cc | K23: 45770 | L23: 00:00:00 | M23: 분말 100unit을 액체 4cc로 사용 | N23: C | O23: Y | P23: admin | R23: admin
A24: P174533104211000000000192 | B24: P202504220196 | C24: 리쥬란아이 | D24: P174533104211000000000192 | F24: 1 | G24: =VLOOKUP(H24,거래처ID!$C$2:$D$8,2,FALSE) -> #N/A | H24: cc | I24: 1 | J24: cc | K24: 45770 | L24: 00:00:00 | N24: C | O24: Y | P24: admin | R24: admin
A25: P174533104211000000000193 | B25: P202504220197 | C25: 리쥬란 | D25: P174533104211000000000193 | F25: 4 | G25: =VLOOKUP(H25,거래처ID!$C$2:$D$8,2,FALSE) -> #N/A | H25: cc | I25: 4 | J25: cc | K25: 45770 | L25: 00:00:00 | N25: C | O25: Y | P25: admin | R25: admin
A26: P174533104211000000000194 | B26: P202504220198 | C26: 리쥬란HB | D26: P174533104211000000000194 | F26: 1 | G26: =VLOOKUP(H26,거래처ID!$C$2:$D$8,2,FALSE) -> #N/A | H26: cc | I26: 1 | J26: cc | K26: 45770 | L26: 00:00:00 | N26: C | O26: Y | P26: admin | R26: admin
A27: P174533104211000000000195 | B27: P202504220199 | C27: 샤넬 | D27: P174533104211000000000195 | F27: 3 | G27: =VLOOKUP(H27,거래처ID!$C$2:$D$8,2,FALSE) -> #N/A | H27: cc | I27: 3 | J27: cc | K27: 45770 | L27: 00:00:00 | N27: C | O27: Y | P27: admin | R27: admin
A28: P174533104211000000000196 | B28: P202504220200 | C28: 쥬베룩(1) | D28: P174533104211000000000196 | F28: 8 | G28: =VLOOKUP(H28,거래처ID!$C$2:$D$8,2,FALSE) -> #N/A | H28: cc | I28: 8 | J28: cc | K28: 45770 | L28: 00:00:00 | N28: C | O28: Y | P28: admin | R28: admin
A29: P174533104211000000000197 | B29: P202504220201 | C29: 쥬베룩(2) | D29: P174533104211000000000197 | F29: 8 | G29: =VLOOKUP(H29,거래처ID!$C$2:$D$8,2,FALSE) -> #N/A | H29: cc | I29: 8 | J29: cc | K29: 45770 | L29: 00:00:00 | N29: C | O29: Y | P29: admin | R29: admin
A30: P174533104211000000000198 | B30: P202504220202 | C30: 하이주 | D30: P174533104211000000000198 | F30: 6 | G30: =VLOOKUP(H30,거래처ID!$C$2:$D$8,2,FALSE) -> #N/A | H30: cc | I30: 6 | J30: cc | K30: 45770 | L30: 00:00:00 | N30: C | O30: Y | P30: admin | R30: admin
A31: P174533104211000000000199 | B31: P202504220203 | C31: 하이코(4cm) | D31: P174533104211000000000199 | F31: 4 | G31: =VLOOKUP(H31,거래처ID!$C$2:$D$8,2,FALSE) -> #N/A | H31: ea | I31: 4 | J31: ea | K31: 45770 | L31: 00:00:00 | N31: C | O31: Y | P31: admin | R31: admin
A32: P174533104211000000000200 | B32: P202504220204 | C32: 메이드코(6cm) | D32: P174533104211000000000200 | F32: 4 | G32: =VLOOKUP(H32,거래처ID!$C$2:$D$8,2,FALSE) -> #N/A | H32: ea | I32: 4 | J32: ea | K32: 45770 | L32: 00:00:00 | N32: C | O32: Y | P32: admin | R32: admin
A33: P174533104211000000000201 | B33: P202504220205 | C33: 오메가 | D33: P174533104211000000000201 | F33: 2 | G33: =VLOOKUP(H33,거래처ID!$C$2:$D$8,2,FALSE) -> #N/A | H33: ea | I33: 2 | J33: ea | K33: 45770 | L33: 00:00:00 | N33: C | O33: Y | P33: admin | R33: admin
A34: P174533104211000000000202 | B34: P202504220206 | C34: 울트라V | D34: P174533104211000000000202 | F34: 10 | G34: =VLOOKUP(H34,거래처ID!$C$2:$D$8,2,FALSE) -> #N/A | H34: ea | I34: 10 | J34: ea | K34: 45770 | L34: 00:00:00 | N34: C | O34: Y | P34: admin | R34: admin
A35: P174533104211000000000203 | B35: P202504220207 | C35: 민트쁘띠 | D35: P174533104211000000000203 | F35: 4 | G35: =VLOOKUP(H35,거래처ID!$C$2:$D$8,2,FALSE) -> #N/A | H35: ea | I35: 4 | J35: ea | K35: 45770 | L35: 00:00:00 | N35: C | O35: Y | P35: admin | R35: admin
... A127: P174533104211000000000295 | B127: P202504220299 | C127: fcr리젠트론마스크 | D127: P174533104211000000000295 | F127: 1 | G127: =VLOOKUP(H127,거래처ID!$C$2:$D$8,2,FALSE) -> #N/A | H127: ea | I127: 1 | J127: ea | K127: 45770 | L127: 00:00:00 | N127: C | O127: Y | P127: admin | R127: admin

Sheet 거래처ID
B1: MU_COMPANY_ID | C1: COMPANY_NAME | D1: BUSINESS_NUMBER | E1: USER_NAME | F1: PHONE_NUMBER | G1: EMAIL | H1: MEMO | I1: WRITE_DATE | J1: WRITE_TIME | K1: REMARK | L1: CUD_FLAG | M1: USE_YN | N1: REG_ID | O1: REG_DATE | P1: MOD_ID | Q1: MOD_DATE | R1: T_ID | S1: T_DATE
A2: 휴젤 | B2: C173258871030100000000057 | C2: 휴젤 | D2: 확인필요 | E2: 이창기 | F2: 010-2869-0068 | H2: ㈜블루엠텍 | I2: 2025-04-23 | J2: 00:00:00 | L2: C | M2: Y | N2: admin | P2: admin
A3: (주)아프로메디온 | B3: C173258871030100000000058 | C3: (주)아프로메디온 | D3: - | E3: 박세호부장 | F3: 010-6411-0772 | I3: 2025-04-23 | J3: 00:00:00 | L3: C | M3: Y | N3: admin | P3: admin
A4: 유벤타헬스케어 | B4: C173258871030100000000059 | C4: 유벤타헬스케어 | D4: - | E4: - | F4: - | I4: 2025-04-23 | J4: 00:00:00 | L4: C | M4: Y | N4: admin | P4: admin
A5: 에스테팜 | B5: C173258871030100000000060 | C5: 에스테팜 | D5: - | E5: - | F5: - | I5: 2025-04-23 | J5: 00:00:00 | L5: C | M5: Y | N5: admin | P5: admin
A6: 제이시스 | B6: C173258871030100000000061 | C6: 제이시스 | D6: 424-87-00852 | E6: - | F6: - | I6: 2025-04-23 | J6: 00:00:00 | L6: C | M6: Y | N6: admin | P6: admin
A7: 은성메디컬 | B7: C173258871030100000000062 | C7: 은성메디컬 | D7: - | E7: - | F7: 010-5323-3196 | I7: 2025-04-23 | J7: 00:00:00 | L7: C | M7: Y | N7: admin | P7: admin
A8: 하이로닉 | B8: C173258871030100000000063 | C8: 하이로닉 | D8: - | E8: - | F8: - | I8: 2025-04-23 | J8: 00:00:00 | L8: C | M8: Y | N8: admin | P8: admin
A9: 에이치투메디 | B9: C173258871030100000000064 | C9: 에이치투메디 | D9: - | E9: - | F9: - | I9: 2025-04-23 | J9: 00:00:00 | L9: C | M9: Y | N9: admin | P9: admin
A10: 원진메디팜 | B10: C173258871030100000000065 | C10: 원진메디팜 | D10: - | E10: - | F10: - | I10: 2025-04-23 | J10: 00:00:00 | L10: C | M10: Y | N10: admin | P10: admin
A11: 더메스테릭스 | B11: C173258871030100000000066 | C11: 더메스테릭스 | D11: - | E11: - | F11: - | I11: 2025-04-23 | J11: 00:00:00 | L11: C | M11: Y | N11: admin | P11: admin
A12: 쎄라덤 | B12: C173258871030100000000067 | C12: 쎄라덤 | D12: - | E12: - | F12: - | I12: 2025-04-23 | J12: 00:00:00 | L12: C | M12: Y | N12: admin | P12: admin
A13: C&K | B13: C173258871030100000000068 | C13: C&K | D13: - | E13: - | F13: - | I13: 2025-04-23 | J13: 00:00:00 | L13: C | M13: Y | N13: admin | P13: admin
A14: 히스토랩 | B14: C173258871030100000000069 | C14: 히스토랩 | D14: - | E14: 성기문 팀장 | F14: 010-8502-1669 | I14: 2025-04-23 | J14: 00:00:00 | L14: C | M14: Y | N14: admin | P14: admin
... A17: 옥시젠 | B17: C173258871030100000000072 | C17: 옥시젠 | D17: - | E17: - | F17: - | I17: 2025-04-23 | J17: 00:00:00 | L17: C | M17: Y | N17: admin | P17: admin
A18: ㈜클래시스 | B18: C173258871030100000000039 | C18: ㈜클래시스
A19: ㈜휴메딕스 | B19: C173258871030100000000040 | C19: ㈜휴메딕스
A20: 뉴메코 | B20: C173258871030100000000041 | C20: 뉴메코
A21: 멀츠아시아퍼스픽피티이엘티디 | B21: C173258871030100000000042 | C21: 멀츠아시아퍼스픽피티이엘티디
A22: 한국애브비㈜ | B22: C173258871030100000000043 | C22: 한국애브비㈜
A23: 우노스킨 | B23: C173258871030100000000044 | C23: 우노스킨
A24: 한국싱클레어(유) | B24: C173258871030100000000045 | C24: 한국싱클레어(유)
A25: (주)한용팜 | B25: C173258871030100000000046 | C25: (주)한용팜
A26: 라윤코리아 | B26: C173258871030100000000047 | C26: 라윤코리아
A27: ㈜지오영 | B27: C173258871030100000000048 | C27: ㈜지오영
A28: 케어캠프㈜ | B28: C173258871030100000000049 | C28: 케어캠프㈜
A29: 민트메디컬㈜ | B29: C173258871030100000000050 | C29: 민트메디컬㈜
... A36: 메이드유의원 | B36: C174504737937400000000038 | C36: 메이드유의원
