Workbook

Sheet 25'03월
B3: 2025년 03월 재고 현황 | J3: 리즈톡신 | K3: 1 | L3: unit | M3: 8.8 | N3: cc
B4: 거래처 | H4: 진료구분 | I4: 구분 | J4: 제품명 | K4: 재고관리용량 | L4: 재고관리용량단위 | M4: 사용시 용량 | N4: 사용시 용량단위 | O4: 이월 | R4: 입고 | U4: 실사용 | X4: 과부족 | AA4: 실재 재고 | AD4: 사유
B5: 거래처명 | C5: 사업자번호 | D5: 담당자명 | E5: 연락처 | F5: 이메일 | G5: 거래처 메모 | O5: 단가 | P5: 수량 | Q5: 금액 | R5: 단가 | S5: 수량 | T5: 입고금액 | U5: 단가 | V5: 수량 | W5: 사용금액 | X5: 단가 | Y5: 수량 | Z5: 사용금액 | AA5: 단가 | AB5: 수량 | AC5: 재고금액
B6: 휴젤 | C6: 확인필요 | D6: 이창기 | E6: 010-2869-0068 | G6: ㈜블루엠텍 | H6: 쁘띠 | I6: 필러 | J6: 채움프리미엄 1 | K6: 2 | L6: cc | M6: 1 | N6: cc | O6: =+'[1]25''02월'!P4 -> 18000 | P6: =+'[1]25''02월'!Q4 -> 16 | Q6: =+O6*P6 -> 288000 | R6: 18000 | S6: -6 | T6: =+R6*S6 -> -108000 | U6: 18000 | V6: 11 | W6: =+U6*V6 -> 198000 | Y6: 1 | Z6: =+X6*Y6 -> 0 | AA6: =+O6 -> 18000 | AB6: =+P6+S6-V6+Y6 -> 0 | AC6: =+AA6*AB6 -> 0 | AD6: 시술 축소로 일부 제고 반품
B7: 휴젤 | C7: 확인필요 | D7: 이창기 | E7: 010-2869-0068 | H7: 쁘띠 | I7: 필러 | J7: 체움프리미엄 2 | K7: 2 | L7: cc | M7: 1 | N7: cc | O7: =+'[1]25''02월'!P5 -> 18000 | P7: =+'[1]25''02월'!Q5 -> 23 | Q7: =+O7*P7 -> 414000 | R7: 18000 | S7: -10 | T7: =+R7*S7 -> -180000 | U7: 18000 | V7: 14 | W7: =+U7*V7 -> 252000 | Y7: 1 | Z7: =+X7*Y7 -> 0 | AA7: =+O7 -> 18000 | AB7: =+P7+S7-V7+Y7 -> 0 | AC7: =+AA7*AB7 -> 0 | AD7: 시술 축소로 일부 제고 반품
B8: 휴젤 | C8: 확인필요 | D8: 이창기 | E8: 010-2869-0068 | H8: 쁘띠 | I8: 필러 | J8: 채움프리미엄 3 | K8: 2 | L8: cc | M8: 1 | N8: cc | O8: =+'[1]25''02월'!P6 -> 18000 | P8: =+'[1]25''02월'!Q6 -> 25 | Q8: =+O8*P8 -> 450000 | R8: 18000 | S8: -10 | T8: =+R8*S8 -> -180000 | U8: 18000 | V8: 11 | W8: =+U8*V8 -> 198000 | Y8: 0 | Z8: =+X8*Y8 -> 0 | AA8: =+O8 -> 18000 | AB8: =+P8+S8-V8+Y8 -> 4 | AC8: =+AA8*AB8 -> 72000 | AD8: 시술 축소로 일부 제고 반품
B9: 뉴메코 | C9: 264-81-13092 | D9: 윤진섭과장 | E9: 010-4757-0391 | H9: 쁘띠 | I9: 필러 | J9: 뉴라미스라이트 | K9: 1 | L9: cc | M9: 1 | N9: cc | O9: =+'[1]25''02월'!P7 -> 14000 | P9: =+'[1]25''02월'!Q7 -> 24 | Q9: =+O9*P9 -> 336000 | T9: =+R9*S9 -> 0 | U9: 14000 | V9: 1 | W9: =+U9*V9 -> 14000 | Y9: 0 | Z9: =+X9*Y9 -> 0 | AA9: =+O9 -> 14000 | AB9: =+P9+S9-V9+Y9 -> 23 | AC9: =+AA9*AB9 -> 322000
B10: 뉴메코 | C10: 264-81-13092 | D10: 윤진섭과장 | E10: 010-4757-0391 | H10: 쁘띠 | I10: 필러 | J10: 뉴라미스리도카인 | K10: 1 | L10: cc | M10: 1 | N10: cc | O10: =+'[1]25''02월'!P8 -> 18000 | P10: =+'[1]25''02월'!Q8 -> 20 | Q10: =+O10*P10 -> 360000 | T10: =+R10*S10 -> 0 | U10: 18000 | V10: 2 | W10: =+U10*V10 -> 36000 | Y10: 1 | Z10: =+X10*Y10 -> 0 | AA10: =+O10 -> 18000 | AB10: =+P10+S10-V10+Y10 -> 19 | AC10: =+AA10*AB10 -> 342000
B11: 뉴메코 | C11: 264-81-13092 | D11: 윤진섭과장 | E11: 010-4757-0391 | H11: 쁘띠 | I11: 필러 | J11: 뉴라미스볼륨 | K11: 1 | L11: cc | M11: 1 | N11: cc | O11: =+'[1]25''02월'!P9 -> 18000 | P11: =+'[1]25''02월'!Q9 -> 11 | Q11: =+O11*P11 -> 198000 | T11: =+R11*S11 -> 0 | U11: 18000 | V11: 1 | W11: =+U11*V11 -> 18000 | Y11: 0 | Z11: =+X11*Y11 -> 0 | AA11: =+O11 -> 18000 | AB11: =+P11+S11-V11+Y11 -> 10 | AC11: =+AA11*AB11 -> 180000
B12: 한국애브비㈜ | C12: 120-87-80221 | D12: 김주현차장 | E12: 010-4097-2589 | H12: 쁘띠 | I12: 필러 | J12: 쥬비덤 볼벨라 | K12: 2 | L12: cc | M12: 1 | N12: cc | O12: =+'[1]25''02월'!P10 -> 130164 | P12: =+'[1]25''02월'!Q10 -> 18 | Q12: =+O12*P12 -> 2342952 | R12: 130164 | S12: 20 | T12: =+R12*S12 -> 2603280 | U12: 130164 | V12: 21 | W12: =+U12*V12 -> 2733444 | Y12: 6 | Z12: =+X12*Y12 -> 0 | AA12: =+O12 -> 130164 | AB12: =+P12+S12-V12+Y12 -> 23 | AC12: =+AA12*AB12 -> 2993772
B13: 한국애브비㈜ | C13: 120-87-80221 | D13: 김주현차장 | E13: 010-4097-2589 | H13: 쁘띠 | I13: 필러 | J13: 쥬비덤 볼리프트 | K13: 2 | L13: cc | M13: 1 | N13: cc | O13: =+'[1]25''02월'!P11 -> 130164.1 | P13: =+'[1]25''02월'!Q11 -> 27 | Q13: =+O13*P13 -> 3514430.7 | R13: 130164 | S13: 20 | T13: =+R13*S13 -> 2603280 | U13: 130164 | V13: 19 | W13: =+U13*V13 -> 2473116 | Y13: 1 | Z13: =+X13*Y13 -> 0 | AA13: =+O13 -> 130164.1 | AB13: =+P13+S13-V13+Y13 -> 29 | AC13: =+AA13*AB13 -> 3774758.9
B14: 한국애브비㈜ | C14: 120-87-80221 | D14: 김주현차장 | E14: 010-4097-2589 | H14: 쁘띠 | I14: 필러 | J14: 쥬비덤 볼루마 | K14: 2 | L14: cc | M14: 1 | N14: cc | O14: =+'[1]25''02월'!P12 -> 130164 | P14: =+'[1]25''02월'!Q12 -> 36 | Q14: =+O14*P14 -> 4685904 | T14: =+R14*S14 -> 0 | U14: 130164 | V14: 5 | W14: =+U14*V14 -> 650820 | Y14: 1 | Z14: =+X14*Y14 -> 0 | AA14: =+O14 -> 130164 | AB14: =+P14+S14-V14+Y14 -> 32 | AC14: =+AA14*AB14 -> 4165248
B15: 우노스킨 | C15: 128-36-45769 | D15: 한수정 | E15: 010-4787-5735 | H15: 쁘띠 | I15: 필러 | J15: 레스틸렌비탈 | K15: 1 | L15: cc | M15: 1 | N15: cc | O15: =+'[1]25''02월'!P13 -> 115500 | P15: =+'[1]25''02월'!Q13 -> 9 | Q15: =+O15*P15 -> 1039500 | T15: =+R15*S15 -> 0 | U15: 115500 | V15: 1 | W15: =+U15*V15 -> 115500 | Y15: 9 | Z15: =+X15*Y15 -> 0 | AA15: =+O15 -> 115500 | AB15: =+P15+S15-V15+Y15 -> 17 | AC15: =+AA15*AB15 -> 1963500 | AD15: 유통기한 폐기 교환
B16: 우노스킨 | C16: 128-36-45769 | D16: 한수정 | E16: 010-4787-5735 | H16: 쁘띠 | I16: 필러 | J16: 레스틸렌리파인 | K16: 1 | L16: cc | M16: 1 | N16: cc | O16: =+'[1]25''02월'!P14 -> 110000 | P16: =+'[1]25''02월'!Q14 -> 18 | Q16: =+O16*P16 -> 1980000 | T16: =+R16*S16 -> 0 | U16: 110000 | V16: 0 | W16: =+U16*V16 -> 0 | Y16: 7 | Z16: =+X16*Y16 -> 0 | AA16: =+O16 -> 110000 | AB16: =+P16+S16-V16+Y16 -> 25 | AC16: =+AA16*AB16 -> 2750000 | AD16: 유통기한 폐기 교환
B17: 우노스킨 | C17: 128-36-45769 | D17: 한수정 | E17: 010-4787-5735 | H17: 쁘띠 | I17: 필러 | J17: 레스틸렌디파인 | K17: 1 | L17: cc | M17: 1 | N17: cc | O17: =+'[1]25''02월'!P15 -> 110000 | P17: =+'[1]25''02월'!Q15 -> 15 | Q17: =+O17*P17 -> 1650000 | T17: =+R17*S17 -> 0 | U17: 110000 | V17: 4 | W17: =+U17*V17 -> 440000 | Y17: 1 | Z17: =+X17*Y17 -> 0 | AA17: =+O17 -> 110000 | AB17: =+P17+S17-V17+Y17 -> 12 | AC17: =+AA17*AB17 -> 1320000 | AD17: 불량 교환
B18: 한국싱클레어(유) | C18: 530-87-00797 | D18: 확인필요 | E18: 010-8837-7677 | H18: 쁘띠 | I18: 필러 | J18: 엘란쎄M | K18: 2 | L18: cc | M18: 1 | N18: cc | O18: =+'[1]25''02월'!P16 -> 211747 | P18: =+'[1]25''02월'!Q16 -> 32 | Q18: =+O18*P18 -> 6775904 | T18: =+R18*S18 -> 0 | U18: 211747 | V18: 19.8 | W18: =+U18*V18 -> 4192590.6 | Y18: -1 | Z18: =+X18*Y18 -> 0 | AA18: =+O18 -> 211747 | AB18: =+P18+S18-V18+Y18 -> 11.2 | AC18: =+AA18*AB18 -> 2371566.4 | AD18: 믹스 폐기
B19: 한국싱클레어(유) | C19: 530-87-00797 | D19: 확인필요 | E19: 010-8837-7677 | H19: 쁘띠 | I19: 필러 | K19: 2 | L19: cc | M19: 1 | N19: cc | O19: =+'[1]25''02월'!P17 -> 211612.52 | P19: =+'[1]25''02월'!Q17 -> 120 | Q19: =+O19*P19 -> 25393502 | T19: =+R19*S19 -> 0 | U19: 211613 | V19: 0 | W19: =+U19*V19 -> 0 | Y19: 0 | Z19: =+X19*Y19 -> 0 | AA19: =+O19 -> 211612.52 | AB19: =+P19+S19-V19+Y19 -> 120 | AC19: =+AA19*AB19 -> 25393502
B20: (주)한용팜 | C20: 214-87-99253 | D20: 한수정 | E20: 010-4787-5735 | H20: 쁘띠 | I20: 필러 | J20: 스컬트라 | K20: 10 | L20: cc | M20: 1 | N20: cc | O20: =+'[1]25''02월'!P18 -> 242000 | P20: =+'[1]25''02월'!Q18 -> 40 | Q20: =+O20*P20 -> 9680000 | R20: 242000 | S20: 50 | T20: =+R20*S20 -> 12100000 | U20: 242000 | V20: 31.8 | W20: =+U20*V20 -> 7695600 | Y20: 4 | Z20: =+X20*Y20 -> 0 | AA20: =+O20 -> 242000 | AB20: =+P20+S20-V20+Y20 -> 62.2 | AC20: =+AA20*AB20 -> 15052400
B21: 바임글로벌 | C21: 757-87-01595 | D21: 조봉근대리 | E21: 010-3033-0729 | H21: 쁘띠 | I21: 필러 | J21: 쥬베룩볼륨 | K21: 9 | L21: cc | M21: 1 | N21: cc | O21: =+'[1]25''02월'!P19 -> 110000 | P21: =+'[1]25''02월'!Q19 -> 12 | Q21: =+O21*P21 -> 1320000 | T21: =+R21*S21 -> 0 | U21: 110000 | V21: 3.13 | W21: =+U21*V21 -> 344300 | Y21: 0.1 | Z21: =+X21*Y21 -> 0 | AA21: =+O21 -> 110000 | AB21: =+P21+S21-V21+Y21 -> 8.97 | AC21: =+AA21*AB21 -> 986700
B22: 멀츠아시아퍼스픽피티이엘티디 | C22: 211-84-10660 | D22: 최진성 | E22: 010-2942-0907 | H22: 쁘띠 | I22: 필러 | J22: 벨로테로소프트 | K22: 1 | L22: cc | M22: 1 | N22: cc | O22: =+'[1]25''02월'!P20 -> 91000 | P22: =+'[1]25''02월'!Q20 -> 55 | Q22: =+O22*P22 -> 5005000 | T22: =+R22*S22 -> 0 | U22: 91000 | V22: 7 | W22: =+U22*V22 -> 637000 | Y22: 2 | Z22: =+X22*Y22 -> 0 | AA22: =+O22 -> 91000 | AB22: =+P22+S22-V22+Y22 -> 50 | AC22: =+AA22*AB22 -> 4550000
B23: 멀츠아시아퍼스픽피티이엘티디 | C23: 211-84-10660 | D23: 최진성 | E23: 010-2942-0907 | H23: 쁘띠 | I23: 필러 | K23: 1 | L23: cc | M23: 1 | N23: cc | O23: =+'[1]25''02월'!P21 -> 82727 | P23: =+'[1]25''02월'!Q21 -> 3 | Q23: =+O23*P23 -> 248181 | T23: =+R23*S23 -> 0 | U23: 82727 | V23: 3 | W23: =+U23*V23 -> 248181 | Y23: 0 | Z23: =+X23*Y23 -> 0 | AA23: =+O23 -> 82727 | AB23: =+P23+S23-V23+Y23 -> 0 | AC23: =+AA23*AB23 -> 0
B24: ㈜휴메딕스 | C24: 204-81-76343 | D24: 김정국차장 | E24: 010-8824-5615 | H24: 쁘띠 | I24: 보톡스 | J24: 리즈톡신 | K24: 200 | L24: unit | M24: 0.5 | N24: unit | O24: =+'[1]25''02월'!P22 -> 25000 | P24: =+'[1]25''02월'!Q22 -> 54 | Q24: =+O24*P24 -> 1350000 | R24: 25000 | S24: 50 | T24: =+R24*S24 -> 1250000 | U24: 25000 | V24: 43.32 | W24: =+U24*V24 -> 1083000 | Y24: 2.3 | Z24: =+X24*Y24 -> 0 | AA24: =+O24 -> 25000 | AB24: =+P24+S24-V24+Y24 -> 62.98 | AC24: =+AA24*AB24 -> 1574500
B25: 뉴메코 | C25: 264-81-13092 | D25: 윤진섭과장 | E25: 010-4757-0391 | H25: 쁘띠 | I25: 보톡스 | J25: 코어톡스 | K25: 100 | L25: unit | M25: 0.5 | N25: unit | O25: =+'[1]25''02월'!P23 -> 33000 | P25: =+'[1]25''02월'!Q23 -> 37 | Q25: =+O25*P25 -> 1221000 | R25: 33000 | S25: 50 | T25: =+R25*S25 -> 1650000 | U25: 33000 | V25: 53.79 | W25: =+U25*V25 -> 1775070 | Y25: 5.8 | Z25: =+X25*Y25 -> 0 | AA25: =+O25 -> 33000 | AB25: =+P25+S25-V25+Y25 -> 39.01 | AC25: =+AA25*AB25 -> 1287330
B26: 멀츠아시아퍼스픽피티이엘티디 | C26: 211-84-10660 | D26: 최진성 | E26: 010-2942-0907 | H26: 쁘띠 | I26: 보톡스 | J26: 제오민 | K26: 100 | L26: unit | M26: 0.5 | N26: unit | O26: =+'[1]25''02월'!P24 -> 110000 | P26: =+'[1]25''02월'!Q24 -> 13 | Q26: =+O26*P26 -> 1430000 | T26: =+R26*S26 -> 0 | U26: 110000 | V26: 13 | W26: =+U26*V26 -> 1430000 | Y26: 0 | Z26: =+X26*Y26 -> 0 | AA26: =+O26 -> 110000 | AB26: =+P26+S26-V26+Y26 -> 0 | AC26: =+AA26*AB26 -> 0
B27: 멀츠아시아퍼스픽피티이엘티디 | C27: 211-84-10660 | D27: 최진성 | E27: 010-2942-0907 | H27: 쁘띠 | I27: 보톡스 | K27: 100 | L27: unit | M27: 0.5 | N27: unit | O27: =+'[1]25''02월'!P25 -> 120000 | P27: =+'[1]25''02월'!Q25 -> 30 | Q27: =+O27*P27 -> 3600000 | R27: 120000 | S27: 5 | T27: =+R27*S27 -> 600000 | U27: 120000 | V27: 33.53 | W27: =+U27*V27 -> 4023600 | Y27: 2.5 | AA27: =+O27 -> 120000 | AB27: =+P27+S27-V27+Y27 -> 3.97 | AC27: =+AA27*AB27 -> 476400
B28: 파마리서치 | C28: 220-86-07450 | D28: 장형곤 | E28: 010-4117-6855 | H28: 쁘띠 | I28: 스킨부스터 | J28: 리쥬란아이 | K28: 1 | L28: cc | M28: 1 | N28: cc | O28: =+'[1]25''02월'!P26 -> 52923 | P28: =+'[1]25''02월'!Q26 -> 25 | Q28: =+O28*P28 -> 1323075 | R28: 52923.2 | S28: 50 | T28: =+R28*S28 -> 2646160 | U28: 52923 | V28: 39 | W28: =+U28*V28 -> 2063997 | Y28: 0 | Z28: =+X28*Y28 -> 0 | AA28: =+O28 -> 52923 | AB28: =+P28+S28-V28+Y28 -> 36 | AC28: =+AA28*AB28 -> 1905228
B29: 파마리서치 | C29: 220-86-07450 | D29: 장형곤 | E29: 010-4117-6855 | H29: 쁘띠 | I29: 스킨부스터 | J29: 리쥬란 | K29: 4 | L29: cc | M29: 2 | N29: cc | O29: =+'[1]25''02월'!P27 -> 94430 | P29: =+'[1]25''02월'!Q27 -> 126 | Q29: =+O29*P29 -> 11898180 | R29: 94429.5 | S29: 100 | T29: =+R29*S29 -> 9442950 | U29: 94430 | V29: 109 | W29: =+U29*V29 -> 10292870 | Y29: 0 | Z29: =+X29*Y29 -> 0 | AA29: =+O29 -> 94430 | AB29: =+P29+S29-V29+Y29 -> 117 | AC29: =+AA29*AB29 -> 11048310
B30: 파마리서치 | C30: 220-86-07450 | D30: 장형곤 | E30: 010-4117-6855 | H30: 쁘띠 | I30: 스킨부스터 | J30: 리쥬란HB | K30: 1 | L30: cc | M30: 1 | N30: cc | O30: =+'[1]25''02월'!P29 -> 55377 | P30: =+'[1]25''02월'!Q29 -> 51 | Q30: =+O30*P30 -> 2824227 | R30: 55377.3 | S30: 50 | T30: =+R30*S30 -> 2768865 | U30: 55377 | V30: 63 | W30: =+U30*V30 -> 3488751 | Y30: 1 | Z30: =+X30*Y30 -> 0 | AA30: =+O30 -> 55377 | AB30: =+P30+S30-V30+Y30 -> 39 | AC30: =+AA30*AB30 -> 2159703
B31: ㈜아이더마바이오 | C31: 610-87-00680 | D31: 장영철차장 | E31: 010-2580-4489 | H31: 쁘띠 | I31: 스킨부스터 | J31: 샤넬 | K31: 3 | L31: cc | M31: 1 | N31: cc | O31: =+'[1]25''02월'!P30 -> 55648 | P31: =+'[1]25''02월'!Q30 -> 81 | Q31: =+O31*P31 -> 4507488 | T31: =+R31*S31 -> 0 | U31: 55648 | V31: 12 | W31: =+U31*V31 -> 667776 | Y31: 0 | Z31: =+X31*Y31 -> 0 | AA31: =+O31 -> 55648 | AB31: =+P31+S31-V31+Y31 -> 69 | AC31: =+AA31*AB31 -> 3839712
B32: 바임글로벌 | C32: 757-87-01595 | D32: 조봉근대리 | E32: 010-3033-0729 | H32: 쁘띠 | I32: 스킨부스터 | J32: 쥬베룩 | K32: 8 | L32: cc | M32: 1 | N32: cc | O32: =+'[1]25''02월'!P31 -> 100000 | P32: =+'[1]25''02월'!Q31 -> 16 | Q32: =+O32*P32 -> 1600000 | T32: =+R32*S32 -> 0 | U32: 100000 | V32: 10.74 | W32: =+U32*V32 -> 1074000 | Y32: 1.7 | Z32: =+X32*Y32 -> 0 | AA32: =+O32 -> 100000 | AB32: =+P32+S32-V32+Y32 -> 6.96 | AC32: =+AA32*AB32 -> 696000
B33: 바임글로벌 | C33: 757-87-01595 | D33: 조봉근대리 | E33: 010-3033-0729 | H33: 쁘띠 | I33: 스킨부스터 | K33: 8 | L33: cc | M33: 1 | N33: cc | O33: =+'[1]25''02월'!P32 -> 121000 | P33: =+'[1]25''02월'!Q32 -> 50 | Q33: =+O33*P33 -> 6050000 | T33: =+R33*S33 -> 0 | U33: 121000 | V33: 0 | W33: =+U33*V33 -> 0 | Y33: 0 | Z33: =+X33*Y33 -> 0 | AA33: =+O33 -> 121000 | AB33: =+P33+S33-V33+Y33 -> 50 | AC33: =+AA33*AB33 -> 6050000
B34: 확인필요 | C34: 확인필요 | D34: 확인필요 | E34: 확인필요 | H34: 쁘띠 | I34: 스킨부스터 | J34: 하이주 | K34: 6 | L34: cc | M34: 1 | N34: cc | O34: =+'[1]25''02월'!P33 -> 9616 | P34: =+'[1]25''02월'!Q33 -> 52 | Q34: =+O34*P34 -> 500032 | T34: =+R34*S34 -> 0 | U34: 9616 | V34: 27.5 | W34: =+U34*V34 -> 264440 | Y34: 1.5 | Z34: =+X34*Y34 -> 0 | AA34: =+O34 -> 9616 | AB34: =+P34+S34-V34+Y34 -> 26 | AC34: =+AA34*AB34 -> 250016
B35: 라윤코리아 | C35: 220-10-07251 | D35: 윤지혜대표 | E35: 010-2728-5010 | H35: 기타 | I35: 실리프팅 | J35: 하이코(4cm) | K35: 4 | L35: ea | M35: 4 | N35: ea | O35: =+'[1]25''02월'!P34 -> 4950 | P35: =+'[1]25''02월'!Q34 -> 84 | Q35: =+O35*P35 -> 415800 | T35: =+R35*S35 -> 0 | U35: 4950 | V35: 20 | W35: =+U35*V35 -> 99000 | Y35: 0 | Z35: =+X35*Y35 -> 0 | AA35: =+O35 -> 4950 | AB35: =+P35+S35-V35+Y35 -> 64 | AC35: =+AA35*AB35 -> 316800
B36: 라윤코리아 | C36: 220-10-07251 | D36: 윤지혜대표 | E36: 010-2728-5010 | H36: 기타 | I36: 실리프팅 | J36: 메이드코(6cm) | K36: 4 | L36: ea | M36: 4 | N36: ea | O36: =+'[1]25''02월'!P35 -> 4950 | P36: =+'[1]25''02월'!Q35 -> 20 | Q36: =+O36*P36 -> 99000 | R36: 4950 | S36: 24 | T36: =+R36*S36 -> 118800 | U36: 4950 | V36: 12 | W36: =+U36*V36 -> 59400 | Y36: -4 | Z36: =+X36*Y36 -> 0 | AA36: =+O36 -> 4950 | AB36: =+P36+S36-V36+Y36 -> 28 | AC36: =+AA36*AB36 -> 138600 | AD36: 유통기한 폐기 / 교환 안되서 폐기 진행
B37: (주)아프로메디온 | C37: 확인필요 | D37: 박세호부장 | E37: 010-6411-0772 | H37: 기타 | I37: 실리프팅 | J37: 오메가 | K37: 2 | L37: ea | M37: 2 | N37: ea | O37: =+'[1]25''02월'!P36 -> 5500 | P37: =+'[1]25''02월'!Q36 -> 188 | Q37: =+O37*P37 -> 1034000 | T37: =+R37*S37 -> 0 | U37: 5500 | V37: 38 | W37: =+U37*V37 -> 209000 | Y37: 0 | Z37: =+X37*Y37 -> 0 | AA37: =+O37 -> 5500 | AB37: =+P37+S37-V37+Y37 -> 150 | AC37: =+AA37*AB37 -> 825000
B38: 라윤코리아 | C38: 220-10-07251 | D38: 윤지혜대표 | E38: 010-2728-5010 | H38: 기타 | I38: 실리프팅 | J38: 울트라V | K38: 10 | L38: ea | M38: 10 | N38: ea | O38: =+'[1]25''02월'!P37 -> 550 | P38: =+'[1]25''02월'!Q37 -> 960 | Q38: =+O38*P38 -> 528000 | T38: =+R38*S38 -> 0 | U38: 550 | V38: 90 | W38: =+U38*V38 -> 49500 | Y38: 0 | Z38: =+X38*Y38 -> 0 | AA38: =+O38 -> 550 | AB38: =+P38+S38-V38+Y38 -> 870 | AC38: =+AA38*AB38 -> 478500
B39: 민트메디컬㈜ | C39: 755-87-01997 | D39: 김민수 | E39: 010-7210-2215 | H39: 기타 | I39: 실리프팅 | J39: 민트쁘띠 | K39: 4 | L39: ea | M39: 4 | N39: ea | O39: =+'[1]25''02월'!P38 -> 9000 | P39: =+'[1]25''02월'!Q38 -> 168 | Q39: =+O39*P39 -> 1512000 | T39: =+R39*S39 -> 0 | U39: 9000 | V39: 8 | W39: =+U39*V39 -> 72000 | Y39: 0 | Z39: =+X39*Y39 -> 0 | AA39: =+O39 -> 9000 | AB39: =+P39+S39-V39+Y39 -> 160 | AC39: =+AA39*AB39 -> 1440000
B40: 한국싱클레어(유) | C40: 530-87-00797 | E40: 010-8837-7677 | H40: 기타 | I40: 실리프팅 | J40: 실루엣8콘 | K40: 2 | L40: ea | M40: 2 | N40: ea | O40: =+'[1]25''02월'!P39 -> 107250 | P40: =+'[1]25''02월'!Q39 -> 28 | Q40: =+O40*P40 -> 3003000 | T40: =+R40*S40 -> 0 | U40: 107250 | V40: 0 | W40: =+U40*V40 -> 0 | Y40: 0 | Z40: =+X40*Y40 -> 0 | AA40: =+O40 -> 107250 | AB40: =+P40+S40-V40+Y40 -> 28 | AC40: =+AA40*AB40 -> 3003000
B41: 케어캠프㈜ | C41: 211-86-94742 | D41: 황정필 | E41: 010-6649-8881 | H41: 피부 | I41: 레이저 | J41: 울쎄라-DS 10-1.5N | K41: 2400 | L41: shot | M41: 1 | N41: shot | O41: =+'[1]25''02월'!P40 -> 1271 | P41: =+'[1]25''02월'!Q40 -> 1106 | Q41: =+O41*P41 -> 1405726 | T41: =+R41*S41 -> 0 | U41: 1271 | V41: 1100 | W41: =+U41*V41 -> 1398100 | Y41: 0 | Z41: =+X41*Y41 -> 0 | AA41: =+O41 -> 1271 | AB41: =+P41+S41-V41+Y41 -> 6 | AC41: =+AA41*AB41 -> 7626
B42: 케어캠프㈜ | C42: 211-86-94742 | D42: 황정필 | E42: 010-6649-8881 | H42: 피부 | K42: 2400 | L42: shot | M42: 1 | N42: shot | O42: =+'[1]25''02월'!P41 -> 1121 | P42: =+'[1]25''02월'!Q41 -> 12000 | Q42: =+O42*P42 -> 13452000 | T42: =+R42*S42 -> 0 | U42: 1121 | V42: 0 | W42: =+U42*V42 -> 0 | Y42: 0 | Z42: =+X42*Y42 -> 0 | AA42: =+O42 -> 1121 | AB42: =+P42+S42-V42+Y42 -> 12000 | AC42: =+AA42*AB42 -> 13452000
B43: 케어캠프㈜ | C43: 211-86-94742 | D43: 황정필 | E43: 010-6649-8881 | H43: 피부 | J43: 울쎄라-DS 7-3.0 | K43: 2400 | L43: shot | M43: 1 | N43: shot | O43: =+'[1]25''02월'!P42 -> 1121 | P43: =+'[1]25''02월'!Q42 -> 1419 | Q43: =+O43*P43 -> 1590699 | R43: 1270.8333 | S43: 2400 | T43: =+R43*S43 -> 3050000 | U43: 1121 | V43: 1419 | W43: =+U43*V43 -> 1590699 | Y43: 0 | Z43: =+X43*Y43 -> 0 | AA43: =+O43 -> 1121 | AB43: =+P43+S43-V43+Y43 -> 2400 | AC43: =+AA43*AB43 -> 2690400
B44: 케어캠프㈜ | C44: 211-86-94742 | D44: 황정필 | E44: 010-6649-8881 | H44: 피부 | K44: 2400 | L44: shot | M44: 1 | N44: shot | O44: =+'[1]25''02월'!P43 -> 1145.9 | P44: =+'[1]25''02월'!Q43 -> 12000 | Q44: =+O44*P44 -> 13750800 | T44: =+R44*S44 -> 0 | U44: 1146 | V44: 5100 | W44: =+U44*V44 -> 5844600 | Y44: 0 | Z44: =+X44*Y44 -> 0 | AA44: =+O44 -> 1145.9 | AB44: =+P44+S44-V44+Y44 -> 6900 | AC44: =+AA44*AB44 -> 7906710
B45: 케어캠프㈜ | C45: 211-86-94742 | D45: 황정필 | E45: 010-6649-8881 | H45: 피부 | J45: 울쎄라-DS 4-4.5 | K45: 2400 | L45: shot | M45: 1 | N45: shot | O45: =+'[1]25''02월'!P45 -> 1145.9 | P45: =+'[1]25''02월'!Q45 -> 98243 | Q45: =+O45*P45 -> 1.1257665e+08 | R45: 1270.8333 | S45: 9600 | T45: =+R45*S45 -> 12200000 | U45: 1146 | V45: 9600 | W45: =+U45*V45 -> 11001600 | Y45: -86024 | Z45: =+X45*Y45 -> 0 | AA45: =+O45 -> 1145.9 | AB45: =+P45+S45-V45+Y45 -> 12219 | AC45: =+AA45*AB45 -> 14001752 | AD45: 엑셀 잘못 기입(crm 재고는 맞아요)
B46: ㈜클래시스 | C46: 107-88-39288 | D46: 확인필요 | E46: 확인필요 | H46: 비만 | J46: 울핏6.0 | K46: 60100 | L46: shot | M46: 1 | N46: shot | O46: =+'[1]25''02월'!P46 -> 22 | P46: =+'[1]25''02월'!Q46 -> 67892 | Q46: =+O46*P46 -> 1493624 | T46: =+R46*S46 -> 0 | U46: 22 | V46: 13213 | W46: =+U46*V46 -> 290686 | Y46: -481 | Z46: =+X46*Y46 -> 0 | AA46: =+O46 -> 22 | AB46: =+P46+S46-V46+Y46 -> 54198 | AC46: =+AA46*AB46 -> 1192356 | AD46: 3월 말 기준 재고 확인 후 정리 / 팁as 이번달 정리
B47: ㈜클래시스 | C47: 107-88-39288 | D47: 확인필요 | E47: 확인필요 | H47: 비만 | J47: 울핏9.0 | K47: 60100 | L47: shot | M47: 1 | N47: shot | O47: =+'[1]25''02월'!P47 -> 22 | P47: =+'[1]25''02월'!Q47 -> 69660 | Q47: =+O47*P47 -> 1532520 | T47: =+R47*S47 -> 0 | U47: 22 | V47: 4403 | W47: =+U47*V47 -> 96866 | Y47: -909 | Z47: =+X47*Y47 -> 0 | AA47: =+O47 -> 22 | AB47: =+P47+S47-V47+Y47 -> 64348 | AC47: =+AA47*AB47 -> 1415656 | AD47: 3월 말 기준 재고 확인 후 정리 / 팁as 이번달 정리
B48: ㈜지오영 | C48: 109-81-78726 | D48: 정상목주임 | E48: 010-5105-0629 | H48: 피부 | J48: 써마지 FLX 600샷 | K48: 600 | L48: shot | M48: 600 | N48: shot | O48: =+'[1]25''02월'!P48 -> 0 | P48: =+'[1]25''02월'!Q48 -> 0 | Q48: =+O48*P48 -> 0 | R48: 840000 | S48: 60 | T48: =+R48*S48 -> 50400000 | U48: 840000 | W48: =+U48*V48 -> 0 | Y48: 0 | AA48: =+O48 -> 0 | AB48: =+P48+S48-V48+Y48 -> 60 | AC48: =+AA48*AB48 -> 0
B49: ㈜지오영 | C49: 109-81-78726 | D49: 정상목주임 | E49: 010-5105-0629 | H49: 피부 | J49: 써마지 FLX 600샷 | K49: 600 | L49: shot | M49: 600 | N49: shot | O49: =+'[1]25''02월'!P49 -> 960000 | P49: =+'[1]25''02월'!Q49 -> 18 | Q49: =+O49*P49 -> 17280000 | T49: =+R49*S49 -> 0 | U49: 960000 | V49: 13 | W49: =+U49*V49 -> 12480000 | Y49: 0 | AA49: =+O49 -> 960000 | AB49: =+P49+S49-V49+Y49 -> 5 | AC49: =+AA49*AB49 -> 4800000
B50: ㈜지오영 | C50: 109-81-78726 | D50: 정상목주임 | E50: 010-5105-0629 | J50: 써마지 FLX 300샷 | K50: 300 | L50: shot | M50: 300 | N50: shot
B51: 확인필요 | C51: 확인필요 | D51: 확인필요 | E51: 확인필요 | H51: 기타 | J51: 멀티블루 | K51: 10 | L51: cc | M51: 10 | N51: cc | O51: =+'[1]25''02월'!P50 -> 8800 | P51: =+'[1]25''02월'!Q50 -> 19 | Q51: =+O51*P51 -> 167200 | R51: 8800 | S51: 25 | T51: =+R51*S51 -> 220000 | U51: 8800 | V51: 9 | W51: =+U51*V51 -> 79200 | Y51: 0 | Z51: =+X51*Y51 -> 0 | AA51: =+O51 -> 8800 | AB51: =+P51+S51-V51+Y51 -> 35 | AC51: =+AA51*AB51 -> 308000
B52: 확인필요 | C52: 확인필요 | D52: 확인필요 | E52: 확인필요 | H52: 비만 | J52: 아르기닌 | K52: 100 | L52: cc | M52: 100 | N52: cc | O52: =+'[1]25''02월'!P51 -> 20000 | P52: =+'[1]25''02월'!Q51 -> 16 | Q52: =+O52*P52 -> 320000 | R52: 20000 | S52: 20 | T52: =+R52*S52 -> 400000 | U52: 20000 | V52: 11 | W52: =+U52*V52 -> 220000 | Y52: 0 | Z52: =+X52*Y52 -> 0 | AA52: =+O52 -> 20000 | AB52: =+P52+S52-V52+Y52 -> 25 | AC52: =+AA52*AB52 -> 500000
B53: 확인필요 | C53: 확인필요 | D53: 확인필요 | E53: 확인필요 | H53: 기타 | J53: BSC-30 | K53: 1 | L53: ea | M53: 1 | N53: ea | O53: =+'[1]25''02월'!P52 -> 170000 | P53: =+'[1]25''02월'!Q52 -> 3 | Q53: =+O53*P53 -> 510000 | T53: =+R53*S53 -> 0 | U53: 170000 | V53: 0 | W53: =+U53*V53 -> 0 | Y53: 0 | Z53: =+X53*Y53 -> 0 | AA53: =+O53 -> 170000 | AB53: =+P53+S53-V53+Y53 -> 3 | AC53: =+AA53*AB53 -> 510000
B54: 확인필요 | C54: 확인필요 | D54: 확인필요 | E54: 확인필요 | H54: 기타 | J54: BSC-60 | K54: 1 | L54: ea | M54: 1 | N54: ea | O54: =+'[1]25''02월'!P53 -> 350000 | P54: =+'[1]25''02월'!Q53 -> 6 | Q54: =+O54*P54 -> 2100000 | T54: =+R54*S54 -> 0 | U54: 350000 | V54: 0 | W54: =+U54*V54 -> 0 | Y54: 0 | Z54: =+X54*Y54 -> 0 | AA54: =+O54 -> 350000 | AB54: =+P54+S54-V54+Y54 -> 6 | AC54: =+AA54*AB54 -> 2100000
B55: 확인필요 | C55: 확인필요 | D55: 확인필요 | E55: 확인필요 | H55: 기타 | J55: BSC-120 | K55: 1 | L55: ea | M55: 1 | N55: ea | O55: =+'[1]25''02월'!P54 -> 600000 | P55: =+'[1]25''02월'!Q54 -> 3 | Q55: =+O55*P55 -> 1800000 | T55: =+R55*S55 -> 0 | U55: 600000 | V55: 0 | W55: =+U55*V55 -> 0 | Y55: 0 | Z55: =+X55*Y55 -> 0 | AA55: =+O55 -> 600000 | AB55: =+P55+S55-V55+Y55 -> 3 | AC55: =+AA55*AB55 -> 1800000
B56: 소계 | Q56: =SUM(Q6:Q55) -> 2.765564e+08 | T56: =SUM(T6:T55) -> 1.0158533e+08 | W56: =SUM(W6:W55) -> 79900707 | X56: =+U56 -> 0 | Z56: =SUM(Z6:Z55) -> 0 | AC56: =SUM(AC6:AC55) -> 1.5241105e+08
B57: 유벤타헬스케어 | C57: =VLOOKUP(B57,$B$6:$C$55,2,0) -> #N/A | D57: =VLOOKUP(B57,$B$6:$D$55,3,0) -> #N/A | E57: =VLOOKUP(B57,$B$6:$J$55,4,0) -> #N/A | H57: 피부 | J57: NDA플러스 | K57: 1 | L57: cc | M57: 1 | N57: cc | O57: =+'[1]25''02월'!P56 -> 15400 | P57: =+'[1]25''02월'!Q56 -> 55 | Q57: =+O57*P57 -> 847000 | T57: =+R57*S57 -> 0 | W57: =+U57*V57 -> 0 | X57: =+U57 -> 0 | Z57: =+X57*Y57 -> 0 | AA57: =+O57 -> 15400 | AB57: =+P57+S57-V57+Y57 -> 55 | AC57: =+AA57*AB57 -> 847000
B58: 에스테팜 | C58: =VLOOKUP(B58,$B$6:$C$55,2,0) -> #N/A | D58: =VLOOKUP(B58,$B$6:$D$55,3,0) -> #N/A | E58: =VLOOKUP(B58,$B$6:$J$55,4,0) -> #N/A | H58: 피부 | J58: 큐티셀 | K58: 1 | L58: ea | M58: 1 | N58: ea | O58: =+'[1]25''02월'!P57 -> 33000 | P58: =+'[1]25''02월'!Q57 -> 24 | Q58: =+O58*P58 -> 792000 | T58: =+R58*S58 -> 0 | W58: =+U58*V58 -> 0 | X58: =+U58 -> 0 | Z58: =+X58*Y58 -> 0 | AA58: =+O58 -> 33000 | AB58: =+P58+S58-V58+Y58 -> 24 | AC58: =+AA58*AB58 -> 792000
B59: 제이시스 | C59: =VLOOKUP(B59,$B$6:$C$55,2,0) -> #N/A | D59: =VLOOKUP(B59,$B$6:$D$55,3,0) -> #N/A | E59: =VLOOKUP(B59,$B$6:$J$55,4,0) -> #N/A | H59: 피부 | J59: N-25 | K59: 1 | L59: ea | M59: 1 | N59: ea | O59: =+'[1]25''02월'!P58 -> 33000 | P59: =+'[1]25''02월'!Q58 -> 14 | Q59: =+O59*P59 -> 462000 | T59: =+R59*S59 -> 0 | W59: =+U59*V59 -> 0 | AA59: =+O59 -> 33000 | AB59: =+P59+S59-V59+Y59 -> 14 | AC59: =+AA59*AB59 -> 462000
B60: 제이시스 | C60: =VLOOKUP(B60,$B$6:$C$55,2,0) -> #N/A | D60: =VLOOKUP(B60,$B$6:$D$55,3,0) -> #N/A | E60: =VLOOKUP(B60,$B$6:$J$55,4,0) -> #N/A | H60: 피부 | J60: I-25 | K60: 1 | L60: ea | M60: 1 | N60: ea | O60: =+'[1]25''02월'!P59 -> 33000 | P60: =+'[1]25''02월'!Q59 -> 7 | Q60: =+O60*P60 -> 231000 | T60: =+R60*S60 -> 0 | W60: =+U60*V60 -> 0 | X60: =+U60 -> 0 | AA60: =+O60 -> 33000 | AB60: =+P60+S60-V60+Y60 -> 7 | AC60: =+AA60*AB60 -> 231000
B61: 제이시스 | C61: =VLOOKUP(B61,$B$6:$C$55,2,0) -> #N/A | D61: =VLOOKUP(B61,$B$6:$D$55,3,0) -> #N/A | E61: =VLOOKUP(B61,$B$6:$J$55,4,0) -> #N/A | H61: 피부 | J61: CP-25 | K61: 1 | L61: ea | M61: 1 | N61: ea | O61: =+'[1]25''02월'!P60 -> 49000 | P61: =+'[1]25''02월'!Q60 -> 38 | Q61: =+O61*P61 -> 1862000 | T61: =+R61*S61 -> 0 | W61: =+U61*V61 -> 0 | X61: =+U61 -> 0 | AA61: =+O61 -> 49000 | AB61: =+P61+S61-V61+Y61 -> 38 | AC61: =+AA61*AB61 -> 1862000
B62: 제이시스 | C62: =VLOOKUP(B62,$B$6:$C$55,2,0) -> #N/A | D62: =VLOOKUP(B62,$B$6:$D$55,3,0) -> #N/A | E62: =VLOOKUP(B62,$B$6:$J$55,4,0) -> #N/A | H62: 피부 | J62: DDR | K62: 5000 | L62: ea | M62: 1 | N62: ea | O62: =+'[1]25''02월'!P61 -> 44 | P62: =+'[1]25''02월'!Q61 -> 7954 | Q62: =+O62*P62 -> 349976 | T62: =+R62*S62 -> 0 | W62: =+U62*V62 -> 0 | AA62: =+O62 -> 44 | AB62: =+P62+S62-V62+Y62 -> 7954 | AC62: =+AA62*AB62 -> 349976
B63: 제이시스 | C63: =VLOOKUP(B63,$B$6:$C$55,2,0) -> #N/A | D63: =VLOOKUP(B63,$B$6:$D$55,3,0) -> #N/A | E63: =VLOOKUP(B63,$B$6:$J$55,4,0) -> #N/A | H63: 피부 | J63: DIA | K63: 10000 | L63: ea | M63: 1 | N63: ea | O63: =+'[1]25''02월'!P62 -> 165 | P63: =+'[1]25''02월'!Q62 -> 10901 | Q63: =+O63*P63 -> 1798665 | T63: =+R63*S63 -> 0 | W63: =+U63*V63 -> 0 | X63: =+U63 -> 0 | AA63: =+O63 -> 165 | AB63: =+P63+S63-V63+Y63 -> 10901 | AC63: =+AA63*AB63 -> 1798665
B64: 제이시스 | C64: =VLOOKUP(B64,$B$6:$C$55,2,0) -> #N/A | D64: =VLOOKUP(B64,$B$6:$D$55,3,0) -> #N/A | E64: =VLOOKUP(B64,$B$6:$J$55,4,0) -> #N/A | H64: 피부 | J64: 포텐자 젤(s.v) | K64: 확인필요 | L64: 확인필요 | M64: 확인필요 | N64: 확인필요 | O64: 0 | P64: 4 | Q64: 0 | T64: 0 | U64: 0 | V64: 0 | W64: 0 | Z64: 0 | AA64: 0 | AB64: 4 | AC64: 0
B65: 은성메디컬 | C65: =VLOOKUP(B65,$B$6:$C$55,2,0) -> #N/A | D65: =VLOOKUP(B65,$B$6:$D$55,3,0) -> #N/A | E65: 010-5323-3196 | H65: 피부 | J65: 듀엣써마지 팁 | K65: 1 | L65: ea | M65: 1 | N65: ea | O65: =+'[1]25''02월'!P64 -> 11 | P65: =+'[1]25''02월'!Q64 -> 3153 | Q65: =+O65*P65 -> 34683 | T65: =+R65*S65 -> 0 | W65: =+U65*V65 -> 0 | X65: =+U65 -> 0 | Z65: =+X65*Y65 -> 0 | AA65: =+O65 -> 11 | AB65: =+P65+S65-V65+Y65 -> 3153 | AC65: =+AA65*AB65 -> 34683
B66: 은성메디컬 | C66: =VLOOKUP(B66,$B$6:$C$55,2,0) -> #N/A | D66: =VLOOKUP(B66,$B$6:$D$55,3,0) -> #N/A | E66: 010-5323-3196 | H66: 피부 | J66: 듀엣써마지 패드 | K66: 1 | L66: ea | M66: 1 | N66: ea | O66: =+'[1]25''02월'!P65 -> 5500 | P66: =+'[1]25''02월'!Q65 -> 19 | Q66: =+O66*P66 -> 104500 | T66: =+R66*S66 -> 0 | W66: =+U66*V66 -> 0 | X66: =+U66 -> 0 | Z66: =+X66*Y66 -> 0 | AA66: =+O66 -> 5500 | AB66: =+P66+S66-V66+Y66 -> 19 | AC66: =+AA66*AB66 -> 104500
B67: ㈜클래시스 | C67: =VLOOKUP(B67,$B$6:$C$55,2,0) -> 107-88-39288 | D67: =VLOOKUP(B67,$B$6:$D$55,3,0) -> 확인필요 | E67: =VLOOKUP(B67,$B$6:$J$55,4,0) -> 확인필요 | H67: 피부 | J67: 슈링크U L-4.5(2만) | K67: 20100 | L67: 샷 | M67: 1 | N67: 샷 | O67: =+'[1]25''02월'!P66 -> 110 | P67: =+'[1]25''02월'!Q66 -> 48505 | Q67: =+O67*P67 -> 5335550 | T67: =+R67*S67 -> 0 | W67: =+U67*V67 -> 0 | AA67: =+O67 -> 110 | AB67: =+P67+S67-V67+Y67 -> 48505 | AC67: =+AA67*AB67 -> 5335550
B68: ㈜클래시스 | C68: =VLOOKUP(B68,$B$6:$C$55,2,0) -> 107-88-39288 | D68: =VLOOKUP(B68,$B$6:$D$55,3,0) -> 확인필요 | E68: =VLOOKUP(B68,$B$6:$J$55,4,0) -> 확인필요 | H68: 피부 | J68: 슈링크U C-3.0(2만) | K68: 20100 | L68: 샷 | M68: 1 | N68: 샷 | O68: =+'[1]25''02월'!P67 -> 110 | P68: =+'[1]25''02월'!Q67 -> 45443 | Q68: =+O68*P68 -> 4998730 | T68: =+R68*S68 -> 0 | W68: =+U68*V68 -> 0 | AA68: =+O68 -> 110 | AB68: =+P68+S68-V68+Y68 -> 45443 | AC68: =+AA68*AB68 -> 4998730
B69: ㈜클래시스 | C69: =VLOOKUP(B69,$B$6:$C$55,2,0) -> 107-88-39288 | D69: =VLOOKUP(B69,$B$6:$D$55,3,0) -> 확인필요 | E69: =VLOOKUP(B69,$B$6:$J$55,4,0) -> 확인필요 | H69: 피부 | J69: 슈링크U I-.2.0(2만) | K69: 20100 | L69: 샷 | M69: 1 | N69: 샷 | O69: =+'[1]25''02월'!P68 -> 110 | P69: =+'[1]25''02월'!Q68 -> 11690 | Q69: =+O69*P69 -> 1285900 | T69: =+R69*S69 -> 0 | W69: =+U69*V69 -> 0 | X69: =+U69 -> 0 | Z69: =+X69*Y69 -> 0 | AA69: =+O69 -> 110 | AB69: =+P69+S69-V69+Y69 -> 11690 | AC69: =+AA69*AB69 -> 1285900
B70: ㈜클래시스 | C70: =VLOOKUP(B70,$B$6:$C$55,2,0) -> 107-88-39288 | D70: =VLOOKUP(B70,$B$6:$D$55,3,0) -> 확인필요 | E70: =VLOOKUP(B70,$B$6:$J$55,4,0) -> 확인필요 | H70: 피부 | J70: 슈링크B L-.4.5 | K70: 100 | L70: 샷 | M70: 1 | N70: 샷 | O70: =+'[1]25''02월'!P69 -> 87 | P70: =+'[1]25''02월'!Q69 -> 3682 | Q70: =+O70*P70 -> 320334 | T70: =+R70*S70 -> 0 | W70: =+U70*V70 -> 0 | X70: =+U70 -> 0 | Z70: =+X70*Y70 -> 0 | AA70: =+O70 -> 87 | AB70: =+P70+S70-V70+Y70 -> 3682 | AC70: =+AA70*AB70 -> 320334
B71: ㈜클래시스 | C71: =VLOOKUP(B71,$B$6:$C$55,2,0) -> 107-88-39288 | D71: =VLOOKUP(B71,$B$6:$D$55,3,0) -> 확인필요 | E71: =VLOOKUP(B71,$B$6:$J$55,4,0) -> 확인필요 | H71: 피부 | J71: 슈링크B D-1.5 | K71: 100 | L71: 샷 | M71: 1 | N71: 샷 | O71: =+'[1]25''02월'!P70 -> 87 | P71: =+'[1]25''02월'!Q70 -> 1527 | Q71: =+O71*P71 -> 132849 | T71: =+R71*S71 -> 0 | W71: =+U71*V71 -> 0 | X71: =+U71 -> 0 | Z71: =+X71*Y71 -> 0 | AA71: =+O71 -> 87 | AB71: =+P71+S71-V71+Y71 -> 1527 | AC71: =+AA71*AB71 -> 132849
B72: ㈜클래시스 | C72: =VLOOKUP(B72,$B$6:$C$55,2,0) -> 107-88-39288 | D72: =VLOOKUP(B72,$B$6:$D$55,3,0) -> 확인필요 | E72: =VLOOKUP(B72,$B$6:$J$55,4,0) -> 확인필요 | H72: 피부 | J72: 슈링크B L-4.5(2만) | K72: 100 | L72: 샷 | M72: 1 | N72: 샷 | O72: =+'[1]25''02월'!P71 -> 87 | P72: =+'[1]25''02월'!Q71 -> 0 | Q72: =+O72*P72 -> 0 | T72: =+R72*S72 -> 0 | W72: =+U72*V72 -> 0 | X72: =+U72 -> 0 | Z72: =+X72*Y72 -> 0 | AA72: =+O72 -> 87 | AB72: =+P72+S72-V72+Y72 -> 0 | AC72: =+AA72*AB72 -> 0
B73: ㈜클래시스 | C73: =VLOOKUP(B73,$B$6:$C$55,2,0) -> 107-88-39288 | D73: =VLOOKUP(B73,$B$6:$D$55,3,0) -> 확인필요 | E73: =VLOOKUP(B73,$B$6:$J$55,4,0) -> 확인필요 | H73: 피부 | J73: 슈링크B C-3.0(2만) | K73: 100 | L73: 샷 | M73: 1 | N73: 샷 | O73: =+'[1]25''02월'!P72 -> 87 | P73: =+'[1]25''02월'!Q72 -> 15570 | Q73: =+O73*P73 -> 1354590 | T73: =+R73*S73 -> 0 | W73: =+U73*V73 -> 0 | X73: =+U73 -> 0 | Z73: =+X73*Y73 -> 0 | AA73: =+O73 -> 87 | AB73: =+P73+S73-V73+Y73 -> 15570 | AC73: =+AA73*AB73 -> 1354590
B74: ㈜클래시스 | C74: =VLOOKUP(B74,$B$6:$C$55,2,0) -> 107-88-39288 | D74: =VLOOKUP(B74,$B$6:$D$55,3,0) -> 확인필요 | E74: =VLOOKUP(B74,$B$6:$J$55,4,0) -> 확인필요 | H74: 피부 | J74: 슈링크B D-1.5(2만) | K74: 100 | L74: 샷 | M74: 1 | N74: 샷 | O74: =+'[1]25''02월'!P73 -> 87 | P74: =+'[1]25''02월'!Q73 -> 0 | Q74: =+O74*P74 -> 0 | T74: =+R74*S74 -> 0 | W74: =+U74*V74 -> 0 | X74: =+U74 -> 0 | Z74: =+X74*Y74 -> 0 | AA74: =+O74 -> 87 | AB74: =+P74+S74-V74+Y74 -> 0 | AC74: =+AA74*AB74 -> 0
B75: ㈜클래시스 | C75: =VLOOKUP(B75,$B$6:$C$55,2,0) -> 107-88-39288 | D75: =VLOOKUP(B75,$B$6:$D$55,3,0) -> 확인필요 | E75: =VLOOKUP(B75,$B$6:$J$55,4,0) -> 확인필요 | H75: 피부 | J75: GT38앰플 | K75: 1 | L75: ea | M75: 1 | N75: cc | O75: =+'[1]25''02월'!P74 -> 5000 | P75: =+'[1]25''02월'!Q74 -> 34 | Q75: =+O75*P75 -> 170000 | T75: =+R75*S75 -> 0 | W75: =+U75*V75 -> 0 | X75: =+U75 -> 0 | Z75: =+X75*Y75 -> 0 | AA75: =+O75 -> 5000 | AB75: =+P75+S75-V75+Y75 -> 34 | AC75: =+AA75*AB75 -> 170000
B76: 하이로닉 | C76: =VLOOKUP(B76,$B$6:$C$55,2,0) -> #N/A | D76: =VLOOKUP(B76,$B$6:$D$55,3,0) -> #N/A | E76: =VLOOKUP(B76,$B$6:$J$55,4,0) -> #N/A | H76: 피부 | J76: 더블로M7 | K76: 확인필요 | L76: 확인필요 | M76: 확인필요 | N76: 확인필요 | O76: =+'[1]25''02월'!P75 -> 104 | P76: =+'[1]25''02월'!Q75 -> 12513 | Q76: =+O76*P76 -> 1301352 | T76: =+R76*S76 -> 0 | W76: =+U76*V76 -> 0 | X76: =+U76 -> 0 | Z76: =+X76*Y76 -> 0 | AA76: =+O76 -> 104 | AB76: =+P76+S76-V76+Y76 -> 12513 | AC76: =+AA76*AB76 -> 1301352
B77: 하이로닉 | C77: =VLOOKUP(B77,$B$6:$C$55,2,0) -> #N/A | D77: =VLOOKUP(B77,$B$6:$D$55,3,0) -> #N/A | E77: =VLOOKUP(B77,$B$6:$J$55,4,0) -> #N/A | H77: 피부 | J77: 더블러D4 | K77: 확인필요 | L77: 확인필요 | M77: 확인필요 | N77: 확인필요 | O77: =+'[1]25''02월'!P76 -> 104 | P77: =+'[1]25''02월'!Q76 -> 721 | Q77: =+O77*P77 -> 74984 | T77: =+R77*S77 -> 0 | W77: =+U77*V77 -> 0 | X77: =+U77 -> 0 | Z77: =+X77*Y77 -> 0 | AA77: =+O77 -> 104 | AB77: =+P77+S77-V77+Y77 -> 721 | AC77: =+AA77*AB77 -> 74984
B78: 에이치투메디 | C78: =VLOOKUP(B78,$B$6:$C$55,2,0) -> #N/A | D78: =VLOOKUP(B78,$B$6:$D$55,3,0) -> #N/A | E78: =VLOOKUP(B78,$B$6:$J$55,4,0) -> #N/A | H78: 피부 | J78: 라라필 폼클렌져 | K78: 1 | L78: ea | M78: 1 | N78: ea | O78: =+'[1]25''02월'!P77 -> 29700 | P78: =+'[1]25''02월'!Q77 -> 1 | Q78: =+O78*P78 -> 29700 | T78: =+R78*S78 -> 0 | W78: =+U78*V78 -> 0 | X78: =+U78 -> 0 | AA78: =+O78 -> 29700 | AB78: =+P78+S78-V78+Y78 -> 1 | AC78: =+AA78*AB78 -> 29700
B79: 에이치투메디 | C79: =VLOOKUP(B79,$B$6:$C$55,2,0) -> #N/A | D79: =VLOOKUP(B79,$B$6:$D$55,3,0) -> #N/A | E79: =VLOOKUP(B79,$B$6:$J$55,4,0) -> #N/A | H79: 피부 | J79: 라라필 1제 | K79: 1 | L79: ea | M79: 1 | N79: ea | O79: =+'[1]25''02월'!P78 -> 55000 | P79: =+'[1]25''02월'!Q78 -> 2 | Q79: =+O79*P79 -> 110000 | T79: =+R79*S79 -> 0 | W79: =+U79*V79 -> 0 | AA79: =+O79 -> 55000 | AB79: =+P79+S79-V79+Y79 -> 2 | AC79: =+AA79*AB79 -> 110000
B80: 에이치투메디 | C80: =VLOOKUP(B80,$B$6:$C$55,2,0) -> #N/A | D80: =VLOOKUP(B80,$B$6:$D$55,3,0) -> #N/A | E80: =VLOOKUP(B80,$B$6:$J$55,4,0) -> #N/A | H80: 피부 | J80: 라라필 2제 | K80: 1 | L80: ea | M80: 1 | N80: ea | O80: =+'[1]25''02월'!P80 -> 55000 | P80: =+'[1]25''02월'!Q80 -> 4 | Q80: =+O80*P80 -> 220000 | T80: =+R80*S80 -> 0 | AA80: =+O80 -> 55000 | AB80: =+P80+S80-V80+Y80 -> 4 | AC80: =+AA80*AB80 -> 220000
B81: 에이치투메디 | C81: =VLOOKUP(B81,$B$6:$C$55,2,0) -> #N/A | D81: =VLOOKUP(B81,$B$6:$D$55,3,0) -> #N/A | E81: =VLOOKUP(B81,$B$6:$J$55,4,0) -> #N/A | H81: 피부 | J81: 라라필 마스크팩 | K81: 1 | L81: ea | M81: 1 | N81: ea | O81: =+'[1]25''02월'!P82 -> 4125 | P81: =+'[1]25''02월'!Q82 -> 37 | Q81: =+O81*P81 -> 152625 | T81: =+R81*S81 -> 0 | W81: =+U81*V81 -> 0 | AA81: =+O81 -> 4125 | AB81: =+P81+S81-V81+Y81 -> 37 | AC81: =+AA81*AB81 -> 152625
B82: 확인필요 | C82: =VLOOKUP(B82,$B$6:$C$55,2,0) -> 확인필요 | D82: =VLOOKUP(B82,$B$6:$D$55,3,0) -> 확인필요 | E82: =VLOOKUP(B82,$B$6:$J$55,4,0) -> 확인필요 | H82: 피부 | J82: 라라젯 x로션 1 | K82: 1 | L82: ea | M82: 1 | N82: ea | O82: =+'[1]25''02월'!P83 -> 55000 | P82: =+'[1]25''02월'!Q83 -> 3 | Q82: =+O82*P82 -> 165000 | T82: =+R82*S82 -> 0 | W82: =+U82*V82 -> 0 | AA82: =+O82 -> 55000 | AB82: =+P82+S82-V82+Y82 -> 3 | AC82: =+AA82*AB82 -> 165000
B83: ㈜엠제이메디컬 | C83: =VLOOKUP(B83,$B$6:$C$55,2,0) -> #N/A | D83: 이만재 대표 | E83: 010-4420-1825 | H83: 피부 | J83: 라라젯 s1 | K83: 1 | L83: ea | M83: 1 | N83: ea | O83: =+'[1]25''02월'!P84 -> 55000 | P83: =+'[1]25''02월'!Q84 -> 1 | Q83: =+O83*P83 -> 55000 | T83: =+R83*S83 -> 0 | W83: =+U83*V83 -> 0 | X83: =+U83 -> 0 | AA83: =+O83 -> 55000 | AB83: =+P83+S83-V83+Y83 -> 1 | AC83: =+AA83*AB83 -> 55000
B84: ㈜엠제이메디컬 | C84: =VLOOKUP(B84,$B$6:$C$55,2,0) -> #N/A | D84: 이만재 대표 | E84: 010-4420-1825 | H84: 피부 | J84: 라라젯 s2 | K84: 1 | L84: ea | M84: 1 | N84: ea | O84: =+'[1]25''02월'!P85 -> 55000 | P84: =+'[1]25''02월'!Q85 -> 3 | Q84: =+O84*P84 -> 165000 | T84: =+R84*S84 -> 0 | W84: =+U84*V84 -> 0 | X84: =+U84 -> 0 | AA84: =+O84 -> 55000 | AB84: =+P84+S84-V84+Y84 -> 3 | AC84: =+AA84*AB84 -> 165000
B85: ㈜엠제이메디컬 | C85: =VLOOKUP(B85,$B$6:$C$55,2,0) -> #N/A | D85: 이만재 대표 | E85: 010-4420-1825 | H85: 피부 | J85: 라라젯 s3 | K85: 1 | L85: ea | M85: 1 | N85: ea | O85: =+'[1]25''02월'!P86 -> 55000 | P85: =+'[1]25''02월'!Q86 -> 1 | Q85: =+O85*P85 -> 55000 | T85: =+R85*S85 -> 0 | W85: =+U85*V85 -> 0 | X85: =+U85 -> 0 | AA85: =+O85 -> 55000 | AB85: =+P85+S85-V85+Y85 -> 1 | AC85: =+AA85*AB85 -> 55000
B86: ㈜엠제이메디컬 | C86: =VLOOKUP(B86,$B$6:$C$55,2,0) -> #N/A | D86: 이만재 대표 | E86: 010-4420-1825 | H86: 피부 | J86: 라라젯 팁 | K86: 1 | L86: ea | M86: 1 | N86: ea | O86: =+'[1]25''02월'!P87 -> 2750 | P86: =+'[1]25''02월'!Q87 -> 39 | Q86: =+O86*P86 -> 107250 | T86: =+R86*S86 -> 0 | W86: =+U86*V86 -> 0 | AA86: =+O86 -> 2750 | AB86: =+P86+S86-V86+Y86 -> 39 | AC86: =+AA86*AB86 -> 107250
B87: ㈜엠제이메디컬 | C87: =VLOOKUP(B87,$B$6:$C$55,2,0) -> #N/A | D87: 이만재 대표 | E87: 010-4420-1825 | H87: 피부 | J87: 아쿠아필S1 | K87: 1 | L87: ea | M87: 1 | N87: ea | O87: =+'[1]25''02월'!P88 -> 11000 | P87: =+'[1]25''02월'!Q88 -> 10 | Q87: =+O87*P87 -> 110000 | T87: =+R87*S87 -> 0 | W87: =+U87*V87 -> 0 | X87: =+U87 -> 0 | Z87: =+X87*Y87 -> 0 | AA87: =+O87 -> 11000 | AB87: =+P87+S87-V87+Y87 -> 10 | AC87: =+AA87*AB87 -> 110000
B88: ㈜엠제이메디컬 | C88: =VLOOKUP(B88,$B$6:$C$55,2,0) -> #N/A | D88: 이만재 대표 | E88: 010-4420-1825 | H88: 피부 | J88: 아쿠아필S2 | K88: 1 | L88: ea | M88: 1 | N88: ea | O88: =+'[1]25''02월'!P89 -> 11000 | P88: =+'[1]25''02월'!Q89 -> 15 | Q88: =+O88*P88 -> 165000 | T88: =+R88*S88 -> 0 | W88: =+U88*V88 -> 0 | X88: =+U88 -> 0 | Z88: =+X88*Y88 -> 0 | AA88: =+O88 -> 11000 | AB88: =+P88+S88-V88+Y88 -> 15 | AC88: =+AA88*AB88 -> 165000
B89: ㈜엠제이메디컬 | C89: =VLOOKUP(B89,$B$6:$C$55,2,0) -> #N/A | D89: 이만재 대표 | E89: 010-4420-1825 | H89: 피부 | J89: 아쿠아필S3 | K89: 1 | L89: ea | M89: 1 | N89: ea | O89: =+'[1]25''02월'!P90 -> 11000 | P89: =+'[1]25''02월'!Q90 -> 9 | Q89: =+O89*P89 -> 99000 | T89: =+R89*S89 -> 0 | W89: =+U89*V89 -> 0 | X89: =+U89 -> 0 | Z89: =+X89*Y89 -> 0 | AA89: =+O89 -> 11000 | AB89: =+P89+S89-V89+Y89 -> 9 | AC89: =+AA89*AB89 -> 99000
B90: ㈜엠제이메디컬 | C90: =VLOOKUP(B90,$B$6:$C$55,2,0) -> #N/A | D90: 이만재 대표 | E90: 010-4420-1825 | H90: 피부 | J90: 디아지팁(인트라셀) | K90: 1 | L90: ea | M90: 1 | N90: ea | O90: =+'[1]25''02월'!P91 -> 22000 | P90: =+'[1]25''02월'!Q91 -> 15 | Q90: =+O90*P90 -> 330000 | T90: =+R90*S90 -> 0 | W90: =+U90*V90 -> 0 | X90: =+U90 -> 0 | Z90: =+X90*Y90 -> 0 | AA90: =+O90 -> 22000 | AB90: =+P90+S90-V90+Y90 -> 15 | AC90: =+AA90*AB90 -> 330000
B91: ㈜엠제이메디컬 | C91: =VLOOKUP(B91,$B$6:$C$55,2,0) -> #N/A | D91: 이만재 대표 | E91: 010-4420-1825 | H91: 피부 | J91: PDT | K91: 1 | L91: ea | M91: 1 | N91: ea | O91: =+'[1]25''02월'!P92 -> 14850 | P91: =+'[1]25''02월'!Q92 -> 29 | Q91: =+O91*P91 -> 430650 | T91: =+R91*S91 -> 0 | W91: =+U91*V91 -> 0 | X91: =+U91 -> 0 | Z91: =+X91*Y91 -> 0 | AA91: =+O91 -> 14850 | AB91: =+P91+S91-V91+Y91 -> 29 | AC91: =+AA91*AB91 -> 430650
B92: 원진메디팜 | C92: =VLOOKUP(B92,$B$6:$C$55,2,0) -> #N/A | D92: =VLOOKUP(B92,$B$6:$D$55,3,0) -> #N/A | E92: =VLOOKUP(B92,$B$6:$J$55,4,0) -> #N/A | H92: 피부 | J92: 골드PTT | K92: 1 | L92: ea | M92: 1 | N92: ea | O92: =+'[1]25''02월'!P93 -> 29333 | P92: =+'[1]25''02월'!Q93 -> 23 | Q92: =+O92*P92 -> 674659 | T92: =+R92*S92 -> 0 | W92: =+U92*V92 -> 0 | X92: =+U92 -> 0 | Z92: =+X92*Y92 -> 0 | AA92: =+O92 -> 29333 | AB92: =+P92+S92-V92+Y92 -> 23 | AC92: =+AA92*AB92 -> 674659
B93: 더메스테릭스 | C93: =VLOOKUP(B93,$B$6:$C$55,2,0) -> #N/A | D93: =VLOOKUP(B93,$B$6:$D$55,3,0) -> #N/A | E93: =VLOOKUP(B93,$B$6:$J$55,4,0) -> #N/A | H93: 피부 | J93: 산소필1-젤 | K93: 1 | L93: ea | M93: 1 | N93: ea | O93: =+'[1]25''02월'!P94 -> 75000 | P93: =+'[1]25''02월'!Q94 -> 1 | Q93: =+O93*P93 -> 75000 | T93: =+R93*S93 -> 0 | W93: =+U93*V93 -> 0 | X93: =+U93 -> 0 | Z93: =+X93*Y93 -> 0 | AA93: =+O93 -> 75000 | AB93: =+P93+S93-V93+Y93 -> 1 | AC93: =+AA93*AB93 -> 75000
B94: 더메스테릭스 | C94: =VLOOKUP(B94,$B$6:$C$55,2,0) -> #N/A | D94: =VLOOKUP(B94,$B$6:$D$55,3,0) -> #N/A | E94: =VLOOKUP(B94,$B$6:$J$55,4,0) -> #N/A | H94: 피부 | J94: 산소필2-젤 | K94: 1 | L94: ea | M94: 1 | N94: ea | O94: =+'[1]25''02월'!P95 -> 75000 | P94: =+'[1]25''02월'!Q95 -> 0 | Q94: =+O94*P94 -> 0 | T94: =+R94*S94 -> 0 | W94: =+U94*V94 -> 0 | X94: =+U94 -> 0 | Z94: =+X94*Y94 -> 0 | AA94: =+O94 -> 75000 | AB94: =+P94+S94-V94+Y94 -> 0 | AC94: =+AA94*AB94 -> 0
B95: 더메스테릭스 | C95: =VLOOKUP(B95,$B$6:$C$55,2,0) -> #N/A | D95: =VLOOKUP(B95,$B$6:$D$55,3,0) -> #N/A | E95: =VLOOKUP(B95,$B$6:$J$55,4,0) -> #N/A | H95: 피부 | J95: 비타민C파우더 | K95: 1 | L95: ea | M95: 1 | N95: ea | O95: 89000 | P95: 0 | Q95: 0 | T95: 0 | U95: 89000 | V95: 0 | W95: 0 | X95: 89000 | Z95: 0 | AA95: 89000 | AB95: 0 | AC95: 0
B96: 쎄라덤 | C96: =VLOOKUP(B96,$B$6:$C$55,2,0) -> #N/A | D96: =VLOOKUP(B96,$B$6:$D$55,3,0) -> #N/A | E96: =VLOOKUP(B96,$B$6:$J$55,4,0) -> #N/A | H96: 피부 | J96: 씨위드 크림팩 | K96: 1 | L96: ea | M96: 1 | N96: ea | O96: =+'[1]25''02월'!P97 -> 44000 | P96: =+'[1]25''02월'!Q97 -> 1 | Q96: =+O96*P96 -> 44000 | T96: =+R96*S96 -> 0 | W96: =+U96*V96 -> 0 | X96: =+U96 -> 0 | Z96: =+X96*Y96 -> 0 | AA96: =+O96 -> 44000 | AB96: =+P96+S96-V96+Y96 -> 1 | AC96: =+AA96*AB96 -> 44000
B97: 쎄라덤 | C97: =VLOOKUP(B97,$B$6:$C$55,2,0) -> #N/A | D97: =VLOOKUP(B97,$B$6:$D$55,3,0) -> #N/A | E97: =VLOOKUP(B97,$B$6:$J$55,4,0) -> #N/A | H97: 피부 | J97: 아세로라크림팩 | K97: 1 | L97: ea | M97: 1 | N97: ea | O97: =+'[1]25''02월'!P98 -> 44000 | P97: =+'[1]25''02월'!Q98 -> 1 | Q97: =+O97*P97 -> 44000 | T97: =+R97*S97 -> 0 | W97: =+U97*V97 -> 0 | X97: =+U97 -> 0 | Z97: =+X97*Y97 -> 0 | AA97: =+O97 -> 44000 | AB97: =+P97+S97-V97+Y97 -> 1 | AC97: =+AA97*AB97 -> 44000
B98: 쎄라덤 | C98: =VLOOKUP(B98,$B$6:$C$55,2,0) -> #N/A | D98: =VLOOKUP(B98,$B$6:$D$55,3,0) -> #N/A | E98: =VLOOKUP(B98,$B$6:$J$55,4,0) -> #N/A | H98: 피부 | J98: 야쥴렌크림팩 | K98: 1 | L98: ea | M98: 1 | N98: ea | O98: =+'[1]25''02월'!P99 -> 44000 | P98: =+'[1]25''02월'!Q99 -> 0 | Q98: =+O98*P98 -> 0 | T98: =+R98*S98 -> 0 | W98: =+U98*V98 -> 0 | X98: =+U98 -> 0 | Z98: =+X98*Y98 -> 0 | AA98: =+O98 -> 44000 | AB98: =+P98+S98-V98+Y98 -> 0 | AC98: =+AA98*AB98 -> 0
B99: 쎄라덤 | C99: =VLOOKUP(B99,$B$6:$C$55,2,0) -> #N/A | D99: =VLOOKUP(B99,$B$6:$D$55,3,0) -> #N/A | E99: =VLOOKUP(B99,$B$6:$J$55,4,0) -> #N/A | H99: 피부 | J99: 캄퍼크림팩 | K99: 1 | L99: ea | M99: 1 | N99: ea | O99: =+'[1]25''02월'!P100 -> 44000 | P99: =+'[1]25''02월'!Q100 -> 0 | Q99: =+O99*P99 -> 0 | T99: =+R99*S99 -> 0 | W99: =+U99*V99 -> 0 | X99: =+U99 -> 0 | Z99: =+X99*Y99 -> 0 | AA99: =+O99 -> 44000 | AB99: =+P99+S99-V99+Y99 -> 0 | AC99: =+AA99*AB99 -> 0
B100: 확인필요 | C100: =VLOOKUP(B100,$B$6:$C$55,2,0) -> 확인필요 | D100: =VLOOKUP(B100,$B$6:$D$55,3,0) -> 확인필요 | E100: =VLOOKUP(B100,$B$6:$J$55,4,0) -> 확인필요 | H100: 피부 | J100: 데콘겔 | K100: 1 | L100: ea | M100: 1 | N100: ea | O100: =+'[1]25''02월'!P101 -> 18700 | P100: =+'[1]25''02월'!Q101 -> 0 | Q100: =+O100*P100 -> 0 | T100: =+R100*S100 -> 0 | W100: =+U100*V100 -> 0 | X100: =+U100 -> 0 | Z100: =+X100*Y100 -> 0 | AA100: =+O100 -> 18700 | AB100: =+P100+S100-V100+Y100 -> 0 | AC100: =+AA100*AB100 -> 0
B101: 쎄라덤 | C101: =VLOOKUP(B101,$B$6:$C$55,2,0) -> #N/A | D101: =VLOOKUP(B101,$B$6:$D$55,3,0) -> #N/A | E101: =VLOOKUP(B101,$B$6:$J$55,4,0) -> #N/A | H101: 피부 | J101: 블랙필 | K101: 1 | L101: ea | M101: 1 | N101: ea | O101: =+'[1]25''02월'!P102 -> 73333 | P101: =+'[1]25''02월'!Q102 -> 3 | Q101: =+O101*P101 -> 219999 | T101: =+R101*S101 -> 0 | W101: =+U101*V101 -> 0 | X101: =+U101 -> 0 | Z101: =+X101*Y101 -> 0 | AA101: =+O101 -> 73333 | AB101: =+P101+S101-V101+Y101 -> 3 | AC101: =+AA101*AB101 -> 219999
B102: 쎄라덤 | C102: =VLOOKUP(B102,$B$6:$C$55,2,0) -> #N/A | D102: =VLOOKUP(B102,$B$6:$D$55,3,0) -> #N/A | E102: =VLOOKUP(B102,$B$6:$J$55,4,0) -> #N/A | H102: 피부 | J102: 그린티중화제 | K102: 1 | L102: ea | M102: 1 | N102: ea | O102: =+'[1]25''02월'!P103 -> 27500 | P102: =+'[1]25''02월'!Q103 -> 2 | Q102: =+O102*P102 -> 55000 | T102: =+R102*S102 -> 0 | W102: =+U102*V102 -> 0 | X102: =+U102 -> 0 | Z102: =+X102*Y102 -> 0 | AA102: =+O102 -> 27500 | AB102: =+P102+S102-V102+Y102 -> 2 | AC102: =+AA102*AB102 -> 55000
...

Sheet 25'03월 (2)
B2: 제품명 | C2: 거래처 | D2: 구분 | E2: 이월 | H2: 입고 | K2: 실사용 | N2: 과부족 | Q2: 실재 재고 | T2: 사유
E3: 단가 | F3: 수량 | G3: 금액 | H3: 단가 | I3: 수량 | J3: 입고금액 | K3: 단가 | L3: 수량 | M3: 사용금액 | N3: 단가 | O3: 수량 | P3: 사용금액 | Q3: 단가 | R3: 수량 | S3: 재고금액
B4: 채움프리미엄 1 | D4: 필러 | E4: =+'[1]25''02월'!P4 -> 18000 | F4: =+'[1]25''02월'!Q4 -> 16 | G4: =+E4*F4 -> 288000 | J4: =+H4*I4 -> 0 | M4: =+K4*L4 -> 0 | P4: =+N4*O4 -> 0 | Q4: =+E4 -> 18000 | R4: =+F4+I4-L4+O4 -> 16 | S4: =+Q4*R4 -> 288000
B5: 체움프리미엄 2 | E5: =+'[1]25''02월'!P5 -> 18000 | F5: =+'[1]25''02월'!Q5 -> 23 | G5: =+E5*F5 -> 414000 | J5: =+H5*I5 -> 0 | M5: =+K5*L5 -> 0 | P5: =+N5*O5 -> 0 | Q5: =+E5 -> 18000 | R5: =+F5+I5-L5+O5 -> 23 | S5: =+Q5*R5 -> 414000
B6: 채움프리미엄 3 | E6: =+'[1]25''02월'!P6 -> 18000 | F6: =+'[1]25''02월'!Q6 -> 25 | G6: =+E6*F6 -> 450000 | J6: =+H6*I6 -> 0 | M6: =+K6*L6 -> 0 | P6: =+N6*O6 -> 0 | Q6: =+E6 -> 18000 | R6: =+F6+I6-L6+O6 -> 25 | S6: =+Q6*R6 -> 450000
B7: 뉴라미스라이트 | E7: =+'[1]25''02월'!P7 -> 14000 | F7: =+'[1]25''02월'!Q7 -> 24 | G7: =+E7*F7 -> 336000 | J7: =+H7*I7 -> 0 | M7: =+K7*L7 -> 0 | P7: =+N7*O7 -> 0 | Q7: =+E7 -> 14000 | R7: =+F7+I7-L7+O7 -> 24 | S7: =+Q7*R7 -> 336000
B8: 뉴라미스리도카인 | E8: =+'[1]25''02월'!P8 -> 18000 | F8: =+'[1]25''02월'!Q8 -> 20 | G8: =+E8*F8 -> 360000 | J8: =+H8*I8 -> 0 | M8: =+K8*L8 -> 0 | P8: =+N8*O8 -> 0 | Q8: =+E8 -> 18000 | R8: =+F8+I8-L8+O8 -> 20 | S8: =+Q8*R8 -> 360000
B9: 뉴라미스볼륨 | E9: =+'[1]25''02월'!P9 -> 18000 | F9: =+'[1]25''02월'!Q9 -> 11 | G9: =+E9*F9 -> 198000 | J9: =+H9*I9 -> 0 | M9: =+K9*L9 -> 0 | P9: =+N9*O9 -> 0 | Q9: =+E9 -> 18000 | R9: =+F9+I9-L9+O9 -> 11 | S9: =+Q9*R9 -> 198000
B10: 쥬비덤 볼벨라 | E10: =+'[1]25''02월'!P10 -> 130164 | F10: =+'[1]25''02월'!Q10 -> 18 | G10: =+E10*F10 -> 2342952 | J10: =+H10*I10 -> 0 | M10: =+K10*L10 -> 0 | P10: =+N10*O10 -> 0 | Q10: =+E10 -> 130164 | R10: =+F10+I10-L10+O10 -> 18 | S10: =+Q10*R10 -> 2342952
B11: 쥬비덤 볼리프트 | E11: =+'[1]25''02월'!P11 -> 130164.1 | F11: =+'[1]25''02월'!Q11 -> 27 | G11: =+E11*F11 -> 3514430.7 | J11: =+H11*I11 -> 0 | M11: =+K11*L11 -> 0 | P11: =+N11*O11 -> 0 | Q11: =+E11 -> 130164.1 | R11: =+F11+I11-L11+O11 -> 27 | S11: =+Q11*R11 -> 3514430.7
B12: 쥬비덤 볼루마 | E12: =+'[1]25''02월'!P12 -> 130164 | F12: =+'[1]25''02월'!Q12 -> 36 | G12: =+E12*F12 -> 4685904 | J12: =+H12*I12 -> 0 | M12: =+K12*L12 -> 0 | P12: =+N12*O12 -> 0 | Q12: =+E12 -> 130164 | R12: =+F12+I12-L12+O12 -> 36 | S12: =+Q12*R12 -> 4685904
B13: 레스틸렌비탈 | E13: =+'[1]25''02월'!P13 -> 115500 | F13: =+'[1]25''02월'!Q13 -> 9 | G13: =+E13*F13 -> 1039500 | J13: =+H13*I13 -> 0 | M13: =+K13*L13 -> 0 | P13: =+N13*O13 -> 0 | Q13: =+E13 -> 115500 | R13: =+F13+I13-L13+O13 -> 9 | S13: =+Q13*R13 -> 1039500
B14: 레스틸렌리파인 | E14: =+'[1]25''02월'!P14 -> 110000 | F14: =+'[1]25''02월'!Q14 -> 18 | G14: =+E14*F14 -> 1980000 | J14: =+H14*I14 -> 0 | M14: =+K14*L14 -> 0 | P14: =+N14*O14 -> 0 | Q14: =+E14 -> 110000 | R14: =+F14+I14-L14+O14 -> 18 | S14: =+Q14*R14 -> 1980000
B15: 레스틸렌디파인 | E15: =+'[1]25''02월'!P15 -> 110000 | F15: =+'[1]25''02월'!Q15 -> 15 | G15: =+E15*F15 -> 1650000 | J15: =+H15*I15 -> 0 | M15: =+K15*L15 -> 0 | P15: =+N15*O15 -> 0 | Q15: =+E15 -> 110000 | R15: =+F15+I15-L15+O15 -> 15 | S15: =+Q15*R15 -> 1650000
B16: 엘란쎄M | E16: =+'[1]25''02월'!P16 -> 211747 | F16: =+'[1]25''02월'!Q16 -> 32 | G16: =+E16*F16 -> 6775904 | J16: =+H16*I16 -> 0 | M16: =+K16*L16 -> 0 | P16: =+N16*O16 -> 0 | Q16: =+E16 -> 211747 | R16: =+F16+I16-L16+O16 -> 32 | S16: =+Q16*R16 -> 6775904
E17: =+'[1]25''02월'!P17 -> 211612.52 | F17: =+'[1]25''02월'!Q17 -> 120 | G17: =+E17*F17 -> 25393502 | J17: =+H17*I17 -> 0 | Q17: =+E17 -> 211612.52 | R17: =+F17+I17-L17+O17 -> 120 | S17: =+Q17*R17 -> 25393502
B18: 스컬트라 | E18: =+'[1]25''02월'!P18 -> 242000 | F18: =+'[1]25''02월'!Q18 -> 40 | G18: =+E18*F18 -> 9680000 | J18: =+H18*I18 -> 0 | M18: =+K18*L18 -> 0 | P18: =+N18*O18 -> 0 | Q18: =+E18 -> 242000 | R18: =+F18+I18-L18+O18 -> 40 | S18: =+Q18*R18 -> 9680000
B19: 쥬베룩볼륨 | E19: =+'[1]25''02월'!P19 -> 110000 | F19: =+'[1]25''02월'!Q19 -> 12 | G19: =+E19*F19 -> 1320000 | J19: =+H19*I19 -> 0 | M19: =+K19*L19 -> 0 | P19: =+N19*O19 -> 0 | Q19: =+E19 -> 110000 | R19: =+F19+I19-L19+O19 -> 12 | S19: =+Q19*R19 -> 1320000
B20: 벨로테로소프트 | E20: =+'[1]25''02월'!P20 -> 91000 | F20: =+'[1]25''02월'!Q20 -> 55 | G20: =+E20*F20 -> 5005000 | J20: =+H20*I20 -> 0 | M20: =+K20*L20 -> 0 | P20: =+N20*O20 -> 0 | Q20: =+E20 -> 91000 | R20: =+F20+I20-L20+O20 -> 55 | S20: =+Q20*R20 -> 5005000
E21: =+'[1]25''02월'!P21 -> 82727 | F21: =+'[1]25''02월'!Q21 -> 3 | G21: =+E21*F21 -> 248181 | J21: =+H21*I21 -> 0 | M21: =+K21*L21 -> 0 | P21: =+N21*O21 -> 0 | Q21: =+E21 -> 82727 | R21: =+F21+I21-L21+O21 -> 3 | S21: =+Q21*R21 -> 248181
B22: 리즈톡스 | D22: 보톡스 | E22: =+'[1]25''02월'!P22 -> 25000 | F22: =+'[1]25''02월'!Q22 -> 54 | G22: =+E22*F22 -> 1350000 | J22: =+H22*I22 -> 0 | M22: =+K22*L22 -> 0 | P22: =+N22*O22 -> 0 | Q22: =+E22 -> 25000 | R22: =+F22+I22-L22+O22 -> 54 | S22: =+Q22*R22 -> 1350000
B23: 코어톡스 | E23: =+'[1]25''02월'!P23 -> 33000 | F23: =+'[1]25''02월'!Q23 -> 37 | G23: =+E23*F23 -> 1221000 | J23: =+H23*I23 -> 0 | M23: =+K23*L23 -> 0 | P23: =+N23*O23 -> 0 | Q23: =+E23 -> 33000 | R23: =+F23+I23-L23+O23 -> 37 | S23: =+Q23*R23 -> 1221000
B24: 제오민 | E24: =+'[1]25''02월'!P24 -> 110000 | F24: =+'[1]25''02월'!Q24 -> 13 | G24: =+E24*F24 -> 1430000 | J24: =+H24*I24 -> 0 | M24: =+K24*L24 -> 0 | P24: =+N24*O24 -> 0 | Q24: =+E24 -> 110000 | R24: =+F24+I24-L24+O24 -> 13 | S24: =+Q24*R24 -> 1430000
E25: =+'[1]25''02월'!P25 -> 120000 | F25: =+'[1]25''02월'!Q25 -> 30 | G25: =+E25*F25 -> 3600000 | J25: =+H25*I25 -> 0 | Q25: =+E25 -> 120000 | R25: =+F25+I25-L25+O25 -> 30 | S25: =+Q25*R25 -> 3600000
B26: 리쥬란아이 | D26: 스킨부스터 | E26: =+'[1]25''02월'!P26 -> 52923 | F26: =+'[1]25''02월'!Q26 -> 25 | G26: =+E26*F26 -> 1323075 | J26: =+H26*I26 -> 0 | M26: =+K26*L26 -> 0 | P26: =+N26*O26 -> 0 | Q26: =+E26 -> 52923 | R26: =+F26+I26-L26+O26 -> 25 | S26: =+Q26*R26 -> 1323075
B27: 리쥬란 | E27: =+'[1]25''02월'!P27 -> 94430 | F27: =+'[1]25''02월'!Q27 -> 126 | G27: =+E27*F27 -> 11898180 | J27: =+H27*I27 -> 0 | M27: =+K27*L27 -> 0 | P27: =+N27*O27 -> 0 | Q27: =+E27 -> 94430 | R27: =+F27+I27-L27+O27 -> 126 | S27: =+Q27*R27 -> 11898180
B28: 리쥬란HB | E28: =+'[1]25''02월'!P29 -> 55377 | F28: =+'[1]25''02월'!Q29 -> 51 | G28: =+E28*F28 -> 2824227 | J28: =+H28*I28 -> 0 | M28: =+K28*L28 -> 0 | P28: =+N28*O28 -> 0 | Q28: =+E28 -> 55377 | R28: =+F28+I28-L28+O28 -> 51 | S28: =+Q28*R28 -> 2824227
B29: 샤넬 | E29: =+'[1]25''02월'!P30 -> 55648 | F29: =+'[1]25''02월'!Q30 -> 81 | G29: =+E29*F29 -> 4507488 | J29: =+H29*I29 -> 0 | M29: =+K29*L29 -> 0 | P29: =+N29*O29 -> 0 | Q29: =+E29 -> 55648 | R29: =+F29+I29-L29+O29 -> 81 | S29: =+Q29*R29 -> 4507488
B30: 쥬베룩 | E30: =+'[1]25''02월'!P31 -> 100000 | F30: =+'[1]25''02월'!Q31 -> 16 | G30: =+E30*F30 -> 1600000 | J30: =+H30*I30 -> 0 | M30: =+K30*L30 -> 0 | P30: =+N30*O30 -> 0 | Q30: =+E30 -> 100000 | R30: =+F30+I30-L30+O30 -> 16 | S30: =+Q30*R30 -> 1600000
E31: =+'[1]25''02월'!P32 -> 121000 | F31: =+'[1]25''02월'!Q32 -> 50 | G31: =+E31*F31 -> 6050000 | J31: =+H31*I31 -> 0 | P31: =+N31*O31 -> 0 | Q31: =+E31 -> 121000 | R31: =+F31+I31-L31+O31 -> 50 | S31: =+Q31*R31 -> 6050000
B32: 하이주 | E32: =+'[1]25''02월'!P33 -> 9616 | F32: =+'[1]25''02월'!Q33 -> 52 | G32: =+E32*F32 -> 500032 | J32: =+H32*I32 -> 0 | M32: =+K32*L32 -> 0 | P32: =+N32*O32 -> 0 | Q32: =+E32 -> 9616 | R32: =+F32+I32-L32+O32 -> 52 | S32: =+Q32*R32 -> 500032
B33: 하이코(4cm) | D33: 실리프팅 | E33: =+'[1]25''02월'!P34 -> 4950 | F33: =+'[1]25''02월'!Q34 -> 84 | G33: =+E33*F33 -> 415800 | J33: =+H33*I33 -> 0 | M33: =+K33*L33 -> 0 | P33: =+N33*O33 -> 0 | Q33: =+E33 -> 4950 | R33: =+F33+I33-L33+O33 -> 84 | S33: =+Q33*R33 -> 415800
B34: 메이드코(6cm) | E34: =+'[1]25''02월'!P35 -> 4950 | F34: =+'[1]25''02월'!Q35 -> 20 | G34: =+E34*F34 -> 99000 | J34: =+H34*I34 -> 0 | M34: =+K34*L34 -> 0 | P34: =+N34*O34 -> 0 | Q34: =+E34 -> 4950 | R34: =+F34+I34-L34+O34 -> 20 | S34: =+Q34*R34 -> 99000
B35: 오메가 | E35: =+'[1]25''02월'!P36 -> 5500 | F35: =+'[1]25''02월'!Q36 -> 188 | G35: =+E35*F35 -> 1034000 | J35: =+H35*I35 -> 0 | M35: =+K35*L35 -> 0 | P35: =+N35*O35 -> 0 | Q35: =+E35 -> 5500 | R35: =+F35+I35-L35+O35 -> 188 | S35: =+Q35*R35 -> 1034000
B36: 울트라V | E36: =+'[1]25''02월'!P37 -> 550 | F36: =+'[1]25''02월'!Q37 -> 960 | G36: =+E36*F36 -> 528000 | J36: =+H36*I36 -> 0 | M36: =+K36*L36 -> 0 | P36: =+N36*O36 -> 0 | Q36: =+E36 -> 550 | R36: =+F36+I36-L36+O36 -> 960 | S36: =+Q36*R36 -> 528000
B37: 민트쁘띠 | E37: =+'[1]25''02월'!P38 -> 9000 | F37: =+'[1]25''02월'!Q38 -> 168 | G37: =+E37*F37 -> 1512000 | J37: =+H37*I37 -> 0 | M37: =+K37*L37 -> 0 | P37: =+N37*O37 -> 0 | Q37: =+E37 -> 9000 | R37: =+F37+I37-L37+O37 -> 168 | S37: =+Q37*R37 -> 1512000
B38: 실루엣8콘 | E38: =+'[1]25''02월'!P39 -> 107250 | F38: =+'[1]25''02월'!Q39 -> 28 | G38: =+E38*F38 -> 3003000 | J38: =+H38*I38 -> 0 | M38: =+K38*L38 -> 0 | P38: =+N38*O38 -> 0 | Q38: =+E38 -> 107250 | R38: =+F38+I38-L38+O38 -> 28 | S38: =+Q38*R38 -> 3003000
B39: 울쎄라-DS 10-1.5N | D39: 레이저 | E39: =+'[1]25''02월'!P40 -> 1271 | F39: =+'[1]25''02월'!Q40 -> 1106 | G39: =+E39*F39 -> 1405726 | J39: =+H39*I39 -> 0 | M39: =+K39*L39 -> 0 | P39: =+N39*O39 -> 0 | Q39: =+E39 -> 1271 | R39: =+F39+I39-L39+O39 -> 1106 | S39: =+Q39*R39 -> 1405726
E40: =+'[1]25''02월'!P41 -> 1121 | F40: =+'[1]25''02월'!Q41 -> 12000 | G40: =+E40*F40 -> 13452000 | J40: =+H40*I40 -> 0 | Q40: =+E40 -> 1121 | R40: =+F40+I40-L40+O40 -> 12000 | S40: =+Q40*R40 -> 13452000
B41: 울쎄라-DS 7-3.0 | E41: =+'[1]25''02월'!P42 -> 1121 | F41: =+'[1]25''02월'!Q42 -> 1419 | G41: =+E41*F41 -> 1590699 | J41: =+H41*I41 -> 0 | M41: =+K41*L41 -> 0 | P41: =+N41*O41 -> 0 | Q41: =+E41 -> 1121 | R41: =+F41+I41-L41+O41 -> 1419 | S41: =+Q41*R41 -> 1590699
E42: =+'[1]25''02월'!P43 -> 1145.9 | F42: =+'[1]25''02월'!Q43 -> 12000 | G42: =+E42*F42 -> 13750800 | J42: =+H42*I42 -> 0 | Q42: =+E42 -> 1145.9 | R42: =+F42+I42-L42+O42 -> 12000 | S42: =+Q42*R42 -> 13750800
B43: 울쎄라-DS 4-4.5 | E43: =+'[1]25''02월'!P45 -> 1145.9 | F43: =+'[1]25''02월'!Q45 -> 98243 | G43: =+E43*F43 -> 1.1257665e+08 | J43: =+H43*I43 -> 0 | M43: =+K43*L43 -> 0 | P43: =+N43*O43 -> 0 | Q43: =+E43 -> 1145.9 | R43: =+F43+I43-L43+O43 -> 98243 | S43: =+Q43*R43 -> 1.1257665e+08
B44: 울핏6.0 | E44: =+'[1]25''02월'!P46 -> 22 | F44: =+'[1]25''02월'!Q46 -> 67892 | G44: =+E44*F44 -> 1493624 | J44: =+H44*I44 -> 0 | M44: =+K44*L44 -> 0 | P44: =+N44*O44 -> 0 | Q44: =+E44 -> 22 | R44: =+F44+I44-L44+O44 -> 67892 | S44: =+Q44*R44 -> 1493624
B45: 울핏9.0 | E45: =+'[1]25''02월'!P47 -> 22 | F45: =+'[1]25''02월'!Q47 -> 69660 | G45: =+E45*F45 -> 1532520 | J45: =+H45*I45 -> 0 | M45: =+K45*L45 -> 0 | P45: =+N45*O45 -> 0 | Q45: =+E45 -> 22 | R45: =+F45+I45-L45+O45 -> 69660 | S45: =+Q45*R45 -> 1532520
B46: 써마지 FLX 600샷 | E46: =+'[1]25''02월'!P48 -> 0 | F46: =+'[1]25''02월'!Q48 -> 0 | G46: =+E46*F46 -> 0 | J46: =+H46*I46 -> 0 | M46: =+K46*L46 -> 0 | Q46: =+E46 -> 0 | R46: =+F46+I46-L46+O46 -> 0 | S46: =+Q46*R46 -> 0
B47: 써마지 FLX 600샷 | E47: =+'[1]25''02월'!P49 -> 960000 | F47: =+'[1]25''02월'!Q49 -> 18 | G47: =+E47*F47 -> 17280000 | J47: =+H47*I47 -> 0 | M47: =+K47*L47 -> 0 | Q47: =+E47 -> 960000 | R47: =+F47+I47-L47+O47 -> 18 | S47: =+Q47*R47 -> 17280000
B48: 멀티블루 | E48: =+'[1]25''02월'!P50 -> 8800 | F48: =+'[1]25''02월'!Q50 -> 19 | G48: =+E48*F48 -> 167200 | J48: =+H48*I48 -> 0 | M48: =+K48*L48 -> 0 | P48: =+N48*O48 -> 0 | Q48: =+E48 -> 8800 | R48: =+F48+I48-L48+O48 -> 19 | S48: =+Q48*R48 -> 167200
B49: 아르기닌 | E49: =+'[1]25''02월'!P51 -> 20000 | F49: =+'[1]25''02월'!Q51 -> 16 | G49: =+E49*F49 -> 320000 | J49: =+H49*I49 -> 0 | M49: =+K49*L49 -> 0 | P49: =+N49*O49 -> 0 | Q49: =+E49 -> 20000 | R49: =+F49+I49-L49+O49 -> 16 | S49: =+Q49*R49 -> 320000
B50: BSC-30 | E50: =+'[1]25''02월'!P52 -> 170000 | F50: =+'[1]25''02월'!Q52 -> 3 | G50: =+E50*F50 -> 510000 | J50: =+H50*I50 -> 0 | M50: =+K50*L50 -> 0 | P50: =+N50*O50 -> 0 | Q50: =+E50 -> 170000 | R50: =+F50+I50-L50+O50 -> 3 | S50: =+Q50*R50 -> 510000
B51: BSC-60 | E51: =+'[1]25''02월'!P53 -> 350000 | F51: =+'[1]25''02월'!Q53 -> 6 | G51: =+E51*F51 -> 2100000 | J51: =+H51*I51 -> 0 | M51: =+K51*L51 -> 0 | P51: =+N51*O51 -> 0 | Q51: =+E51 -> 350000 | R51: =+F51+I51-L51+O51 -> 6 | S51: =+Q51*R51 -> 2100000
B52: BSC-120 | E52: =+'[1]25''02월'!P54 -> 600000 | F52: =+'[1]25''02월'!Q54 -> 3 | G52: =+E52*F52 -> 1800000 | J52: =+H52*I52 -> 0 | M52: =+K52*L52 -> 0 | P52: =+N52*O52 -> 0 | Q52: =+E52 -> 600000 | R52: =+F52+I52-L52+O52 -> 3 | S52: =+Q52*R52 -> 1800000
C53: 소계 | G53: =SUM(G4:G52) -> 2.765564e+08 | J53: =SUM(J4:J52) -> 0 | M53: =SUM(M4:M52) -> 0 | N53: =+K53 -> 0 | P53: =SUM(P4:P52) -> 0 | S53: =SUM(S4:S52) -> 2.765564e+08
B54: NDA플러스 | C54: 유벤타헬스케어 | E54: =+'[1]25''02월'!P56 -> 15400 | F54: =+'[1]25''02월'!Q56 -> 55 | G54: =+E54*F54 -> 847000 | J54: =+H54*I54 -> 0 | K54: 15400 | L54: 0 | M54: =+K54*L54 -> 0 | N54: =+K54 -> 15400 | P54: =+N54*O54 -> 0 | Q54: =+E54 -> 15400 | R54: =+F54+I54-L54+O54 -> 55 | S54: =+Q54*R54 -> 847000
B55: 큐티셀 | C55: 에스테팜 | E55: =+'[1]25''02월'!P57 -> 33000 | F55: =+'[1]25''02월'!Q57 -> 24 | G55: =+E55*F55 -> 792000 | J55: =+H55*I55 -> 0 | K55: 33000 | L55: 0 | M55: =+K55*L55 -> 0 | N55: =+K55 -> 33000 | P55: =+N55*O55 -> 0 | Q55: =+E55 -> 33000 | R55: =+F55+I55-L55+O55 -> 24 | S55: =+Q55*R55 -> 792000
B56: N-25 | C56: 제이시스 | E56: =+'[1]25''02월'!P58 -> 33000 | F56: =+'[1]25''02월'!Q58 -> 14 | G56: =+E56*F56 -> 462000 | H56: 33000 | I56: 15 | J56: =+H56*I56 -> 495000 | K56: 33000 | L56: 19 | M56: =+K56*L56 -> 627000 | P56: =+N56*O56 -> 0 | Q56: =+E56 -> 33000 | R56: =+F56+I56-L56+O56 -> 10 | S56: =+Q56*R56 -> 330000 | T56: DIA팁 교환건
B57: I-25 | C57: 제이시스 | E57: =+'[1]25''02월'!P59 -> 33000 | F57: =+'[1]25''02월'!Q59 -> 7 | G57: =+E57*F57 -> 231000 | J57: =+H57*I57 -> 0 | K57: 33000 | L57: 1 | M57: =+K57*L57 -> 33000 | N57: =+K57 -> 33000 | P57: =+N57*O57 -> 0 | Q57: =+E57 -> 33000 | R57: =+F57+I57-L57+O57 -> 6 | S57: =+Q57*R57 -> 198000
B58: CP-25 | C58: 제이시스 | E58: =+'[1]25''02월'!P60 -> 49000 | F58: =+'[1]25''02월'!Q60 -> 38 | G58: =+E58*F58 -> 1862000 | H58: 49000 | I58: 20 | J58: =+H58*I58 -> 980000 | K58: 49000 | L58: 26 | M58: =+K58*L58 -> 1274000 | N58: =+K58 -> 49000 | P58: =+N58*O58 -> 0 | Q58: =+E58 -> 49000 | R58: =+F58+I58-L58+O58 -> 32 | S58: =+Q58*R58 -> 1568000 | T58: DIA팁 교환건
B59: DDR | C59: 제이시스 | E59: =+'[1]25''02월'!P61 -> 44 | F59: =+'[1]25''02월'!Q61 -> 7954 | G59: =+E59*F59 -> 349976 | J59: =+H59*I59 -> 0 | K59: 44 | L59: 0 | M59: =+K59*L59 -> 0 | P59: =+N59*O59 -> 0 | Q59: =+E59 -> 44 | R59: =+F59+I59-L59+O59 -> 7954 | S59: =+Q59*R59 -> 349976
B60: DIA | C60: 제이시스 | E60: =+'[1]25''02월'!P62 -> 165 | F60: =+'[1]25''02월'!Q62 -> 10901 | G60: =+E60*F60 -> 1798665 | J60: =+H60*I60 -> 0 | K60: 165 | L60: 9000 | M60: =+K60*L60 -> 1485000 | N60: =+K60 -> 165 | P60: =+N60*O60 -> 0 | Q60: =+E60 -> 165 | R60: =+F60+I60-L60+O60 -> 1901 | S60: =+Q60*R60 -> 313665 | T60: 팁 교환 (CP25-20개 , N25-15개)
B61: 포텐자 젤(s.v) | C61: 제이시스 | E61: 0 | F61: =+'[1]25''02월'!Q63 -> 4 | G61: =+E61*F61 -> 0 | J61: =+H61*I61 -> 0 | K61: 0 | L61: 0 | M61: =+K61*L61 -> 0 | P61: =+N61*O61 -> 0 | Q61: =+E61 -> 0 | R61: =+F61+I61-L61+O61 -> 4 | S61: =+Q61*R61 -> 0
B62: 듀엣써마지 팁 | C62: 은성메디컬 | E62: =+'[1]25''02월'!P64 -> 11 | F62: =+'[1]25''02월'!Q64 -> 3153 | G62: =+E62*F62 -> 34683 | J62: =+H62*I62 -> 0 | K62: 11 | L62: 300 | M62: =+K62*L62 -> 3300 | N62: =+K62 -> 11 | P62: =+N62*O62 -> 0 | Q62: =+E62 -> 11 | R62: =+F62+I62-L62+O62 -> 2853 | S62: =+Q62*R62 -> 31383
B63: 듀엣써마지 패드 | C63: 은성메디컬 | E63: =+'[1]25''02월'!P65 -> 5500 | F63: =+'[1]25''02월'!Q65 -> 19 | G63: =+E63*F63 -> 104500 | J63: =+H63*I63 -> 0 | K63: 5500 | L63: 0 | M63: =+K63*L63 -> 0 | N63: =+K63 -> 5500 | P63: =+N63*O63 -> 0 | Q63: =+E63 -> 5500 | R63: =+F63+I63-L63+O63 -> 19 | S63: =+Q63*R63 -> 104500
B64: 슈링크U L-4.5(2만) | C64: ㈜클래시스 | E64: =+'[1]25''02월'!P66 -> 110 | F64: =+'[1]25''02월'!Q66 -> 48505 | G64: =+E64*F64 -> 5335550 | H64: 110 | I64: 40200 | J64: 4400000 | K64: 110 | L64: 42713 | M64: =+K64*L64 -> 4698430 | P64: =+N64*O64 -> 0 | Q64: =+E64 -> 110 | R64: =+F64+I64-L64+O64 -> 45992 | S64: =+Q64*R64 -> 5059120 | T64: 단가변경
B65: 슈링크U C-3.0(2만) | C65: ㈜클래시스 | E65: =+'[1]25''02월'!P67 -> 110 | F65: =+'[1]25''02월'!Q67 -> 45443 | G65: =+E65*F65 -> 4998730 | J65: =+H65*I65 -> 0 | K65: 110 | L65: 13154 | M65: =+K65*L65 -> 1446940 | P65: =+N65*O65 -> 0 | Q65: =+E65 -> 110 | R65: =+F65+I65-L65+O65 -> 32289 | S65: =+Q65*R65 -> 3551790
B66: 슈링크U I-.2.0(2만) | C66: ㈜클래시스 | E66: =+'[1]25''02월'!P68 -> 110 | F66: =+'[1]25''02월'!Q68 -> 11690 | G66: =+E66*F66 -> 1285900 | J66: =+H66*I66 -> 0 | K66: 110 | L66: 0 | M66: =+K66*L66 -> 0 | N66: =+K66 -> 110 | P66: =+N66*O66 -> 0 | Q66: =+E66 -> 110 | R66: =+F66+I66-L66+O66 -> 11690 | S66: =+Q66*R66 -> 1285900
B67: 슈링크B L-.4.5 | C67: ㈜클래시스 | E67: =+'[1]25''02월'!P69 -> 87 | F67: =+'[1]25''02월'!Q69 -> 3682 | G67: =+E67*F67 -> 320334 | J67: =+H67*I67 -> 0 | K67: 87 | L67: 0 | M67: =+K67*L67 -> 0 | N67: =+K67 -> 87 | P67: =+N67*O67 -> 0 | Q67: =+E67 -> 87 | R67: =+F67+I67-L67+O67 -> 3682 | S67: =+Q67*R67 -> 320334
B68: 슈링크B D-1.5 | C68: ㈜클래시스 | E68: =+'[1]25''02월'!P70 -> 87 | F68: =+'[1]25''02월'!Q70 -> 1527 | G68: =+E68*F68 -> 132849 | J68: =+H68*I68 -> 0 | K68: 87 | L68: 0 | M68: =+K68*L68 -> 0 | N68: =+K68 -> 87 | P68: =+N68*O68 -> 0 | Q68: =+E68 -> 87 | R68: =+F68+I68-L68+O68 -> 1527 | S68: =+Q68*R68 -> 132849
B69: 슈링크B L-4.5(2만) | C69: ㈜클래시스 | E69: =+'[1]25''02월'!P71 -> 87 | F69: =+'[1]25''02월'!Q71 -> 0 | G69: =+E69*F69 -> 0 | J69: =+H69*I69 -> 0 | K69: 87 | L69: 0 | M69: =+K69*L69 -> 0 | N69: =+K69 -> 87 | P69: =+N69*O69 -> 0 | Q69: =+E69 -> 87 | R69: =+F69+I69-L69+O69 -> 0 | S69: =+Q69*R69 -> 0
B70: 슈링크B C-3.0(2만) | C70: ㈜클래시스 | E70: =+'[1]25''02월'!P72 -> 87 | F70: =+'[1]25''02월'!Q72 -> 15570 | G70: =+E70*F70 -> 1354590 | J70: =+H70*I70 -> 0 | K70: 87 | L70: 0 | M70: =+K70*L70 -> 0 | N70: =+K70 -> 87 | P70: =+N70*O70 -> 0 | Q70: =+E70 -> 87 | R70: =+F70+I70-L70+O70 -> 15570 | S70: =+Q70*R70 -> 1354590
B71: 슈링크B D-1.5(2만) | C71: ㈜클래시스 | E71: =+'[1]25''02월'!P73 -> 87 | F71: =+'[1]25''02월'!Q73 -> 0 | G71: =+E71*F71 -> 0 | J71: =+H71*I71 -> 0 | K71: 87 | L71: 0 | M71: =+K71*L71 -> 0 | N71: =+K71 -> 87 | P71: =+N71*O71 -> 0 | Q71: =+E71 -> 87 | R71: =+F71+I71-L71+O71 -> 0 | S71: =+Q71*R71 -> 0
B72: GT38앰플 | C72: ㈜클래시스 | E72: =+'[1]25''02월'!P74 -> 5000 | F72: =+'[1]25''02월'!Q74 -> 34 | G72: =+E72*F72 -> 170000 | J72: =+H72*I72 -> 0 | K72: 5000 | L72: 0 | M72: =+K72*L72 -> 0 | N72: =+K72 -> 5000 | P72: =+N72*O72 -> 0 | Q72: =+E72 -> 5000 | R72: =+F72+I72-L72+O72 -> 34 | S72: =+Q72*R72 -> 170000
B73: 더블로M7 | C73: 하이로닉 | E73: =+'[1]25''02월'!P75 -> 104 | F73: =+'[1]25''02월'!Q75 -> 12513 | G73: =+E73*F73 -> 1301352 | J73: =+H73*I73 -> 0 | K73: 104 | L73: 0 | M73: =+K73*L73 -> 0 | N73: =+K73 -> 104 | P73: =+N73*O73 -> 0 | Q73: =+E73 -> 104 | R73: =+F73+I73-L73+O73 -> 12513 | S73: =+Q73*R73 -> 1301352
B74: 더블러D4 | C74: 하이로닉 | E74: =+'[1]25''02월'!P76 -> 104 | F74: =+'[1]25''02월'!Q76 -> 721 | G74: =+E74*F74 -> 74984 | J74: =+H74*I74 -> 0 | K74: 104 | L74: 0 | M74: =+K74*L74 -> 0 | N74: =+K74 -> 104 | P74: =+N74*O74 -> 0 | Q74: =+E74 -> 104 | R74: =+F74+I74-L74+O74 -> 721 | S74: =+Q74*R74 -> 74984
B75: 라라필 폼클렌져 | C75: 에이치투메디 | E75: =+'[1]25''02월'!P77 -> 29700 | F75: =+'[1]25''02월'!Q77 -> 1 | G75: =+E75*F75 -> 29700 | J75: =+H75*I75 -> 0 | K75: 29700 | L75: 1 | M75: =+K75*L75 -> 29700 | N75: =+K75 -> 29700 | P75: =+N75*O75 -> 0 | Q75: =+E75 -> 29700 | R75: =+F75+I75-L75+O75 -> 0 | S75: =+Q75*R75 -> 0
B76: 라라필 1제 | C76: 에이치투메디 | E76: =+'[1]25''02월'!P78 -> 55000 | F76: =+'[1]25''02월'!Q78 -> 2 | G76: =+E76*F76 -> 110000 | J76: =+H76*I76 -> 0 | K76: 55000 | L76: 0 | M76: =+K76*L76 -> 0 | P76: =+N76*O76 -> 0 | Q76: =+E76 -> 55000 | R76: =+F76+I76-L76+O76 -> 2 | S76: =+Q76*R76 -> 110000
B77: 라라필 2제 | C77: 에이치투메디 | E77: =+'[1]25''02월'!P80 -> 55000 | F77: =+'[1]25''02월'!Q80 -> 4 | G77: =+E77*F77 -> 220000 | J77: =+H77*I77 -> 0 | K77: 55000 | L77: 0 | M77: =+K77*L77 -> 0 | P77: =+N77*O77 -> 0 | Q77: =+E77 -> 55000 | R77: =+F77+I77-L77+O77 -> 4 | S77: =+Q77*R77 -> 220000
B78: 라라필 마스크팩 | C78: 에이치투메디 | E78: =+'[1]25''02월'!P82 -> 4125 | F78: =+'[1]25''02월'!Q82 -> 37 | G78: =+E78*F78 -> 152625 | J78: =+H78*I78 -> 0 | K78: 4125 | L78: 6 | M78: =+K78*L78 -> 24750 | P78: =+N78*O78 -> 0 | Q78: =+E78 -> 4125 | R78: =+F78+I78-L78+O78 -> 31 | S78: =+Q78*R78 -> 127875
B79: 라라젯 x로션 | C79: ㈜엠제이메디컬 | E79: =+'[1]25''02월'!P83 -> 55000 | F79: =+'[1]25''02월'!Q83 -> 3 | G79: =+E79*F79 -> 165000 | J79: =+H79*I79 -> 0 | K79: 55000 | L79: 0 | M79: =+K79*L79 -> 0 | P79: =+N79*O79 -> 0 | Q79: =+E79 -> 55000 | R79: =+F79+I79-L79+O79 -> 3 | S79: =+Q79*R79 -> 165000
B80: 라라젯 s1 | C80: ㈜엠제이메디컬 | E80: =+'[1]25''02월'!P84 -> 55000 | F80: =+'[1]25''02월'!Q84 -> 1 | G80: =+E80*F80 -> 55000 | J80: =+H80*I80 -> 0 | K80: 55000 | L80: 0 | M80: =+K80*L80 -> 0 | N80: =+K80 -> 55000 | P80: =+N80*O80 -> 0 | Q80: =+E80 -> 55000 | R80: =+F80+I80-L80+O80 -> 1 | S80: =+Q80*R80 -> 55000
B81: 라라젯 s2 | C81: ㈜엠제이메디컬 | E81: =+'[1]25''02월'!P85 -> 55000 | F81: =+'[1]25''02월'!Q85 -> 3 | G81: =+E81*F81 -> 165000 | J81: =+H81*I81 -> 0 | K81: 55000 | L81: 0 | M81: =+K81*L81 -> 0 | N81: =+K81 -> 55000 | P81: =+N81*O81 -> 0 | Q81: =+E81 -> 55000 | R81: =+F81+I81-L81+O81 -> 3 | S81: =+Q81*R81 -> 165000
B82: 라라젯 s3 | C82: ㈜엠제이메디컬 | E82: =+'[1]25''02월'!P86 -> 55000 | F82: =+'[1]25''02월'!Q86 -> 1 | G82: =+E82*F82 -> 55000 | J82: =+H82*I82 -> 0 | K82: 55000 | L82: 0 | M82: =+K82*L82 -> 0 | N82: =+K82 -> 55000 | P82: =+N82*O82 -> 0 | Q82: =+E82 -> 55000 | R82: =+F82+I82-L82+O82 -> 1 | S82: =+Q82*R82 -> 55000
B83: 라라젯 팁 | C83: ㈜엠제이메디컬 | E83: =+'[1]25''02월'!P87 -> 2750 | F83: =+'[1]25''02월'!Q87 -> 39 | G83: =+E83*F83 -> 107250 | J83: =+H83*I83 -> 0 | K83: 2750 | L83: 11 | M83: =+K83*L83 -> 30250 | P83: =+N83*O83 -> 0 | Q83: =+E83 -> 2750 | R83: =+F83+I83-L83+O83 -> 28 | S83: =+Q83*R83 -> 77000
B84: 아쿠아필S1 | C84: ㈜엠제이메디컬 | E84: =+'[1]25''02월'!P88 -> 11000 | F84: =+'[1]25''02월'!Q88 -> 10 | G84: =+E84*F84 -> 110000 | H84: 11000 | I84: 10 | J84: =+H84*I84 -> 110000 | K84: 11000 | L84: 14 | M84: =+K84*L84 -> 154000 | N84: =+K84 -> 11000 | P84: =+N84*O84 -> 0 | Q84: =+E84 -> 11000 | R84: =+F84+I84-L84+O84 -> 6 | S84: =+Q84*R84 -> 66000
B85: 아쿠아필S2 | C85: ㈜엠제이메디컬 | E85: =+'[1]25''02월'!P89 -> 11000 | F85: =+'[1]25''02월'!Q89 -> 15 | G85: =+E85*F85 -> 165000 | H85: 11000 | I85: 5 | J85: =+H85*I85 -> 55000 | K85: 11000 | L85: 14 | M85: =+K85*L85 -> 154000 | N85: =+K85 -> 11000 | P85: =+N85*O85 -> 0 | Q85: =+E85 -> 11000 | R85: =+F85+I85-L85+O85 -> 6 | S85: =+Q85*R85 -> 66000
B86: 아쿠아필S3 | C86: ㈜엠제이메디컬 | E86: =+'[1]25''02월'!P90 -> 11000 | F86: =+'[1]25''02월'!Q90 -> 9 | G86: =+E86*F86 -> 99000 | H86: 11000 | I86: 5 | J86: =+H86*I86 -> 55000 | K86: 11000 | L86: 11 | M86: =+K86*L86 -> 121000 | N86: =+K86 -> 11000 | P86: =+N86*O86 -> 0 | Q86: =+E86 -> 11000 | R86: =+F86+I86-L86+O86 -> 3 | S86: =+Q86*R86 -> 33000
B87: 디아지팁(인트라셀) | C87: ㈜엠제이메디컬 | E87: =+'[1]25''02월'!P91 -> 22000 | F87: =+'[1]25''02월'!Q91 -> 15 | G87: =+E87*F87 -> 330000 | J87: =+H87*I87 -> 0 | K87: 22000 | L87: 4 | M87: =+K87*L87 -> 88000 | N87: =+K87 -> 22000 | P87: =+N87*O87 -> 0 | Q87: =+E87 -> 22000 | R87: =+F87+I87-L87+O87 -> 11 | S87: =+Q87*R87 -> 242000
B88: PDT | C88: ㈜엠제이메디컬 | E88: =+'[1]25''02월'!P92 -> 14850 | F88: =+'[1]25''02월'!Q92 -> 29 | G88: =+E88*F88 -> 430650 | J88: =+H88*I88 -> 0 | K88: 14850 | L88: 0 | M88: =+K88*L88 -> 0 | N88: =+K88 -> 14850 | P88: =+N88*O88 -> 0 | Q88: =+E88 -> 14850 | R88: =+F88+I88-L88+O88 -> 29 | S88: =+Q88*R88 -> 430650
B89: 골드PTT | C89: 원진메디팜 | E89: =+'[1]25''02월'!P93 -> 29333 | F89: =+'[1]25''02월'!Q93 -> 23 | G89: =+E89*F89 -> 674659 | J89: =+H89*I89 -> 0 | K89: 29333 | L89: 8 | M89: =+K89*L89 -> 234664 | N89: =+K89 -> 29333 | P89: =+N89*O89 -> 0 | Q89: =+E89 -> 29333 | R89: =+F89+I89-L89+O89 -> 15 | S89: =+Q89*R89 -> 439995
B90: 산소필1-젤 | C90: 더메스테릭스 | E90: =+'[1]25''02월'!P94 -> 75000 | F90: =+'[1]25''02월'!Q94 -> 1 | G90: =+E90*F90 -> 75000 | J90: =+H90*I90 -> 0 | K90: 75000 | L90: 0 | M90: =+K90*L90 -> 0 | N90: =+K90 -> 75000 | P90: =+N90*O90 -> 0 | Q90: =+E90 -> 75000 | R90: =+F90+I90-L90+O90 -> 1 | S90: =+Q90*R90 -> 75000
B91: 산소필2-젤 | C91: 더메스테릭스 | E91: =+'[1]25''02월'!P95 -> 75000 | F91: =+'[1]25''02월'!Q95 -> 0 | G91: =+E91*F91 -> 0 | J91: =+H91*I91 -> 0 | K91: 75000 | L91: 0 | M91: =+K91*L91 -> 0 | N91: =+K91 -> 75000 | P91: =+N91*O91 -> 0 | Q91: =+E91 -> 75000 | R91: =+F91+I91-L91+O91 -> 0 | S91: =+Q91*R91 -> 0
B92: 비타민C파우더 | C92: 더메스테릭스 | E92: 89000 | F92: =+'[1]25''02월'!Q96 -> 0 | G92: =+E92*F92 -> 0 | J92: =+H92*I92 -> 0 | K92: 89000 | L92: 0 | M92: =+K92*L92 -> 0 | N92: =+K92 -> 89000 | P92: =+N92*O92 -> 0 | Q92: =+E92 -> 89000 | R92: =+F92+I92-L92+O92 -> 0 | S92: =+Q92*R92 -> 0
B93: 씨위드 크림팩 | C93: 쎄라덤 | E93: =+'[1]25''02월'!P97 -> 44000 | F93: =+'[1]25''02월'!Q97 -> 1 | G93: =+E93*F93 -> 44000 | J93: =+H93*I93 -> 0 | K93: 44000 | L93: 0 | M93: =+K93*L93 -> 0 | N93: =+K93 -> 44000 | P93: =+N93*O93 -> 0 | Q93: =+E93 -> 44000 | R93: =+F93+I93-L93+O93 -> 1 | S93: =+Q93*R93 -> 44000
B94: 아세로라크림팩 | C94: 쎄라덤 | E94: =+'[1]25''02월'!P98 -> 44000 | F94: =+'[1]25''02월'!Q98 -> 1 | G94: =+E94*F94 -> 44000 | J94: =+H94*I94 -> 0 | K94: 44000 | L94: 0 | M94: =+K94*L94 -> 0 | N94: =+K94 -> 44000 | P94: =+N94*O94 -> 0 | Q94: =+E94 -> 44000 | R94: =+F94+I94-L94+O94 -> 1 | S94: =+Q94*R94 -> 44000
B95: 야쥴렌크림팩 | C95: 쎄라덤 | E95: =+'[1]25''02월'!P99 -> 44000 | F95: =+'[1]25''02월'!Q99 -> 0 | G95: =+E95*F95 -> 0 | J95: =+H95*I95 -> 0 | K95: 44000 | L95: 0 | M95: =+K95*L95 -> 0 | N95: =+K95 -> 44000 | P95: =+N95*O95 -> 0 | Q95: =+E95 -> 44000 | R95: =+F95+I95-L95+O95 -> 0 | S95: =+Q95*R95 -> 0
B96: 캄퍼크림팩 | C96: 쎄라덤 | E96: =+'[1]25''02월'!P100 -> 44000 | F96: =+'[1]25''02월'!Q100 -> 0 | G96: =+E96*F96 -> 0 | J96: =+H96*I96 -> 0 | K96: 44000 | L96: 0 | M96: =+K96*L96 -> 0 | N96: =+K96 -> 44000 | P96: =+N96*O96 -> 0 | Q96: =+E96 -> 44000 | R96: =+F96+I96-L96+O96 -> 0 | S96: =+Q96*R96 -> 0
B97: 블랙필 | C97: 쎄라덤 | E97: =+'[1]25''02월'!P102 -> 73333 | F97: =+'[1]25''02월'!Q102 -> 3 | G97: =+E97*F97 -> 219999 | J97: =+H97*I97 -> 0 | K97: 73333 | L97: 0 | M97: =+K97*L97 -> 0 | N97: =+K97 -> 73333 | P97: =+N97*O97 -> 0 | Q97: =+E97 -> 73333 | R97: =+F97+I97-L97+O97 -> 3 | S97: =+Q97*R97 -> 219999
B98: 그린티중화제 | C98: 쎄라덤 | E98: =+'[1]25''02월'!P103 -> 27500 | F98: =+'[1]25''02월'!Q103 -> 2 | G98: =+E98*F98 -> 55000 | J98: =+H98*I98 -> 0 | K98: 27500 | L98: 0 | M98: =+K98*L98 -> 0 | N98: =+K98 -> 27500 | P98: =+N98*O98 -> 0 | Q98: =+E98 -> 27500 | R98: =+F98+I98-L98+O98 -> 2 | S98: =+Q98*R98 -> 55000
B99: GA 40% | C99: 쎄라덤 | E99: =+'[1]25''02월'!P104 -> 75200 | F99: =+'[1]25''02월'!Q104 -> 1 | G99: =+E99*F99 -> 75200 | J99: =+H99*I99 -> 0 | K99: 75200 | L99: 0 | M99: =+K99*L99 -> 0 | N99: =+K99 -> 75200 | P99: =+N99*O99 -> 0 | Q99: =+E99 -> 75200 | R99: =+F99+I99-L99+O99 -> 1 | S99: =+Q99*R99 -> 75200
B100: 벨벳M | C100: C&K | E100: =+'[1]25''02월'!P105 -> 8500 | F100: =+'[1]25''02월'!Q105 -> 84 | G100: =+E100*F100 -> 714000 | J100: =+H100*I100 -> 0 | K100: 8500 | L100: 11 | M100: =+K100*L100 -> 93500 | N100: =+K100 -> 8500 | P100: =+N100*O100 -> 0 | Q100: =+E100 -> 8500 | R100: =+F100+I100-L100+O100 -> 73 | S100: =+Q100*R100 -> 620500
B101: K크림(멍크림) | C101: 히스토랩 | E101: 0 | F101: =+'[1]25''02월'!Q106 -> 2 | G101: =+E101*F101 -> 0 | J101: =+H101*I101 -> 0 | K101: 0 | L101: 0 | M101: =+K101*L101 -> 0 | N101: =+K101 -> 0 | P101: =+N101*O101 -> 0 | Q101: =+E101 -> 0 | R101: =+F101+I101-L101+O101 -> 2 | S101: =+Q101*R101 -> 0
...
