Workbook

Sheet 25'03월
B3: 2025년 03월 재고 현황 | J3: 리즈톡신 | K3: 1 | L3: unit | M3: 8.8 | N3: cc
B4: 거래처 | H4: 진료구분 | I4: 구분 | J4: 제품명 | K4: 재고관리용량 | L4: 재고관리용량단위 | M4: 사용시 용량 | N4: 사용시 용량단위 | O4: 이월 | R4: 입고 | U4: 실사용 | X4: 과부족 | AA4: 실재 재고 | AD4: 사유
B5: 거래처명 | C5: 사업자번호 | D5: 담당자명 | E5: 연락처 | F5: 이메일 | G5: 거래처 메모 | O5: 단가 | P5: 수량 | Q5: 금액 | R5: 단가 | S5: 수량 | T5: 입고금액 | U5: 단가 | V5: 수량 | W5: 사용금액 | X5: 단가 | Y5: 수량 | Z5: 사용금액 | AA5: 단가 | AB5: 수량 | AC5: 재고금액
B6: 휴젤 | C6: 확인필요 | D6: 이창기 | E6: 010-2869-0068 | G6: ㈜블루엠텍 | H6: 쁘띠 | I6: 필러 | J6: 채움프리미엄 1 | K6: 2 | L6: cc | M6: 1 | N6: cc | O6: =+'[1]25''02월'!P4 -> 18000 | P6: =+'[1]25''02월'!Q4 -> 16 | Q6: =+O6*P6 -> 288000 | R6: 18000 | S6: -6 | T6: =+R6*S6 -> -108000 | U6: 18000 | V6: 11 | W6: =+U6*V6 -> 198000 | Y6: 1 | Z6: =+X6*Y6 -> 0 | AA6: =+O6 -> 18000 | AB6: =+P6+S6-V6+Y6 -> 0 | AC6: =+AA6*AB6 -> 0 | AD6: 시술 축소로 일부 제고 반품
B7: 휴젤 | C7: 확인필요 | D7: 이창기 | E7: 010-2869-0068 | H7: 쁘띠 | I7: 필러 | J7: 체움프리미엄 2 | K7: 2 | L7: cc | M7: 1 | N7: cc | O7: =+'[1]25''02월'!P5 -> 18000 | P7: =+'[1]25''02월'!Q5 -> 23 | Q7: =+O7*P7 -> 414000 | R7: 18000 | S7: -10 | T7: =+R7*S7 -> -180000 | U7: 18000 | V7: 14 | W7: =+U7*V7 -> 252000 | Y7: 1 | Z7: =+X7*Y7 -> 0 | AA7: =+O7 -> 18000 | AB7: =+P7+S7-V7+Y7 -> 0 | AC7: =+AA7*AB7 -> 0 | AD7: 시술 축소로 일부 제고 반품
B8: 휴젤 | C8: 확인필요 | D8: 이창기 | E8: 010-2869-0068 | H8: 쁘띠 | I8: 필러 | J8: 채움프리미엄 3 | K8: 2 | L8: cc | M8: 1 | N8: cc | O8: =+'[1]25''02월'!P6 -> 18000 | P8: =+'[1]25''02월'!Q6 -> 25 | Q8: =+O8*P8 -> 450000 | R8: 18000 | S8: -10 | T8: =+R8*S8 -> -180000 | U8: 18000 | V8: 11 | W8: =+U8*V8 -> 198000 | Y8: 0 | Z8: =+X8*Y8 -> 0 | AA8: =+O8 -> 18000 | AB8: =+P8+S8-V8+Y8 -> 4 | AC8: =+AA8*AB8 -> 72000 | AD8: 시술 축소로 일부 제고 반품
B9: 뉴메코 | C9: 264-81-13092 | D9: 윤진섭과장 | E9: 010-4757-0391 | H9: 쁘띠 | I9: 필러 | J9: 뉴라미스라이트 | K9: 1 | L9: cc | M9: 1 | N9: cc | O9: =+'[1]25''02월'!P7 -> 14000 | P9: =+'[1]25''02월'!Q7 -> 24 | Q9: =+O9*P9 -> 336000 | T9: =+R9*S9 -> 0 | U9: 14000 | V9: 1 | W9: =+U9*V9 -> 14000 | Y9: 0 | Z9: =+X9*Y9 -> 0 | AA9: =+O9 -> 14000 | AB9: =+P9+S9-V9+Y9 -> 23 | AC9: =+AA9*AB9 -> 322000
B10: 뉴메코 | C10: 264-81-13092 | D10: 윤진섭과장 | E10: 010-4757-0391 | H10: 쁘띠 | I10: 필러 | J10: 뉴라미스리도카인 | K10: 1 | L10: cc | M10: 1 | N10: cc | O10: =+'[1]25''02월'!P8 -> 18000 | P10: =+'[1]25''02월'!Q8 -> 20 | Q10: =+O10*P10 -> 360000 | T10: =+R10*S10 -> 0 | U10: 18000 | V10: 2 | W10: =+U10*V10 -> 36000 | Y10: 1 | Z10: =+X10*Y10 -> 0 | AA10: =+O10 -> 18000 | AB10: =+P10+S10-V10+Y10 -> 19 | AC10: =+AA10*AB10 -> 342000
B11: 뉴메코 | C11: 264-81-13092 | D11: 윤진섭과장 | E11: 010-4757-0391 | H11: 쁘띠 | I11: 필러 | J11: 뉴라미스볼륨 | K11: 1 | L11: cc | M11: 1 | N11: cc | O11: =+'[1]25''02월'!P9 -> 18000 | P11: =+'[1]25''02월'!Q9 -> 11 | Q11: =+O11*P11 -> 198000 | T11: =+R11*S11 -> 0 | U11: 18000 | V11: 1 | W11: =+U11*V11 -> 18000 | Y11: 0 | Z11: =+X11*Y11 -> 0 | AA11: =+O11 -> 18000 | AB11: =+P11+S11-V11+Y11 -> 10 | AC11: =+AA11*AB11 -> 180000
B12: 한국애브비㈜ | C12: 120-87-80221 | D12: 김주현차장 | E12: 010-4097-2589 | H12: 쁘띠 | I12: 필러 | J12: 쥬비덤 볼벨라 | K12: 2 | L12: cc | M12: 1 | N12: cc | O12: =+'[1]25''02월'!P10 -> 130164 | P12: =+'[1]25''02월'!Q10 -> 18 | Q12: =+O12*P12 -> 2342952 | R12: 130164 | S12: 20 | T12: =+R12*S12 -> 2603280 | U12: 130164 | V12: 21 | W12: =+U12*V12 -> 2733444 | Y12: 6 | Z12: =+X12*Y12 -> 0 | AA12: =+O12 -> 130164 | AB12: =+P12+S12-V12+Y12 -> 23 | AC12: =+AA12*AB12 -> 2993772
B13: 한국애브비㈜ | C13: 120-87-80221 | D13: 김주현차장 | E13: 010-4097-2589 | H13: 쁘띠 | I13: 필러 | J13: 쥬비덤 볼리프트 | K13: 2 | L13: cc | M13: 1 | N13: cc | O13: =+'[1]25''02월'!P11 -> 130164.1 | P13: =+'[1]25''02월'!Q11 -> 27 | Q13: =+O13*P13 -> 3514430.7 | R13: 130164 | S13: 20 | T13: =+R13*S13 -> 2603280 | U13: 130164 | V13: 19 | W13: =+U13*V13 -> 2473116 | Y13: 1 | Z13: =+X13*Y13 -> 0 | AA13: =+O13 -> 130164.1 | AB13: =+P13+S13-V13+Y13 -> 29 | AC13: =+AA13*AB13 -> 3774758.9
B14: 한국애브비㈜ | C14: 120-87-80221 | D14: 김주현차장 | E14: 010-4097-2589 | H14: 쁘띠 | I14: 필러 | J14: 쥬비덤 볼루마 | K14: 2 | L14: cc | M14: 1 | N14: cc | O14: =+'[1]25''02월'!P12 -> 130164 | P14: =+'[1]25''02월'!Q12 -> 36 | Q14: =+O14*P14 -> 4685904 | T14: =+R14*S14 -> 0 | U14: 130164 | V14: 5 | W14: =+U14*V14 -> 650820 | Y14: 1 | Z14: =+X14*Y14 -> 0 | AA14: =+O14 -> 130164 | AB14: =+P14+S14-V14+Y14 -> 32 | AC14: =+AA14*AB14 -> 4165248
B15: 우노스킨 | C15: 128-36-45769 | D15: 한수정 | E15: 010-4787-5735 | H15: 쁘띠 | I15: 필러 | J15: 레스틸렌비탈 | K15: 1 | L15: cc | M15: 1 | N15: cc | O15: =+'[1]25''02월'!P13 -> 115500 | P15: =+'[1]25''02월'!Q13 -> 9 | Q15: =+O15*P15 -> 1039500 | T15: =+R15*S15 -> 0 | U15: 115500 | V15: 1 | W15: =+U15*V15 -> 115500 | Y15: 9 | Z15: =+X15*Y15 -> 0 | AA15: =+O15 -> 115500 | AB15: =+P15+S15-V15+Y15 -> 17 | AC15: =+AA15*AB15 -> 1963500 | AD15: 유통기한 폐기 교환
B16: 우노스킨 | C16: 128-36-45769 | D16: 한수정 | E16: 010-4787-5735 | H16: 쁘띠 | I16: 필러 | J16: 레스틸렌리파인 | K16: 1 | L16: cc | M16: 1 | N16: cc | O16: =+'[1]25''02월'!P14 -> 110000 | P16: =+'[1]25''02월'!Q14 -> 18 | Q16: =+O16*P16 -> 1980000 | T16: =+R16*S16 -> 0 | U16: 110000 | V16: 0 | W16: =+U16*V16 -> 0 | Y16: 7 | Z16: =+X16*Y16 -> 0 | AA16: =+O16 -> 110000 | AB16: =+P16+S16-V16+Y16 -> 25 | AC16: =+AA16*AB16 -> 2750000 | AD16: 유통기한 폐기 교환
B17: 우노스킨 | C17: 128-36-45769 | D17: 한수정 | E17: 010-4787-5735 | H17: 쁘띠 | I17: 필러 | J17: 레스틸렌디파인 | K17: 1 | L17: cc | M17: 1 | N17: cc | O17: =+'[1]25''02월'!P15 -> 110000 | P17: =+'[1]25''02월'!Q15 -> 15 | Q17: =+O17*P17 -> 1650000 | T17: =+R17*S17 -> 0 | U17: 110000 | V17: 4 | W17: =+U17*V17 -> 440000 | Y17: 1 | Z17: =+X17*Y17 -> 0 | AA17: =+O17 -> 110000 | AB17: =+P17+S17-V17+Y17 -> 12 | AC17: =+AA17*AB17 -> 1320000 | AD17: 불량 교환
B18: 한국싱클레어(유) | C18: 530-87-00797 | D18: 확인필요 | E18: 010-8837-7677 | H18: 쁘띠 | I18: 필러 | J18: 엘란쎄M | K18: 2 | L18: cc | M18: 1 | N18: cc | O18: =+'[1]25''02월'!P16 -> 211747 | P18: =+'[1]25''02월'!Q16 -> 32 | Q18: =+O18*P18 -> 6775904 | T18: =+R18*S18 -> 0 | U18: 211747 | V18: 19.8 | W18: =+U18*V18 -> 4192590.6 | Y18: -1 | Z18: =+X18*Y18 -> 0 | AA18: =+O18 -> 211747 | AB18: =+P18+S18-V18+Y18 -> 11.2 | AC18: =+AA18*AB18 -> 2371566.4 | AD18: 믹스 폐기
B19: 한국싱클레어(유) | C19: 530-87-00797 | D19: 확인필요 | E19: 010-8837-7677 | H19: 쁘띠 | I19: 필러 | K19: 2 | L19: cc | M19: 1 | N19: cc | O19: =+'[1]25''02월'!P17 -> 211612.52 | P19: =+'[1]25''02월'!Q17 -> 120 | Q19: =+O19*P19 -> 25393502 | T19: =+R19*S19 -> 0 | U19: 211613 | V19: 0 | W19: =+U19*V19 -> 0 | Y19: 0 | Z19: =+X19*Y19 -> 0 | AA19: =+O19 -> 211612.52 | AB19: =+P19+S19-V19+Y19 -> 120 | AC19: =+AA19*AB19 -> 25393502
B20: (주)한용팜 | C20: 214-87-99253 | D20: 한수정 | E20: 010-4787-5735 | H20: 쁘띠 | I20: 필러 | J20: 스컬트라 | K20: 10 | L20: cc | M20: 1 | N20: cc | O20: =+'[1]25''02월'!P18 -> 242000 | P20: =+'[1]25''02월'!Q18 -> 40 | Q20: =+O20*P20 -> 9680000 | R20: 242000 | S20: 50 | T20: =+R20*S20 -> 12100000 | U20: 242000 | V20: 31.8 | W20: =+U20*V20 -> 7695600 | Y20: 4 | Z20: =+X20*Y20 -> 0 | AA20: =+O20 -> 242000 | AB20: =+P20+S20-V20+Y20 -> 62.2 | AC20: =+AA20*AB20 -> 15052400
B21: 바임글로벌 | C21: 757-87-01595 | D21: 조봉근대리 | E21: 010-3033-0729 | H21: 쁘띠 | I21: 필러 | J21: 쥬베룩볼륨 | K21: 9 | L21: cc | M21: 1 | N21: cc | O21: =+'[1]25''02월'!P19 -> 110000 | P21: =+'[1]25''02월'!Q19 -> 12 | Q21: =+O21*P21 -> 1320000 | T21: =+R21*S21 -> 0 | U21: 110000 | V21: 3.13 | W21: =+U21*V21 -> 344300 | Y21: 0.1 | Z21: =+X21*Y21 -> 0 | AA21: =+O21 -> 110000 | AB21: =+P21+S21-V21+Y21 -> 8.97 | AC21: =+AA21*AB21 -> 986700
B22: 멀츠아시아퍼스픽피티이엘티디 | C22: 211-84-10660 | D22: 최진성 | E22: 010-2942-0907 | H22: 쁘띠 | I22: 필러 | J22: 벨로테로소프트 | K22: 1 | L22: cc | M22: 1 | N22: cc | O22: =+'[1]25''02월'!P20 -> 91000 | P22: =+'[1]25''02월'!Q20 -> 55 | Q22: =+O22*P22 -> 5005000 | T22: =+R22*S22 -> 0 | U22: 91000 | V22: 7 | W22: =+U22*V22 -> 637000 | Y22: 2 | Z22: =+X22*Y22 -> 0 | AA22: =+O22 -> 91000 | AB22: =+P22+S22-V22+Y22 -> 50 | AC22: =+AA22*AB22 -> 4550000
B23: 멀츠아시아퍼스픽피티이엘티디 | C23: 211-84-10660 | D23: 최진성 | E23: 010-2942-0907 | H23: 쁘띠 | I23: 필러 | K23: 1 | L23: cc | M23: 1 | N23: cc | O23: =+'[1]25''02월'!P21 -> 82727 | P23: =+'[1]25''02월'!Q21 -> 3 | Q23: =+O23*P23 -> 248181 | T23: =+R23*S23 -> 0 | U23: 82727 | V23: 3 | W23: =+U23*V23 -> 248181 | Y23: 0 | Z23: =+X23*Y23 -> 0 | AA23: =+O23 -> 82727 | AB23: =+P23+S23-V23+Y23 -> 0 | AC23: =+AA23*AB23 -> 0
B24: ㈜휴메딕스 | C24: 204-81-76343 | D24: 김정국차장 | E24: 010-8824-5615 | H24: 쁘띠 | I24: 보톡스 | J24: 리즈톡신 | K24: 200 | L24: unit | M24: 0.5 | N24: unit | O24: =+'[1]25''02월'!P22 -> 25000 | P24: =+'[1]25''02월'!Q22 -> 54 | Q24: =+O24*P24 -> 1350000 | R24: 25000 | S24: 50 | T24: =+R24*S24 -> 1250000 | U24: 25000 | V24: 43.32 | W24: =+U24*V24 -> 1083000 | Y24: 2.3 | Z24: =+X24*Y24 -> 0 | AA24: =+O24 -> 25000 | AB24: =+P24+S24-V24+Y24 -> 62.98 | AC24: =+AA24*AB24 -> 1574500
B25: 뉴메코 | C25: 264-81-13092 | D25: 윤진섭과장 | E25: 010-4757-0391 | H25: 쁘띠 | I25: 보톡스 | J25: 코어톡스 | K25: 100 | L25: unit | M25: 0.5 | N25: unit | O25: =+'[1]25''02월'!P23 -> 33000 | P25: =+'[1]25''02월'!Q23 -> 37 | Q25: =+O25*P25 -> 1221000 | R25: 33000 | S25: 50 | T25: =+R25*S25 -> 1650000 | U25: 33000 | V25: 53.79 | W25: =+U25*V25 -> 1775070 | Y25: 5.8 | Z25: =+X25*Y25 -> 0 | AA25: =+O25 -> 33000 | AB25: =+P25+S25-V25+Y25 -> 39.01 | AC25: =+AA25*AB25 -> 1287330
B26: 멀츠아시아퍼스픽피티이엘티디 | C26: 211-84-10660 | D26: 최진성 | E26: 010-2942-0907 | H26: 쁘띠 | I26: 보톡스 | J26: 제오민 | K26: 100 | L26: unit | M26: 0.5 | N26: unit | O26: =+'[1]25''02월'!P24 -> 110000 | P26: =+'[1]25''02월'!Q24 -> 13 | Q26: =+O26*P26 -> 1430000 | T26: =+R26*S26 -> 0 | U26: 110000 | V26: 13 | W26: =+U26*V26 -> 1430000 | Y26: 0 | Z26: =+X26*Y26 -> 0 | AA26: =+O26 -> 110000 | AB26: =+P26+S26-V26+Y26 -> 0 | AC26: =+AA26*AB26 -> 0
B27: 멀츠아시아퍼스픽피티이엘티디 | C27: 211-84-10660 | D27: 최진성 | E27: 010-2942-0907 | H27: 쁘띠 | I27: 보톡스 | K27: 100 | L27: unit | M27: 0.5 | N27: unit | O27: =+'[1]25''02월'!P25 -> 120000 | P27: =+'[1]25''02월'!Q25 -> 30 | Q27: =+O27*P27 -> 3600000 | R27: 120000 | S27: 5 | T27: =+R27*S27 -> 600000 | U27: 120000 | V27: 33.53 | W27: =+U27*V27 -> 4023600 | Y27: 2.5 | AA27: =+O27 -> 120000 | AB27: =+P27+S27-V27+Y27 -> 3.97 | AC27: =+AA27*AB27 -> 476400
B28: 파마리서치 | C28: 220-86-07450 | D28: 장형곤 | E28: 010-4117-6855 | H28: 쁘띠 | I28: 스킨부스터 | J28: 리쥬란아이 | K28: 1 | L28: cc | M28: 1 | N28: cc | O28: =+'[1]25''02월'!P26 -> 52923 | P28: =+'[1]25''02월'!Q26 -> 25 | Q28: =+O28*P28 -> 1323075 | R28: 52923.2 | S28: 50 | T28: =+R28*S28 -> 2646160 | U28: 52923 | V28: 39 | W28: =+U28*V28 -> 2063997 | Y28: 0 | Z28: =+X28*Y28 -> 0 | AA28: =+O28 -> 52923 | AB28: =+P28+S28-V28+Y28 -> 36 | AC28: =+AA28*AB28 -> 1905228
B29: 파마리서치 | C29: 220-86-07450 | D29: 장형곤 | E29: 010-4117-6855 | H29: 쁘띠 | I29: 스킨부스터 | J29: 리쥬란 | K29: 4 | L29: cc | M29: 2 | N29: cc | O29: =+'[1]25''02월'!P27 -> 94430 | P29: =+'[1]25''02월'!Q27 -> 126 | Q29: =+O29*P29 -> 11898180 | R29: 94429.5 | S29: 100 | T29: =+R29*S29 -> 9442950 | U29: 94430 | V29: 109 | W29: =+U29*V29 -> 10292870 | Y29: 0 | Z29: =+X29*Y29 -> 0 | AA29: =+O29 -> 94430 | AB29: =+P29+S29-V29+Y29 -> 117 | AC29: =+AA29*AB29 -> 11048310
B30: 파마리서치 | C30: 220-86-07450 | D30: 장형곤 | E30: 010-4117-6855 | H30: 쁘띠 | I30: 스킨부스터 | J30: 리쥬란HB | K30: 1 | L30: cc | M30: 1 | N30: cc | O30: =+'[1]25''02월'!P29 -> 55377 | P30: =+'[1]25''02월'!Q29 -> 51 | Q30: =+O30*P30 -> 2824227 | R30: 55377.3 | S30: 50 | T30: =+R30*S30 -> 2768865 | U30: 55377 | V30: 63 | W30: =+U30*V30 -> 3488751 | Y30: 1 | Z30: =+X30*Y30 -> 0 | AA30: =+O30 -> 55377 | AB30: =+P30+S30-V30+Y30 -> 39 | AC30: =+AA30*AB30 -> 2159703
B31: ㈜아이더마바이오 | C31: 610-87-00680 | D31: 장영철차장 | E31: 010-2580-4489 | H31: 쁘띠 | I31: 스킨부스터 | J31: 샤넬 | K31: 3 | L31: cc | M31: 1 | N31: cc | O31: =+'[1]25''02월'!P30 -> 55648 | P31: =+'[1]25''02월'!Q30 -> 81 | Q31: =+O31*P31 -> 4507488 | T31: =+R31*S31 -> 0 | U31: 55648 | V31: 12 | W31: =+U31*V31 -> 667776 | Y31: 0 | Z31: =+X31*Y31 -> 0 | AA31: =+O31 -> 55648 | AB31: =+P31+S31-V31+Y31 -> 69 | AC31: =+AA31*AB31 -> 3839712
B32: 바임글로벌 | C32: 757-87-01595 | D32: 조봉근대리 | E32: 010-3033-0729 | H32: 쁘띠 | I32: 스킨부스터 | J32: 쥬베룩 | K32: 8 | L32: cc | M32: 1 | N32: cc | O32: =+'[1]25''02월'!P31 -> 100000 | P32: =+'[1]25''02월'!Q31 -> 16 | Q32: =+O32*P32 -> 1600000 | T32: =+R32*S32 -> 0 | U32: 100000 | V32: 10.74 | W32: =+U32*V32 -> 1074000 | Y32: 1.7 | Z32: =+X32*Y32 -> 0 | AA32: =+O32 -> 100000 | AB32: =+P32+S32-V32+Y32 -> 6.96 | AC32: =+AA32*AB32 -> 696000
B33: 바임글로벌 | C33: 757-87-01595 | D33: 조봉근대리 | E33: 010-3033-0729 | H33: 쁘띠 | I33: 스킨부스터 | K33: 8 | L33: cc | M33: 1 | N33: cc | O33: =+'[1]25''02월'!P32 -> 121000 | P33: =+'[1]25''02월'!Q32 -> 50 | Q33: =+O33*P33 -> 6050000 | T33: =+R33*S33 -> 0 | U33: 121000 | V33: 0 | W33: =+U33*V33 -> 0 | Y33: 0 | Z33: =+X33*Y33 -> 0 | AA33: =+O33 -> 121000 | AB33: =+P33+S33-V33+Y33 -> 50 | AC33: =+AA33*AB33 -> 6050000
B34: 확인필요 | C34: 확인필요 | D34: 확인필요 | E34: 확인필요 | H34: 쁘띠 | I34: 스킨부스터 | J34: 하이주 | K34: 6 | L34: cc | M34: 1 | N34: cc | O34: =+'[1]25''02월'!P33 -> 9616 | P34: =+'[1]25''02월'!Q33 -> 52 | Q34: =+O34*P34 -> 500032 | T34: =+R34*S34 -> 0 | U34: 9616 | V34: 27.5 | W34: =+U34*V34 -> 264440 | Y34: 1.5 | Z34: =+X34*Y34 -> 0 | AA34: =+O34 -> 9616 | AB34: =+P34+S34-V34+Y34 -> 26 | AC34: =+AA34*AB34 -> 250016
B35: 라윤코리아 | C35: 220-10-07251 | D35: 윤지혜대표 | E35: 010-2728-5010 | H35: 기타 | I35: 실리프팅 | J35: 하이코(4cm) | K35: 4 | L35: ea | M35: 4 | N35: ea | O35: =+'[1]25''02월'!P34 -> 4950 | P35: =+'[1]25''02월'!Q34 -> 84 | Q35: =+O35*P35 -> 415800 | T35: =+R35*S35 -> 0 | U35: 4950 | V35: 20 | W35: =+U35*V35 -> 99000 | Y35: 0 | Z35: =+X35*Y35 -> 0 | AA35: =+O35 -> 4950 | AB35: =+P35+S35-V35+Y35 -> 64 | AC35: =+AA35*AB35 -> 316800
B36: 라윤코리아 | C36: 220-10-07251 | D36: 윤지혜대표 | E36: 010-2728-5010 | H36: 기타 | I36: 실리프팅 | J36: 메이드코(6cm) | K36: 4 | L36: ea | M36: 4 | N36: ea | O36: =+'[1]25''02월'!P35 -> 4950 | P36: =+'[1]25''02월'!Q35 -> 20 | Q36: =+O36*P36 -> 99000 | R36: 4950 | S36: 24 | T36: =+R36*S36 -> 118800 | U36: 4950 | V36: 12 | W36: =+U36*V36 -> 59400 | Y36: -4 | Z36: =+X36*Y36 -> 0 | AA36: =+O36 -> 4950 | AB36: =+P36+S36-V36+Y36 -> 28 | AC36: =+AA36*AB36 -> 138600 | AD36: 유통기한 폐기 / 교환 안되서 폐기 진행
B37: (주)아프로메디온 | C37: 확인필요 | D37: 박세호부장 | E37: 010-6411-0772 | H37: 기타 | I37: 실리프팅 | J37: 오메가 | K37: 2 | L37: ea | M37: 2 | N37: ea | O37: =+'[1]25''02월'!P36 -> 5500 | P37: =+'[1]25''02월'!Q36 -> 188 | Q37: =+O37*P37 -> 1034000 | T37: =+R37*S37 -> 0 | U37: 5500 | V37: 38 | W37: =+U37*V37 -> 209000 | Y37: 0 | Z37: =+X37*Y37 -> 0 | AA37: =+O37 -> 5500 | AB37: =+P37+S37-V37+Y37 -> 150 | AC37: =+AA37*AB37 -> 825000
B38: 라윤코리아 | C38: 220-10-07251 | D38: 윤지혜대표 | E38: 010-2728-5010 | H38: 기타 | I38: 실리프팅 | J38: 울트라V | K38: 10 | L38: ea | M38: 10 | N38: ea | O38: =+'[1]25''02월'!P37 -> 550 | P38: =+'[1]25''02월'!Q37 -> 960 | Q38: =+O38*P38 -> 528000 | T38: =+R38*S38 -> 0 | U38: 550 | V38: 90 | W38: =+U38*V38 -> 49500 | Y38: 0 | Z38: =+X38*Y38 -> 0 | AA38: =+O38 -> 550 | AB38: =+P38+S38-V38+Y38 -> 870 | AC38: =+AA38*AB38 -> 478500
B39: 민트메디컬㈜ | C39: 755-87-01997 | D39: 김민수 | E39: 010-7210-2215 | H39: 기타 | I39: 실리프팅 | J39: 민트쁘띠 | K39: 4 | L39: ea | M39: 4 | N39: ea | O39: =+'[1]25''02월'!P38 -> 9000 | P39: =+'[1]25''02월'!Q38 -> 168 | Q39: =+O39*P39 -> 1512000 | T39: =+R39*S39 -> 0 | U39: 9000 | V39: 8 | W39: =+U39*V39 -> 72000 | Y39: 0 | Z39: =+X39*Y39 -> 0 | AA39: =+O39 -> 9000 | AB39: =+P39+S39-V39+Y39 -> 160 | AC39: =+AA39*AB39 -> 1440000
B40: 한국싱클레어(유) | C40: 530-87-00797 | E40: 010-8837-7677 | H40: 기타 | I40: 실리프팅 | J40: 실루엣8콘 | K40: 2 | L40: ea | M40: 2 | N40: ea | O40: =+'[1]25''02월'!P39 -> 107250 | P40: =+'[1]25''02월'!Q39 -> 28 | Q40: =+O40*P40 -> 3003000 | T40: =+R40*S40 -> 0 | U40: 107250 | V40: 0 | W40: =+U40*V40 -> 0 | Y40: 0 | Z40: =+X40*Y40 -> 0 | AA40: =+O40 -> 107250 | AB40: =+P40+S40-V40+Y40 -> 28 | AC40: =+AA40*AB40 -> 3003000
B41: 케어캠프㈜ | C41: 211-86-94742 | D41: 황정필 | E41: 010-6649-8881 | H41: 피부 | I41: 레이저 | J41: 울쎄라-DS 10-1.5N | K41: 2400 | L41: shot | M41: 1 | N41: shot | O41: =+'[1]25''02월'!P40 -> 1271 | P41: =+'[1]25''02월'!Q40 -> 1106 | Q41: =+O41*P41 -> 1405726 | T41: =+R41*S41 -> 0 | U41: 1271 | V41: 1100 | W41: =+U41*V41 -> 1398100 | Y41: 0 | Z41: =+X41*Y41 -> 0 | AA41: =+O41 -> 1271 | AB41: =+P41+S41-V41+Y41 -> 6 | AC41: =+AA41*AB41 -> 7626
B42: 케어캠프㈜ | C42: 211-86-94742 | D42: 황정필 | E42: 010-6649-8881 | H42: 피부 | K42: 2400 | L42: shot | M42: 1 | N42: shot | O42: =+'[1]25''02월'!P41 -> 1121 | P42: =+'[1]25''02월'!Q41 -> 12000 | Q42: =+O42*P42 -> 13452000 | T42: =+R42*S42 -> 0 | U42: 1121 | V42: 0 | W42: =+U42*V42 -> 0 | Y42: 0 | Z42: =+X42*Y42 -> 0 | AA42: =+O42 -> 1121 | AB42: =+P42+S42-V42+Y42 -> 12000 | AC42: =+AA42*AB42 -> 13452000
...

Sheet 25'03월 (2)
B2: 제품명 | C2: 거래처 | D2: 구분 | E2: 이월 | H2: 입고 | K2: 실사용 | N2: 과부족 | Q2: 실재 재고 | T2: 사유
E3: 단가 | F3: 수량 | G3: 금액 | H3: 단가 | I3: 수량 | J3: 입고금액 | K3: 단가 | L3: 수량 | M3: 사용금액 | N3: 단가 | O3: 수량 | P3: 사용금액 | Q3: 단가 | R3: 수량 | S3: 재고금액
B4: 채움프리미엄 1 | D4: 필러 | E4: =+'[1]25''02월'!P4 -> 18000 | F4: =+'[1]25''02월'!Q4 -> 16 | G4: =+E4*F4 -> 288000 | J4: =+H4*I4 -> 0 | M4: =+K4*L4 -> 0 | P4: =+N4*O4 -> 0 | Q4: =+E4 -> 18000 | R4: =+F4+I4-L4+O4 -> 16 | S4: =+Q4*R4 -> 288000
B5: 체움프리미엄 2 | E5: =+'[1]25''02월'!P5 -> 18000 | F5: =+'[1]25''02월'!Q5 -> 23 | G5: =+E5*F5 -> 414000 | J5: =+H5*I5 -> 0 | M5: =+K5*L5 -> 0 | P5: =+N5*O5 -> 0 | Q5: =+E5 -> 18000 | R5: =+F5+I5-L5+O5 -> 23 | S5: =+Q5*R5 -> 414000
B6: 채움프리미엄 3 | E6: =+'[1]25''02월'!P6 -> 18000 | F6: =+'[1]25''02월'!Q6 -> 25 | G6: =+E6*F6 -> 450000 | J6: =+H6*I6 -> 0 | M6: =+K6*L6 -> 0 | P6: =+N6*O6 -> 0 | Q6: =+E6 -> 18000 | R6: =+F6+I6-L6+O6 -> 25 | S6: =+Q6*R6 -> 450000
B7: 뉴라미스라이트 | E7: =+'[1]25''02월'!P7 -> 14000 | F7: =+'[1]25''02월'!Q7 -> 24 | G7: =+E7*F7 -> 336000 | J7: =+H7*I7 -> 0 | M7: =+K7*L7 -> 0 | P7: =+N7*O7 -> 0 | Q7: =+E7 -> 14000 | R7: =+F7+I7-L7+O7 -> 24 | S7: =+Q7*R7 -> 336000
B8: 뉴라미스리도카인 | E8: =+'[1]25''02월'!P8 -> 18000 | F8: =+'[1]25''02월'!Q8 -> 20 | G8: =+E8*F8 -> 360000 | J8: =+H8*I8 -> 0 | M8: =+K8*L8 -> 0 | P8: =+N8*O8 -> 0 | Q8: =+E8 -> 18000 | R8: =+F8+I8-L8+O8 -> 20 | S8: =+Q8*R8 -> 360000
B9: 뉴라미스볼륨 | E9: =+'[1]25''02월'!P9 -> 18000 | F9: =+'[1]25''02월'!Q9 -> 11 | G9: =+E9*F9 -> 198000 | J9: =+H9*I9 -> 0 | M9: =+K9*L9 -> 0 | P9: =+N9*O9 -> 0 | Q9: =+E9 -> 18000 | R9: =+F9+I9-L9+O9 -> 11 | S9: =+Q9*R9 -> 198000
B10: 쥬비덤 볼벨라 | E10: =+'[1]25''02월'!P10 -> 130164 | F10: =+'[1]25''02월'!Q10 -> 18 | G10: =+E10*F10 -> 2342952 | J10: =+H10*I10 -> 0 | M10: =+K10*L10 -> 0 | P10: =+N10*O10 -> 0 | Q10: =+E10 -> 130164 | R10: =+F10+I10-L10+O10 -> 18 | S10: =+Q10*R10 -> 2342952
B11: 쥬비덤 볼리프트 | E11: =+'[1]25''02월'!P11 -> 130164.1 | F11: =+'[1]25''02월'!Q11 -> 27 | G11: =+E11*F11 -> 3514430.7 | J11: =+H11*I11 -> 0 | M11: =+K11*L11 -> 0 | P11: =+N11*O11 -> 0 | Q11: =+E11 -> 130164.1 | R11: =+F11+I11-L11+O11 -> 27 | S11: =+Q11*R11 -> 3514430.7
B12: 쥬비덤 볼루마 | E12: =+'[1]25''02월'!P12 -> 130164 | F12: =+'[1]25''02월'!Q12 -> 36 | G12: =+E12*F12 -> 4685904 | J12: =+H12*I12 -> 0 | M12: =+K12*L12 -> 0 | P12: =+N12*O12 -> 0 | Q12: =+E12 -> 130164 | R12: =+F12+I12-L12+O12 -> 36 | S12: =+Q12*R12 -> 4685904
B13: 레스틸렌비탈 | E13: =+'[1]25''02월'!P13 -> 115500 | F13: =+'[1]25''02월'!Q13 -> 9 | G13: =+E13*F13 -> 1039500 | J13: =+H13*I13 -> 0 | M13: =+K13*L13 -> 0 | P13: =+N13*O13 -> 0 | Q13: =+E13 -> 115500 | R13: =+F13+I13-L13+O13 -> 9 | S13: =+Q13*R13 -> 1039500
B14: 레스틸렌리파인 | E14: =+'[1]25''02월'!P14 -> 110000 | F14: =+'[1]25''02월'!Q14 -> 18 | G14: =+E14*F14 -> 1980000 | J14: =+H14*I14 -> 0 | M14: =+K14*L14 -> 0 | P14: =+N14*O14 -> 0 | Q14: =+E14 -> 110000 | R14: =+F14+I14-L14+O14 -> 18 | S14: =+Q14*R14 -> 1980000
B15: 레스틸렌디파인 | E15: =+'[1]25''02월'!P15 -> 110000 | F15: =+'[1]25''02월'!Q15 -> 15 | G15: =+E15*F15 -> 1650000 | J15: =+H15*I15 -> 0 | M15: =+K15*L15 -> 0 | P15: =+N15*O15 -> 0 | Q15: =+E15 -> 110000 | R15: =+F15+I15-L15+O15 -> 15 | S15: =+Q15*R15 -> 1650000
B16: 엘란쎄M | E16: =+'[1]25''02월'!P16 -> 211747 | F16: =+'[1]25''02월'!Q16 -> 32 | G16: =+E16*F16 -> 6775904 | J16: =+H16*I16 -> 0 | M16: =+K16*L16 -> 0 | P16: =+N16*O16 -> 0 | Q16: =+E16 -> 211747 | R16: =+F16+I16-L16+O16 -> 32 | S16: =+Q16*R16 -> 6775904
E17: =+'[1]25''02월'!P17 -> 211612.52 | F17: =+'[1]25''02월'!Q17 -> 120 | G17: =+E17*F17 -> 25393502 | J17: =+H17*I17 -> 0 | Q17: =+E17 -> 211612.52 | R17: =+F17+I17-L17+O17 -> 120 | S17: =+Q17*R17 -> 25393502
B18: 스컬트라 | E18: =+'[1]25''02월'!P18 -> 242000 | F18: =+'[1]25''02월'!Q18 -> 40 | G18: =+E18*F18 -> 9680000 | J18: =+H18*I18 -> 0 | M18: =+K18*L18 -> 0 | P18: =+N18*O18 -> 0 | Q18: =+E18 -> 242000 | R18: =+F18+I18-L18+O18 -> 40 | S18: =+Q18*R18 -> 9680000
B19: 쥬베룩볼륨 | E19: =+'[1]25''02월'!P19 -> 110000 | F19: =+'[1]25''02월'!Q19 -> 12 | G19: =+E19*F19 -> 1320000 | J19: =+H19*I19 -> 0 | M19: =+K19*L19 -> 0 | P19: =+N19*O19 -> 0 | Q19: =+E19 -> 110000 | R19: =+F19+I19-L19+O19 -> 12 | S19: =+Q19*R19 -> 1320000
B20: 벨로테로소프트 | E20: =+'[1]25''02월'!P20 -> 91000 | F20: =+'[1]25''02월'!Q20 -> 55 | G20: =+E20*F20 -> 5005000 | J20: =+H20*I20 -> 0 | M20: =+K20*L20 -> 0 | P20: =+N20*O20 -> 0 | Q20: =+E20 -> 91000 | R20: =+F20+I20-L20+O20 -> 55 | S20: =+Q20*R20 -> 5005000
E21: =+'[1]25''02월'!P21 -> 82727 | F21: =+'[1]25''02월'!Q21 -> 3 | G21: =+E21*F21 -> 248181 | J21: =+H21*I21 -> 0 | M21: =+K21*L21 -> 0 | P21: =+N21*O21 -> 0 | Q21: =+E21 -> 82727 | R21: =+F21+I21-L21+O21 -> 3 | S21: =+Q21*R21 -> 248181
B22: 리즈톡스 | D22: 보톡스 | E22: =+'[1]25''02월'!P22 -> 25000 | F22: =+'[1]25''02월'!Q22 -> 54 | G22: =+E22*F22 -> 1350000 | J22: =+H22*I22 -> 0 | M22: =+K22*L22 -> 0 | P22: =+N22*O22 -> 0 | Q22: =+E22 -> 25000 | R22: =+F22+I22-L22+O22 -> 54 | S22: =+Q22*R22 -> 1350000
B23: 코어톡스 | E23: =+'[1]25''02월'!P23 -> 33000 | F23: =+'[1]25''02월'!Q23 -> 37 | G23: =+E23*F23 -> 1221000 | J23: =+H23*I23 -> 0 | M23: =+K23*L23 -> 0 | P23: =+N23*O23 -> 0 | Q23: =+E23 -> 33000 | R23: =+F23+I23-L23+O23 -> 37 | S23: =+Q23*R23 -> 1221000
B24: 제오민 | E24: =+'[1]25''02월'!P24 -> 110000 | F24: =+'[1]25''02월'!Q24 -> 13 | G24: =+E24*F24 -> 1430000 | J24: =+H24*I24 -> 0 | M24: =+K24*L24 -> 0 | P24: =+N24*O24 -> 0 | Q24: =+E24 -> 110000 | R24: =+F24+I24-L24+O24 -> 13 | S24: =+Q24*R24 -> 1430000
E25: =+'[1]25''02월'!P25 -> 120000 | F25: =+'[1]25''02월'!Q25 -> 30 | G25: =+E25*F25 -> 3600000 | J25: =+H25*I25 -> 0 | Q25: =+E25 -> 120000 | R25: =+F25+I25-L25+O25 -> 30 | S25: =+Q25*R25 -> 3600000
B26: 리쥬란아이 | D26: 스킨부스터 | E26: =+'[1]25''02월'!P26 -> 52923 | F26: =+'[1]25''02월'!Q26 -> 25 | G26: =+E26*F26 -> 1323075 | J26: =+H26*I26 -> 0 | M26: =+K26*L26 -> 0 | P26: =+N26*O26 -> 0 | Q26: =+E26 -> 52923 | R26: =+F26+I26-L26+O26 -> 25 | S26: =+Q26*R26 -> 1323075
B27: 리쥬란 | E27: =+'[1]25''02월'!P27 -> 94430 | F27: =+'[1]25''02월'!Q27 -> 126 | G27: =+E27*F27 -> 11898180 | J27: =+H27*I27 -> 0 | M27: =+K27*L27 -> 0 | P27: =+N27*O27 -> 0 | Q27: =+E27 -> 94430 | R27: =+F27+I27-L27+O27 -> 126 | S27: =+Q27*R27 -> 11898180
B28: 리쥬란HB | E28: =+'[1]25''02월'!P29 -> 55377 | F28: =+'[1]25''02월'!Q29 -> 51 | G28: =+E28*F28 -> 2824227 | J28: =+H28*I28 -> 0 | M28: =+K28*L28 -> 0 | P28: =+N28*O28 -> 0 | Q28: =+E28 -> 55377 | R28: =+F28+I28-L28+O28 -> 51 | S28: =+Q28*R28 -> 2824227
B29: 샤넬 | E29: =+'[1]25''02월'!P30 -> 55648 | F29: =+'[1]25''02월'!Q30 -> 81 | G29: =+E29*F29 -> 4507488 | J29: =+H29*I29 -> 0 | M29: =+K29*L29 -> 0 | P29: =+N29*O29 -> 0 | Q29: =+E29 -> 55648 | R29: =+F29+I29-L29+O29 -> 81 | S29: =+Q29*R29 -> 4507488
B30: 쥬베룩 | E30: =+'[1]25''02월'!P31 -> 100000 | F30: =+'[1]25''02월'!Q31 -> 16 | G30: =+E30*F30 -> 1600000 | J30: =+H30*I30 -> 0 | M30: =+K30*L30 -> 0 | P30: =+N30*O30 -> 0 | Q30: =+E30 -> 100000 | R30: =+F30+I30-L30+O30 -> 16 | S30: =+Q30*R30 -> 1600000
E31: =+'[1]25''02월'!P32 -> 121000 | F31: =+'[1]25''02월'!Q32 -> 50 | G31: =+E31*F31 -> 6050000 | J31: =+H31*I31 -> 0 | P31: =+N31*O31 -> 0 | Q31: =+E31 -> 121000 | R31: =+F31+I31-L31+O31 -> 50 | S31: =+Q31*R31 -> 6050000
B32: 하이주 | E32: =+'[1]25''02월'!P33 -> 9616 | F32: =+'[1]25''02월'!Q33 -> 52 | G32: =+E32*F32 -> 500032 | J32: =+H32*I32 -> 0 | M32: =+K32*L32 -> 0 | P32: =+N32*O32 -> 0 | Q32: =+E32 -> 9616 | R32: =+F32+I32-L32+O32 -> 52 | S32: =+Q32*R32 -> 500032
B33: 하이코(4cm) | D33: 실리프팅 | E33: =+'[1]25''02월'!P34 -> 4950 | F33: =+'[1]25''02월'!Q34 -> 84 | G33: =+E33*F33 -> 415800 | J33: =+H33*I33 -> 0 | M33: =+K33*L33 -> 0 | P33: =+N33*O33 -> 0 | Q33: =+E33 -> 4950 | R33: =+F33+I33-L33+O33 -> 84 | S33: =+Q33*R33 -> 415800
B34: 메이드코(6cm) | E34: =+'[1]25''02월'!P35 -> 4950 | F34: =+'[1]25''02월'!Q35 -> 20 | G34: =+E34*F34 -> 99000 | J34: =+H34*I34 -> 0 | M34: =+K34*L34 -> 0 | P34: =+N34*O34 -> 0 | Q34: =+E34 -> 4950 | R34: =+F34+I34-L34+O34 -> 20 | S34: =+Q34*R34 -> 99000
B35: 오메가 | E35: =+'[1]25''02월'!P36 -> 5500 | F35: =+'[1]25''02월'!Q36 -> 188 | G35: =+E35*F35 -> 1034000 | J35: =+H35*I35 -> 0 | M35: =+K35*L35 -> 0 | P35: =+N35*O35 -> 0 | Q35: =+E35 -> 5500 | R35: =+F35+I35-L35+O35 -> 188 | S35: =+Q35*R35 -> 1034000
B36: 울트라V | E36: =+'[1]25''02월'!P37 -> 550 | F36: =+'[1]25''02월'!Q37 -> 960 | G36: =+E36*F36 -> 528000 | J36: =+H36*I36 -> 0 | M36: =+K36*L36 -> 0 | P36: =+N36*O36 -> 0 | Q36: =+E36 -> 550 | R36: =+F36+I36-L36+O36 -> 960 | S36: =+Q36*R36 -> 528000
B37: 민트쁘띠 | E37: =+'[1]25''02월'!P38 -> 9000 | F37: =+'[1]25''02월'!Q38 -> 168 | G37: =+E37*F37 -> 1512000 | J37: =+H37*I37 -> 0 | M37: =+K37*L37 -> 0 | P37: =+N37*O37 -> 0 | Q37: =+E37 -> 9000 | R37: =+F37+I37-L37+O37 -> 168 | S37: =+Q37*R37 -> 1512000
B38: 실루엣8콘 | E38: =+'[1]25''02월'!P39 -> 107250 | F38: =+'[1]25''02월'!Q39 -> 28 | G38: =+E38*F38 -> 3003000 | J38: =+H38*I38 -> 0 | M38: =+K38*L38 -> 0 | P38: =+N38*O38 -> 0 | Q38: =+E38 -> 107250 | R38: =+F38+I38-L38+O38 -> 28 | S38: =+Q38*R38 -> 3003000
B39: 울쎄라-DS 10-1.5N | D39: 레이저 | E39: =+'[1]25''02월'!P40 -> 1271 | F39: =+'[1]25''02월'!Q40 -> 1106 | G39: =+E39*F39 -> 1405726 | J39: =+H39*I39 -> 0 | M39: =+K39*L39 -> 0 | P39: =+N39*O39 -> 0 | Q39: =+E39 -> 1271 | R39: =+F39+I39-L39+O39 -> 1106 | S39: =+Q39*R39 -> 1405726
E40: =+'[1]25''02월'!P41 -> 1121 | F40: =+'[1]25''02월'!Q41 -> 12000 | G40: =+E40*F40 -> 13452000 | J40: =+H40*I40 -> 0 | Q40: =+E40 -> 1121 | R40: =+F40+I40-L40+O40 -> 12000 | S40: =+Q40*R40 -> 13452000
B41: 울쎄라-DS 7-3.0 | E41: =+'[1]25''02월'!P42 -> 1121 | F41: =+'[1]25''02월'!Q42 -> 1419 | G41: =+E41*F41 -> 1590699 | J41: =+H41*I41 -> 0 | M41: =+K41*L41 -> 0 | P41: =+N41*O41 -> 0 | Q41: =+E41 -> 1121 | R41: =+F41+I41-L41+O41 -> 1419 | S41: =+Q41*R41 -> 1590699
...
