Workbook

Sheet 25'03월
A1: 2025년 03월 재고 현황
A2: 거래처 | B2: 구분 | C2: 제품명 | D2: 이월 | G2: 입고 | J2: 실사용 | M2: 과부족 | P2: 실재 재고 | S2: 사유
D3: 단가 | E3: 수량 | F3: 금액 | G3: 단가 | H3: 수량 | I3: 입고금액 | J3: 단가 | K3: 수량 | L3: 사용금액 | M3: 단가 | N3: 수량 | O3: 사용금액 | P3: 단가 | Q3: 수량 | R3: 재고금액
B4: 필러 | C4: 채움프리미엄 1 | D4: =+'[1]25''02월'!P4 -> 18000 | E4: =+'[1]25''02월'!Q4 -> 16 | F4: =+D4*E4 -> 288000 | I4: =+G4*H4 -> 0 | L4: =+J4*K4 -> 0 | O4: =+M4*N4 -> 0 | P4: =+D4 -> 18000 | Q4: =+E4+H4-K4+N4 -> 16 | R4: =+P4*Q4 -> 288000
C5: 체움프리미엄 2 | D5: =+'[1]25''02월'!P5 -> 18000 | E5: =+'[1]25''02월'!Q5 -> 23 | F5: =+D5*E5 -> 414000 | I5: =+G5*H5 -> 0 | L5: =+J5*K5 -> 0 | O5: =+M5*N5 -> 0 | P5: =+D5 -> 18000 | Q5: =+E5+H5-K5+N5 -> 23 | R5: =+P5*Q5 -> 414000
C6: 채움프리미엄 3 | D6: =+'[1]25''02월'!P6 -> 18000 | E6: =+'[1]25''02월'!Q6 -> 25 | F6: =+D6*E6 -> 450000 | I6: =+G6*H6 -> 0 | L6: =+J6*K6 -> 0 | O6: =+M6*N6 -> 0 | P6: =+D6 -> 18000 | Q6: =+E6+H6-K6+N6 -> 25 | R6: =+P6*Q6 -> 450000
C7: 뉴라미스라이트 | D7: =+'[1]25''02월'!P7 -> 14000 | E7: =+'[1]25''02월'!Q7 -> 24 | F7: =+D7*E7 -> 336000 | I7: =+G7*H7 -> 0 | L7: =+J7*K7 -> 0 | O7: =+M7*N7 -> 0 | P7: =+D7 -> 14000 | Q7: =+E7+H7-K7+N7 -> 24 | R7: =+P7*Q7 -> 336000
C8: 뉴라미스리도카인 | D8: =+'[1]25''02월'!P8 -> 18000 | E8: =+'[1]25''02월'!Q8 -> 20 | F8: =+D8*E8 -> 360000 | I8: =+G8*H8 -> 0 | L8: =+J8*K8 -> 0 | O8: =+M8*N8 -> 0 | P8: =+D8 -> 18000 | Q8: =+E8+H8-K8+N8 -> 20 | R8: =+P8*Q8 -> 360000
C9: 뉴라미스볼륨 | D9: =+'[1]25''02월'!P9 -> 18000 | E9: =+'[1]25''02월'!Q9 -> 11 | F9: =+D9*E9 -> 198000 | I9: =+G9*H9 -> 0 | L9: =+J9*K9 -> 0 | O9: =+M9*N9 -> 0 | P9: =+D9 -> 18000 | Q9: =+E9+H9-K9+N9 -> 11 | R9: =+P9*Q9 -> 198000
C10: 쥬비덤 볼벨라 | D10: =+'[1]25''02월'!P10 -> 130164 | E10: =+'[1]25''02월'!Q10 -> 18 | F10: =+D10*E10 -> 2342952 | I10: =+G10*H10 -> 0 | L10: =+J10*K10 -> 0 | O10: =+M10*N10 -> 0 | P10: =+D10 -> 130164 | Q10: =+E10+H10-K10+N10 -> 18 | R10: =+P10*Q10 -> 2342952
C11: 쥬비덤 볼리프트 | D11: =+'[1]25''02월'!P11 -> 130164.1 | E11: =+'[1]25''02월'!Q11 -> 27 | F11: =+D11*E11 -> 3514430.7 | I11: =+G11*H11 -> 0 | L11: =+J11*K11 -> 0 | O11: =+M11*N11 -> 0 | P11: =+D11 -> 130164.1 | Q11: =+E11+H11-K11+N11 -> 27 | R11: =+P11*Q11 -> 3514430.7
C12: 쥬비덤 볼루마 | D12: =+'[1]25''02월'!P12 -> 130164 | E12: =+'[1]25''02월'!Q12 -> 36 | F12: =+D12*E12 -> 4685904 | I12: =+G12*H12 -> 0 | L12: =+J12*K12 -> 0 | O12: =+M12*N12 -> 0 | P12: =+D12 -> 130164 | Q12: =+E12+H12-K12+N12 -> 36 | R12: =+P12*Q12 -> 4685904
C13: 레스틸렌비탈 | D13: =+'[1]25''02월'!P13 -> 115500 | E13: =+'[1]25''02월'!Q13 -> 9 | F13: =+D13*E13 -> 1039500 | I13: =+G13*H13 -> 0 | L13: =+J13*K13 -> 0 | O13: =+M13*N13 -> 0 | P13: =+D13 -> 115500 | Q13: =+E13+H13-K13+N13 -> 9 | R13: =+P13*Q13 -> 1039500
C14: 레스틸렌리파인 | D14: =+'[1]25''02월'!P14 -> 110000 | E14: =+'[1]25''02월'!Q14 -> 18 | F14: =+D14*E14 -> 1980000 | I14: =+G14*H14 -> 0 | L14: =+J14*K14 -> 0 | O14: =+M14*N14 -> 0 | P14: =+D14 -> 110000 | Q14: =+E14+H14-K14+N14 -> 18 | R14: =+P14*Q14 -> 1980000
C15: 레스틸렌디파인 | D15: =+'[1]25''02월'!P15 -> 110000 | E15: =+'[1]25''02월'!Q15 -> 15 | F15: =+D15*E15 -> 1650000 | I15: =+G15*H15 -> 0 | L15: =+J15*K15 -> 0 | O15: =+M15*N15 -> 0 | P15: =+D15 -> 110000 | Q15: =+E15+H15-K15+N15 -> 15 | R15: =+P15*Q15 -> 1650000
C16: 엘란쎄M | D16: =+'[1]25''02월'!P16 -> 211747 | E16: =+'[1]25''02월'!Q16 -> 32 | F16: =+D16*E16 -> 6775904 | I16: =+G16*H16 -> 0 | L16: =+J16*K16 -> 0 | O16: =+M16*N16 -> 0 | P16: =+D16 -> 211747 | Q16: =+E16+H16-K16+N16 -> 32 | R16: =+P16*Q16 -> 6775904
D17: =+'[1]25''02월'!P17 -> 211612.52 | E17: =+'[1]25''02월'!Q17 -> 120 | F17: =+D17*E17 -> 25393502 | I17: =+G17*H17 -> 0 | P17: =+D17 -> 211612.52 | Q17: =+E17+H17-K17+N17 -> 120 | R17: =+P17*Q17 -> 25393502
C18: 스컬트라 | D18: =+'[1]25''02월'!P18 -> 242000 | E18: =+'[1]25''02월'!Q18 -> 40 | F18: =+D18*E18 -> 9680000 | I18: =+G18*H18 -> 0 | L18: =+J18*K18 -> 0 | O18: =+M18*N18 -> 0 | P18: =+D18 -> 242000 | Q18: =+E18+H18-K18+N18 -> 40 | R18: =+P18*Q18 -> 9680000
C19: 쥬베룩볼륨 | D19: =+'[1]25''02월'!P19 -> 110000 | E19: =+'[1]25''02월'!Q19 -> 12 | F19: =+D19*E19 -> 1320000 | I19: =+G19*H19 -> 0 | L19: =+J19*K19 -> 0 | O19: =+M19*N19 -> 0 | P19: =+D19 -> 110000 | Q19: =+E19+H19-K19+N19 -> 12 | R19: =+P19*Q19 -> 1320000
C20: 벨로테로소프트 | D20: =+'[1]25''02월'!P20 -> 91000 | E20: =+'[1]25''02월'!Q20 -> 55 | F20: =+D20*E20 -> 5005000 | I20: =+G20*H20 -> 0 | L20: =+J20*K20 -> 0 | O20: =+M20*N20 -> 0 | P20: =+D20 -> 91000 | Q20: =+E20+H20-K20+N20 -> 55 | R20: =+P20*Q20 -> 5005000
D21: =+'[1]25''02월'!P21 -> 82727 | E21: =+'[1]25''02월'!Q21 -> 3 | F21: =+D21*E21 -> 248181 | I21: =+G21*H21 -> 0 | L21: =+J21*K21 -> 0 | O21: =+M21*N21 -> 0 | P21: =+D21 -> 82727 | Q21: =+E21+H21-K21+N21 -> 3 | R21: =+P21*Q21 -> 248181
B22: 보톡스 | C22: 리즈톡스 | D22: =+'[1]25''02월'!P22 -> 25000 | E22: =+'[1]25''02월'!Q22 -> 54 | F22: =+D22*E22 -> 1350000 | I22: =+G22*H22 -> 0 | L22: =+J22*K22 -> 0 | O22: =+M22*N22 -> 0 | P22: =+D22 -> 25000 | Q22: =+E22+H22-K22+N22 -> 54 | R22: =+P22*Q22 -> 1350000
C23: 코어톡스 | D23: =+'[1]25''02월'!P23 -> 33000 | E23: =+'[1]25''02월'!Q23 -> 37 | F23: =+D23*E23 -> 1221000 | I23: =+G23*H23 -> 0 | L23: =+J23*K23 -> 0 | O23: =+M23*N23 -> 0 | P23: =+D23 -> 33000 | Q23: =+E23+H23-K23+N23 -> 37 | R23: =+P23*Q23 -> 1221000
C24: 제오민 | D24: =+'[1]25''02월'!P24 -> 110000 | E24: =+'[1]25''02월'!Q24 -> 13 | F24: =+D24*E24 -> 1430000 | I24: =+G24*H24 -> 0 | L24: =+J24*K24 -> 0 | O24: =+M24*N24 -> 0 | P24: =+D24 -> 110000 | Q24: =+E24+H24-K24+N24 -> 13 | R24: =+P24*Q24 -> 1430000
D25: =+'[1]25''02월'!P25 -> 120000 | E25: =+'[1]25''02월'!Q25 -> 30 | F25: =+D25*E25 -> 3600000 | I25: =+G25*H25 -> 0 | P25: =+D25 -> 120000 | Q25: =+E25+H25-K25+N25 -> 30 | R25: =+P25*Q25 -> 3600000
B26: 스킨부스터 | C26: 리쥬란아이 | D26: =+'[1]25''02월'!P26 -> 52923 | E26: =+'[1]25''02월'!Q26 -> 25 | F26: =+D26*E26 -> 1323075 | I26: =+G26*H26 -> 0 | L26: =+J26*K26 -> 0 | O26: =+M26*N26 -> 0 | P26: =+D26 -> 52923 | Q26: =+E26+H26-K26+N26 -> 25 | R26: =+P26*Q26 -> 1323075
C27: 리쥬란 | D27: =+'[1]25''02월'!P27 -> 94430 | E27: =+'[1]25''02월'!Q27 -> 126 | F27: =+D27*E27 -> 11898180 | I27: =+G27*H27 -> 0 | L27: =+J27*K27 -> 0 | O27: =+M27*N27 -> 0 | P27: =+D27 -> 94430 | Q27: =+E27+H27-K27+N27 -> 126 | R27: =+P27*Q27 -> 11898180
C28: 리쥬란HB | D28: =+'[1]25''02월'!P29 -> 55377 | E28: =+'[1]25''02월'!Q29 -> 51 | F28: =+D28*E28 -> 2824227 | I28: =+G28*H28 -> 0 | L28: =+J28*K28 -> 0 | O28: =+M28*N28 -> 0 | P28: =+D28 -> 55377 | Q28: =+E28+H28-K28+N28 -> 51 | R28: =+P28*Q28 -> 2824227
C29: 샤넬 | D29: =+'[1]25''02월'!P30 -> 55648 | E29: =+'[1]25''02월'!Q30 -> 81 | F29: =+D29*E29 -> 4507488 | I29: =+G29*H29 -> 0 | L29: =+J29*K29 -> 0 | O29: =+M29*N29 -> 0 | P29: =+D29 -> 55648 | Q29: =+E29+H29-K29+N29 -> 81 | R29: =+P29*Q29 -> 4507488
C30: 쥬베룩 | D30: =+'[1]25''02월'!P31 -> 100000 | E30: =+'[1]25''02월'!Q31 -> 16 | F30: =+D30*E30 -> 1600000 | I30: =+G30*H30 -> 0 | L30: =+J30*K30 -> 0 | O30: =+M30*N30 -> 0 | P30: =+D30 -> 100000 | Q30: =+E30+H30-K30+N30 -> 16 | R30: =+P30*Q30 -> 1600000
D31: =+'[1]25''02월'!P32 -> 121000 | E31: =+'[1]25''02월'!Q32 -> 50 | F31: =+D31*E31 -> 6050000 | I31: =+G31*H31 -> 0 | O31: =+M31*N31 -> 0 | P31: =+D31 -> 121000 | Q31: =+E31+H31-K31+N31 -> 50 | R31: =+P31*Q31 -> 6050000
C32: 하이주 | D32: =+'[1]25''02월'!P33 -> 9616 | E32: =+'[1]25''02월'!Q33 -> 52 | F32: =+D32*E32 -> 500032 | I32: =+G32*H32 -> 0 | L32: =+J32*K32 -> 0 | O32: =+M32*N32 -> 0 | P32: =+D32 -> 9616 | Q32: =+E32+H32-K32+N32 -> 52 | R32: =+P32*Q32 -> 500032
B33: 실리프팅 | C33: 하이코(4cm) | D33: =+'[1]25''02월'!P34 -> 4950 | E33: =+'[1]25''02월'!Q34 -> 84 | F33: =+D33*E33 -> 415800 | I33: =+G33*H33 -> 0 | L33: =+J33*K33 -> 0 | O33: =+M33*N33 -> 0 | P33: =+D33 -> 4950 | Q33: =+E33+H33-K33+N33 -> 84 | R33: =+P33*Q33 -> 415800
C34: 메이드코(6cm) | D34: =+'[1]25''02월'!P35 -> 4950 | E34: =+'[1]25''02월'!Q35 -> 20 | F34: =+D34*E34 -> 99000 | I34: =+G34*H34 -> 0 | L34: =+J34*K34 -> 0 | O34: =+M34*N34 -> 0 | P34: =+D34 -> 4950 | Q34: =+E34+H34-K34+N34 -> 20 | R34: =+P34*Q34 -> 99000
C35: 오메가 | D35: =+'[1]25''02월'!P36 -> 5500 | E35: =+'[1]25''02월'!Q36 -> 188 | F35: =+D35*E35 -> 1034000 | I35: =+G35*H35 -> 0 | L35: =+J35*K35 -> 0 | O35: =+M35*N35 -> 0 | P35: =+D35 -> 5500 | Q35: =+E35+H35-K35+N35 -> 188 | R35: =+P35*Q35 -> 1034000
C36: 울트라V | D36: =+'[1]25''02월'!P37 -> 550 | E36: =+'[1]25''02월'!Q37 -> 960 | F36: =+D36*E36 -> 528000 | I36: =+G36*H36 -> 0 | L36: =+J36*K36 -> 0 | O36: =+M36*N36 -> 0 | P36: =+D36 -> 550 | Q36: =+E36+H36-K36+N36 -> 960 | R36: =+P36*Q36 -> 528000
C37: 민트쁘띠 | D37: =+'[1]25''02월'!P38 -> 9000 | E37: =+'[1]25''02월'!Q38 -> 168 | F37: =+D37*E37 -> 1512000 | I37: =+G37*H37 -> 0 | L37: =+J37*K37 -> 0 | O37: =+M37*N37 -> 0 | P37: =+D37 -> 9000 | Q37: =+E37+H37-K37+N37 -> 168 | R37: =+P37*Q37 -> 1512000
C38: 실루엣8콘 | D38: =+'[1]25''02월'!P39 -> 107250 | E38: =+'[1]25''02월'!Q39 -> 28 | F38: =+D38*E38 -> 3003000 | I38: =+G38*H38 -> 0 | L38: =+J38*K38 -> 0 | O38: =+M38*N38 -> 0 | P38: =+D38 -> 107250 | Q38: =+E38+H38-K38+N38 -> 28 | R38: =+P38*Q38 -> 3003000
B39: 레이저 | C39: 울쎄라-DS 10-1.5N | D39: =+'[1]25''02월'!P40 -> 1271 | E39: =+'[1]25''02월'!Q40 -> 1106 | F39: =+D39*E39 -> 1405726 | I39: =+G39*H39 -> 0 | L39: =+J39*K39 -> 0 | O39: =+M39*N39 -> 0 | P39: =+D39 -> 1271 | Q39: =+E39+H39-K39+N39 -> 1106 | R39: =+P39*Q39 -> 1405726
D40: =+'[1]25''02월'!P41 -> 1121 | E40: =+'[1]25''02월'!Q41 -> 12000 | F40: =+D40*E40 -> 13452000 | I40: =+G40*H40 -> 0 | P40: =+D40 -> 1121 | Q40: =+E40+H40-K40+N40 -> 12000 | R40: =+P40*Q40 -> 13452000
...

Sheet Sheet1
