Workbook

Sheet 25'03월
A1: 2025년 03월 재고 현황
A2: 거래처 | B2: 구분 | C2: 제품명 | D2: 이월 | G2: 입고 | J2: 실사용 | M2: 과부족 | P2: 실재 재고 | S2: 사유
D3: 단가 | E3: 수량 | F3: 금액 | G3: 단가 | H3: 수량 | I3: 입고금액 | J3: 단가 | K3: 수량 | L3: 사용금액 | M3: 단가 | N3: 수량 | O3: 사용금액 | P3: 단가 | Q3: 수량 | R3: 재고금액
B4: 필러 | C4: 채움프리미엄 1 | D4: =+'[1]25''02월'!P4 -> 18000 | E4: =+'[1]25''02월'!Q4 -> 16 | F4: =+D4*E4 -> 288000 | I4: =+G4*H4 -> 0 | L4: =+J4*K4 -> 0 | O4: =+M4*N4 -> 0 | P4: =+D4 -> 18000 | Q4: =+E4+H4-K4+N4 -> 16 | R4: =+P4*Q4 -> 288000
C5: 체움프리미엄 2 | D5: =+'[1]25''02월'!P5 -> 18000 | E5: =+'[1]25''02월'!Q5 -> 23 | F5: =+D5*E5 -> 414000 | I5: =+G5*H5 -> 0 | L5: =+J5*K5 -> 0 | O5: =+M5*N5 -> 0 | P5: =+D5 -> 18000 | Q5: =+E5+H5-K5+N5 -> 23 | R5: =+P5*Q5 -> 414000
C6: 채움프리미엄 3 | D6: =+'[1]25''02월'!P6 -> 18000 | E6: =+'[1]25''02월'!Q6 -> 25 | F6: =+D6*E6 -> 450000 | I6: =+G6*H6 -> 0 | L6: =+J6*K6 -> 0 | O6: =+M6*N6 -> 0 | P6: =+D6 -> 18000 | Q6: =+E6+H6-K6+N6 -> 25 | R6: =+P6*Q6 -> 450000
C7: 뉴라미스라이트 | D7: =+'[1]25''02월'!P7 -> 14000 | E7: =+'[1]25''02월'!Q7 -> 24 | F7: =+D7*E7 -> 336000 | I7: =+G7*H7 -> 0 | L7: =+J7*K7 -> 0 | O7: =+M7*N7 -> 0 | P7: =+D7 -> 14000 | Q7: =+E7+H7-K7+N7 -> 24 | R7: =+P7*Q7 -> 336000
C8: 뉴라미스리도카인 | D8: =+'[1]25''02월'!P8 -> 18000 | E8: =+'[1]25''02월'!Q8 -> 20 | F8: =+D8*E8 -> 360000 | I8: =+G8*H8 -> 0 | L8: =+J8*K8 -> 0 | O8: =+M8*N8 -> 0 | P8: =+D8 -> 18000 | Q8: =+E8+H8-K8+N8 -> 20 | R8: =+P8*Q8 -> 360000
C9: 뉴라미스볼륨 | D9: =+'[1]25''02월'!P9 -> 18000 | E9: =+'[1]25''02월'!Q9 -> 11 | F9: =+D9*E9 -> 198000 | I9: =+G9*H9 -> 0 | L9: =+J9*K9 -> 0 | O9: =+M9*N9 -> 0 | P9: =+D9 -> 18000 | Q9: =+E9+H9-K9+N9 -> 11 | R9: =+P9*Q9 -> 198000
C10: 쥬비덤 볼벨라 | D10: =+'[1]25''02월'!P10 -> 130164 | E10: =+'[1]25''02월'!Q10 -> 18 | F10: =+D10*E10 -> 2342952 | I10: =+G10*H10 -> 0 | L10: =+J10*K10 -> 0 | O10: =+M10*N10 -> 0 | P10: =+D10 -> 130164 | Q10: =+E10+H10-K10+N10 -> 18 | R10: =+P10*Q10 -> 2342952
C11: 쥬비덤 볼리프트 | D11: =+'[1]25''02월'!P11 -> 130164.1 | E11: =+'[1]25''02월'!Q11 -> 27 | F11: =+D11*E11 -> 3514430.7 | I11: =+G11*H11 -> 0 | L11: =+J11*K11 -> 0 | O11: =+M11*N11 -> 0 | P11: =+D11 -> 130164.1 | Q11: =+E11+H11-K11+N11 -> 27 | R11: =+P11*Q11 -> 3514430.7
C12: 쥬비덤 볼루마 | D12: =+'[1]25''02월'!P12 -> 130164 | E12: =+'[1]25''02월'!Q12 -> 36 | F12: =+D12*E12 -> 4685904 | I12: =+G12*H12 -> 0 | L12: =+J12*K12 -> 0 | O12: =+M12*N12 -> 0 | P12: =+D12 -> 130164 | Q12: =+E12+H12-K12+N12 -> 36 | R12: =+P12*Q12 -> 4685904
C13: 레스틸렌비탈 | D13: =+'[1]25''02월'!P13 -> 115500 | E13: =+'[1]25''02월'!Q13 -> 9 | F13: =+D13*E13 -> 1039500 | I13: =+G13*H13 -> 0 | L13: =+J13*K13 -> 0 | O13: =+M13*N13 -> 0 | P13: =+D13 -> 115500 | Q13: =+E13+H13-K13+N13 -> 9 | R13: =+P13*Q13 -> 1039500
C14: 레스틸렌리파인 | D14: =+'[1]25''02월'!P14 -> 110000 | E14: =+'[1]25''02월'!Q14 -> 18 | F14: =+D14*E14 -> 1980000 | I14: =+G14*H14 -> 0 | L14: =+J14*K14 -> 0 | O14: =+M14*N14 -> 0 | P14: =+D14 -> 110000 | Q14: =+E14+H14-K14+N14 -> 18 | R14: =+P14*Q14 -> 1980000
C15: 레스틸렌디파인 | D15: =+'[1]25''02월'!P15 -> 110000 | E15: =+'[1]25''02월'!Q15 -> 15 | F15: =+D15*E15 -> 1650000 | I15: =+G15*H15 -> 0 | L15: =+J15*K15 -> 0 | O15: =+M15*N15 -> 0 | P15: =+D15 -> 110000 | Q15: =+E15+H15-K15+N15 -> 15 | R15: =+P15*Q15 -> 1650000
C16: 엘란쎄M | D16: =+'[1]25''02월'!P16 -> 211747 | E16: =+'[1]25''02월'!Q16 -> 32 | F16: =+D16*E16 -> 6775904 | I16: =+G16*H16 -> 0 | L16: =+J16*K16 -> 0 | O16: =+M16*N16 -> 0 | P16: =+D16 -> 211747 | Q16: =+E16+H16-K16+N16 -> 32 | R16: =+P16*Q16 -> 6775904
D17: =+'[1]25''02월'!P17 -> 211612.52 | E17: =+'[1]25''02월'!Q17 -> 120 | F17: =+D17*E17 -> 25393502 | I17: =+G17*H17 -> 0 | P17: =+D17 -> 211612.52 | Q17: =+E17+H17-K17+N17 -> 120 | R17: =+P17*Q17 -> 25393502
C18: 스컬트라 | D18: =+'[1]25''02월'!P18 -> 242000 | E18: =+'[1]25''02월'!Q18 -> 40 | F18: =+D18*E18 -> 9680000 | I18: =+G18*H18 -> 0 | L18: =+J18*K18 -> 0 | O18: =+M18*N18 -> 0 | P18: =+D18 -> 242000 | Q18: =+E18+H18-K18+N18 -> 40 | R18: =+P18*Q18 -> 9680000
C19: 쥬베룩볼륨 | D19: =+'[1]25''02월'!P19 -> 110000 | E19: =+'[1]25''02월'!Q19 -> 12 | F19: =+D19*E19 -> 1320000 | I19: =+G19*H19 -> 0 | L19: =+J19*K19 -> 0 | O19: =+M19*N19 -> 0 | P19: =+D19 -> 110000 | Q19: =+E19+H19-K19+N19 -> 12 | R19: =+P19*Q19 -> 1320000
C20: 벨로테로소프트 | D20: =+'[1]25''02월'!P20 -> 91000 | E20: =+'[1]25''02월'!Q20 -> 55 | F20: =+D20*E20 -> 5005000 | I20: =+G20*H20 -> 0 | L20: =+J20*K20 -> 0 | O20: =+M20*N20 -> 0 | P20: =+D20 -> 91000 | Q20: =+E20+H20-K20+N20 -> 55 | R20: =+P20*Q20 -> 5005000
D21: =+'[1]25''02월'!P21 -> 82727 | E21: =+'[1]25''02월'!Q21 -> 3 | F21: =+D21*E21 -> 248181 | I21: =+G21*H21 -> 0 | L21: =+J21*K21 -> 0 | O21: =+M21*N21 -> 0 | P21: =+D21 -> 82727 | Q21: =+E21+H21-K21+N21 -> 3 | R21: =+P21*Q21 -> 248181
B22: 보톡스 | C22: 리즈톡스 | D22: =+'[1]25''02월'!P22 -> 25000 | E22: =+'[1]25''02월'!Q22 -> 54 | F22: =+D22*E22 -> 1350000 | I22: =+G22*H22 -> 0 | L22: =+J22*K22 -> 0 | O22: =+M22*N22 -> 0 | P22: =+D22 -> 25000 | Q22: =+E22+H22-K22+N22 -> 54 | R22: =+P22*Q22 -> 1350000
C23: 코어톡스 | D23: =+'[1]25''02월'!P23 -> 33000 | E23: =+'[1]25''02월'!Q23 -> 37 | F23: =+D23*E23 -> 1221000 | I23: =+G23*H23 -> 0 | L23: =+J23*K23 -> 0 | O23: =+M23*N23 -> 0 | P23: =+D23 -> 33000 | Q23: =+E23+H23-K23+N23 -> 37 | R23: =+P23*Q23 -> 1221000
C24: 제오민 | D24: =+'[1]25''02월'!P24 -> 110000 | E24: =+'[1]25''02월'!Q24 -> 13 | F24: =+D24*E24 -> 1430000 | I24: =+G24*H24 -> 0 | L24: =+J24*K24 -> 0 | O24: =+M24*N24 -> 0 | P24: =+D24 -> 110000 | Q24: =+E24+H24-K24+N24 -> 13 | R24: =+P24*Q24 -> 1430000
D25: =+'[1]25''02월'!P25 -> 120000 | E25: =+'[1]25''02월'!Q25 -> 30 | F25: =+D25*E25 -> 3600000 | I25: =+G25*H25 -> 0 | P25: =+D25 -> 120000 | Q25: =+E25+H25-K25+N25 -> 30 | R25: =+P25*Q25 -> 3600000
B26: 스킨부스터 | C26: 리쥬란아이 | D26: =+'[1]25''02월'!P26 -> 52923 | E26: =+'[1]25''02월'!Q26 -> 25 | F26: =+D26*E26 -> 1323075 | I26: =+G26*H26 -> 0 | L26: =+J26*K26 -> 0 | O26: =+M26*N26 -> 0 | P26: =+D26 -> 52923 | Q26: =+E26+H26-K26+N26 -> 25 | R26: =+P26*Q26 -> 1323075
C27: 리쥬란 | D27: =+'[1]25''02월'!P27 -> 94430 | E27: =+'[1]25''02월'!Q27 -> 126 | F27: =+D27*E27 -> 11898180 | I27: =+G27*H27 -> 0 | L27: =+J27*K27 -> 0 | O27: =+M27*N27 -> 0 | P27: =+D27 -> 94430 | Q27: =+E27+H27-K27+N27 -> 126 | R27: =+P27*Q27 -> 11898180
C28: 리쥬란HB | D28: =+'[1]25''02월'!P29 -> 55377 | E28: =+'[1]25''02월'!Q29 -> 51 | F28: =+D28*E28 -> 2824227 | I28: =+G28*H28 -> 0 | L28: =+J28*K28 -> 0 | O28: =+M28*N28 -> 0 | P28: =+D28 -> 55377 | Q28: =+E28+H28-K28+N28 -> 51 | R28: =+P28*Q28 -> 2824227
C29: 샤넬 | D29: =+'[1]25''02월'!P30 -> 55648 | E29: =+'[1]25''02월'!Q30 -> 81 | F29: =+D29*E29 -> 4507488 | I29: =+G29*H29 -> 0 | L29: =+J29*K29 -> 0 | O29: =+M29*N29 -> 0 | P29: =+D29 -> 55648 | Q29: =+E29+H29-K29+N29 -> 81 | R29: =+P29*Q29 -> 4507488
C30: 쥬베룩 | D30: =+'[1]25''02월'!P31 -> 100000 | E30: =+'[1]25''02월'!Q31 -> 16 | F30: =+D30*E30 -> 1600000 | I30: =+G30*H30 -> 0 | L30: =+J30*K30 -> 0 | O30: =+M30*N30 -> 0 | P30: =+D30 -> 100000 | Q30: =+E30+H30-K30+N30 -> 16 | R30: =+P30*Q30 -> 1600000
D31: =+'[1]25''02월'!P32 -> 121000 | E31: =+'[1]25''02월'!Q32 -> 50 | F31: =+D31*E31 -> 6050000 | I31: =+G31*H31 -> 0 | O31: =+M31*N31 -> 0 | P31: =+D31 -> 121000 | Q31: =+E31+H31-K31+N31 -> 50 | R31: =+P31*Q31 -> 6050000
C32: 하이주 | D32: =+'[1]25''02월'!P33 -> 9616 | E32: =+'[1]25''02월'!Q33 -> 52 | F32: =+D32*E32 -> 500032 | I32: =+G32*H32 -> 0 | L32: =+J32*K32 -> 0 | O32: =+M32*N32 -> 0 | P32: =+D32 -> 9616 | Q32: =+E32+H32-K32+N32 -> 52 | R32: =+P32*Q32 -> 500032
B33: 실리프팅 | C33: 하이코(4cm) | D33: =+'[1]25''02월'!P34 -> 4950 | E33: =+'[1]25''02월'!Q34 -> 84 | F33: =+D33*E33 -> 415800 | I33: =+G33*H33 -> 0 | L33: =+J33*K33 -> 0 | O33: =+M33*N33 -> 0 | P33: =+D33 -> 4950 | Q33: =+E33+H33-K33+N33 -> 84 | R33: =+P33*Q33 -> 415800
C34: 메이드코(6cm) | D34: =+'[1]25''02월'!P35 -> 4950 | E34: =+'[1]25''02월'!Q35 -> 20 | F34: =+D34*E34 -> 99000 | I34: =+G34*H34 -> 0 | L34: =+J34*K34 -> 0 | O34: =+M34*N34 -> 0 | P34: =+D34 -> 4950 | Q34: =+E34+H34-K34+N34 -> 20 | R34: =+P34*Q34 -> 99000
C35: 오메가 | D35: =+'[1]25''02월'!P36 -> 5500 | E35: =+'[1]25''02월'!Q36 -> 188 | F35: =+D35*E35 -> 1034000 | I35: =+G35*H35 -> 0 | L35: =+J35*K35 -> 0 | O35: =+M35*N35 -> 0 | P35: =+D35 -> 5500 | Q35: =+E35+H35-K35+N35 -> 188 | R35: =+P35*Q35 -> 1034000
C36: 울트라V | D36: =+'[1]25''02월'!P37 -> 550 | E36: =+'[1]25''02월'!Q37 -> 960 | F36: =+D36*E36 -> 528000 | I36: =+G36*H36 -> 0 | L36: =+J36*K36 -> 0 | O36: =+M36*N36 -> 0 | P36: =+D36 -> 550 | Q36: =+E36+H36-K36+N36 -> 960 | R36: =+P36*Q36 -> 528000
C37: 민트쁘띠 | D37: =+'[1]25''02월'!P38 -> 9000 | E37: =+'[1]25''02월'!Q38 -> 168 | F37: =+D37*E37 -> 1512000 | I37: =+G37*H37 -> 0 | L37: =+J37*K37 -> 0 | O37: =+M37*N37 -> 0 | P37: =+D37 -> 9000 | Q37: =+E37+H37-K37+N37 -> 168 | R37: =+P37*Q37 -> 1512000
C38: 실루엣8콘 | D38: =+'[1]25''02월'!P39 -> 107250 | E38: =+'[1]25''02월'!Q39 -> 28 | F38: =+D38*E38 -> 3003000 | I38: =+G38*H38 -> 0 | L38: =+J38*K38 -> 0 | O38: =+M38*N38 -> 0 | P38: =+D38 -> 107250 | Q38: =+E38+H38-K38+N38 -> 28 | R38: =+P38*Q38 -> 3003000
B39: 레이저 | C39: 울쎄라-DS 10-1.5N | D39: =+'[1]25''02월'!P40 -> 1271 | E39: =+'[1]25''02월'!Q40 -> 1106 | F39: =+D39*E39 -> 1405726 | I39: =+G39*H39 -> 0 | L39: =+J39*K39 -> 0 | O39: =+M39*N39 -> 0 | P39: =+D39 -> 1271 | Q39: =+E39+H39-K39+N39 -> 1106 | R39: =+P39*Q39 -> 1405726
D40: =+'[1]25''02월'!P41 -> 1121 | E40: =+'[1]25''02월'!Q41 -> 12000 | F40: =+D40*E40 -> 13452000 | I40: =+G40*H40 -> 0 | P40: =+D40 -> 1121 | Q40: =+E40+H40-K40+N40 -> 12000 | R40: =+P40*Q40 -> 13452000
C41: 울쎄라-DS 7-3.0 | D41: =+'[1]25''02월'!P42 -> 1121 | E41: =+'[1]25''02월'!Q42 -> 1419 | F41: =+D41*E41 -> 1590699 | I41: =+G41*H41 -> 0 | L41: =+J41*K41 -> 0 | O41: =+M41*N41 -> 0 | P41: =+D41 -> 1121 | Q41: =+E41+H41-K41+N41 -> 1419 | R41: =+P41*Q41 -> 1590699
D42: =+'[1]25''02월'!P43 -> 1145.9 | E42: =+'[1]25''02월'!Q43 -> 12000 | F42: =+D42*E42 -> 13750800 | I42: =+G42*H42 -> 0 | P42: =+D42 -> 1145.9 | Q42: =+E42+H42-K42+N42 -> 12000 | R42: =+P42*Q42 -> 13750800
C43: 울쎄라-DS 4-4.5 | D43: =+'[1]25''02월'!P45 -> 1145.9 | E43: =+'[1]25''02월'!Q45 -> 98243 | F43: =+D43*E43 -> 1.1257665e+08 | I43: =+G43*H43 -> 0 | L43: =+J43*K43 -> 0 | O43: =+M43*N43 -> 0 | P43: =+D43 -> 1145.9 | Q43: =+E43+H43-K43+N43 -> 98243 | R43: =+P43*Q43 -> 1.1257665e+08
C44: 울핏6.0 | D44: =+'[1]25''02월'!P46 -> 22 | E44: =+'[1]25''02월'!Q46 -> 67892 | F44: =+D44*E44 -> 1493624 | I44: =+G44*H44 -> 0 | L44: =+J44*K44 -> 0 | O44: =+M44*N44 -> 0 | P44: =+D44 -> 22 | Q44: =+E44+H44-K44+N44 -> 67892 | R44: =+P44*Q44 -> 1493624
C45: 울핏9.0 | D45: =+'[1]25''02월'!P47 -> 22 | E45: =+'[1]25''02월'!Q47 -> 69660 | F45: =+D45*E45 -> 1532520 | I45: =+G45*H45 -> 0 | L45: =+J45*K45 -> 0 | O45: =+M45*N45 -> 0 | P45: =+D45 -> 22 | Q45: =+E45+H45-K45+N45 -> 69660 | R45: =+P45*Q45 -> 1532520
C46: 써마지 FLX 600샷 | D46: =+'[1]25''02월'!P48 -> 0 | E46: =+'[1]25''02월'!Q48 -> 0 | F46: =+D46*E46 -> 0 | I46: =+G46*H46 -> 0 | L46: =+J46*K46 -> 0 | P46: =+D46 -> 0 | Q46: =+E46+H46-K46+N46 -> 0 | R46: =+P46*Q46 -> 0
C47: 써마지 FLX 600샷 | D47: =+'[1]25''02월'!P49 -> 960000 | E47: =+'[1]25''02월'!Q49 -> 18 | F47: =+D47*E47 -> 17280000 | I47: =+G47*H47 -> 0 | L47: =+J47*K47 -> 0 | P47: =+D47 -> 960000 | Q47: =+E47+H47-K47+N47 -> 18 | R47: =+P47*Q47 -> 17280000
C48: 멀티블루 | D48: =+'[1]25''02월'!P50 -> 8800 | E48: =+'[1]25''02월'!Q50 -> 19 | F48: =+D48*E48 -> 167200 | I48: =+G48*H48 -> 0 | L48: =+J48*K48 -> 0 | O48: =+M48*N48 -> 0 | P48: =+D48 -> 8800 | Q48: =+E48+H48-K48+N48 -> 19 | R48: =+P48*Q48 -> 167200
C49: 아르기닌 | D49: =+'[1]25''02월'!P51 -> 20000 | E49: =+'[1]25''02월'!Q51 -> 16 | F49: =+D49*E49 -> 320000 | I49: =+G49*H49 -> 0 | L49: =+J49*K49 -> 0 | O49: =+M49*N49 -> 0 | P49: =+D49 -> 20000 | Q49: =+E49+H49-K49+N49 -> 16 | R49: =+P49*Q49 -> 320000
C50: BSC-30 | D50: =+'[1]25''02월'!P52 -> 170000 | E50: =+'[1]25''02월'!Q52 -> 3 | F50: =+D50*E50 -> 510000 | I50: =+G50*H50 -> 0 | L50: =+J50*K50 -> 0 | O50: =+M50*N50 -> 0 | P50: =+D50 -> 170000 | Q50: =+E50+H50-K50+N50 -> 3 | R50: =+P50*Q50 -> 510000
C51: BSC-60 | D51: =+'[1]25''02월'!P53 -> 350000 | E51: =+'[1]25''02월'!Q53 -> 6 | F51: =+D51*E51 -> 2100000 | I51: =+G51*H51 -> 0 | L51: =+J51*K51 -> 0 | O51: =+M51*N51 -> 0 | P51: =+D51 -> 350000 | Q51: =+E51+H51-K51+N51 -> 6 | R51: =+P51*Q51 -> 2100000
C52: BSC-120 | D52: =+'[1]25''02월'!P54 -> 600000 | E52: =+'[1]25''02월'!Q54 -> 3 | F52: =+D52*E52 -> 1800000 | I52: =+G52*H52 -> 0 | L52: =+J52*K52 -> 0 | O52: =+M52*N52 -> 0 | P52: =+D52 -> 600000 | Q52: =+E52+H52-K52+N52 -> 3 | R52: =+P52*Q52 -> 1800000
A53: 소계 | F53: =SUM(F4:F52) -> 2.765564e+08 | I53: =SUM(I4:I52) -> 0 | L53: =SUM(L4:L52) -> 0 | M53: =+J53 -> 0 | O53: =SUM(O4:O52) -> 0 | R53: =SUM(R4:R52) -> 2.765564e+08
C54: NDA플러스 | D54: =+'[1]25''02월'!P56 -> 15400 | E54: =+'[1]25''02월'!Q56 -> 55 | F54: =+D54*E54 -> 847000 | I54: =+G54*H54 -> 0 | L54: =+J54*K54 -> 0 | M54: =+J54 -> 0 | O54: =+M54*N54 -> 0 | P54: =+D54 -> 15400 | Q54: =+E54+H54-K54+N54 -> 55 | R54: =+P54*Q54 -> 847000
C55: 큐티셀 | D55: =+'[1]25''02월'!P57 -> 33000 | E55: =+'[1]25''02월'!Q57 -> 24 | F55: =+D55*E55 -> 792000 | I55: =+G55*H55 -> 0 | L55: =+J55*K55 -> 0 | M55: =+J55 -> 0 | O55: =+M55*N55 -> 0 | P55: =+D55 -> 33000 | Q55: =+E55+H55-K55+N55 -> 24 | R55: =+P55*Q55 -> 792000
C56: N-25 | D56: =+'[1]25''02월'!P58 -> 33000 | E56: =+'[1]25''02월'!Q58 -> 14 | F56: =+D56*E56 -> 462000 | I56: =+G56*H56 -> 0 | L56: =+J56*K56 -> 0 | P56: =+D56 -> 33000 | Q56: =+E56+H56-K56+N56 -> 14 | R56: =+P56*Q56 -> 462000
C57: I-25 | D57: =+'[1]25''02월'!P59 -> 33000 | E57: =+'[1]25''02월'!Q59 -> 7 | F57: =+D57*E57 -> 231000 | I57: =+G57*H57 -> 0 | L57: =+J57*K57 -> 0 | M57: =+J57 -> 0 | P57: =+D57 -> 33000 | Q57: =+E57+H57-K57+N57 -> 7 | R57: =+P57*Q57 -> 231000
C58: CP-25 | D58: =+'[1]25''02월'!P60 -> 49000 | E58: =+'[1]25''02월'!Q60 -> 38 | F58: =+D58*E58 -> 1862000 | I58: =+G58*H58 -> 0 | L58: =+J58*K58 -> 0 | M58: =+J58 -> 0 | P58: =+D58 -> 49000 | Q58: =+E58+H58-K58+N58 -> 38 | R58: =+P58*Q58 -> 1862000
C59: DDR | D59: =+'[1]25''02월'!P61 -> 44 | E59: =+'[1]25''02월'!Q61 -> 7954 | F59: =+D59*E59 -> 349976 | I59: =+G59*H59 -> 0 | L59: =+J59*K59 -> 0 | P59: =+D59 -> 44 | Q59: =+E59+H59-K59+N59 -> 7954 | R59: =+P59*Q59 -> 349976
C60: DIA | D60: =+'[1]25''02월'!P62 -> 165 | E60: =+'[1]25''02월'!Q62 -> 10901 | F60: =+D60*E60 -> 1798665 | I60: =+G60*H60 -> 0 | L60: =+J60*K60 -> 0 | M60: =+J60 -> 0 | P60: =+D60 -> 165 | Q60: =+E60+H60-K60+N60 -> 10901 | R60: =+P60*Q60 -> 1798665
C61: 포텐자 젤(s.v) | D61: =+'[1]25''02월'!P63 -> 0 | E61: =+'[1]25''02월'!Q63 -> 4 | F61: =+D61*E61 -> 0 | I61: =+G61*H61 -> 0 | L61: =+J61*K61 -> 0 | P61: =+D61 -> 0 | Q61: =+E61+H61-K61+N61 -> 4 | R61: =+P61*Q61 -> 0
C62: 듀엣써마지 팁 | D62: =+'[1]25''02월'!P64 -> 11 | E62: =+'[1]25''02월'!Q64 -> 3153 | F62: =+D62*E62 -> 34683 | I62: =+G62*H62 -> 0 | L62: =+J62*K62 -> 0 | M62: =+J62 -> 0 | O62: =+M62*N62 -> 0 | P62: =+D62 -> 11 | Q62: =+E62+H62-K62+N62 -> 3153 | R62: =+P62*Q62 -> 34683
C63: 듀엣써마지 패드 | D63: =+'[1]25''02월'!P65 -> 5500 | E63: =+'[1]25''02월'!Q65 -> 19 | F63: =+D63*E63 -> 104500 | I63: =+G63*H63 -> 0 | L63: =+J63*K63 -> 0 | M63: =+J63 -> 0 | O63: =+M63*N63 -> 0 | P63: =+D63 -> 5500 | Q63: =+E63+H63-K63+N63 -> 19 | R63: =+P63*Q63 -> 104500
C64: 슈링크U L-4.5(2만) | D64: =+'[1]25''02월'!P66 -> 110 | E64: =+'[1]25''02월'!Q66 -> 48505 | F64: =+D64*E64 -> 5335550 | I64: =+G64*H64 -> 0 | L64: =+J64*K64 -> 0 | P64: =+D64 -> 110 | Q64: =+E64+H64-K64+N64 -> 48505 | R64: =+P64*Q64 -> 5335550
C65: 슈링크U C-3.0(2만) | D65: =+'[1]25''02월'!P67 -> 110 | E65: =+'[1]25''02월'!Q67 -> 45443 | F65: =+D65*E65 -> 4998730 | I65: =+G65*H65 -> 0 | L65: =+J65*K65 -> 0 | P65: =+D65 -> 110 | Q65: =+E65+H65-K65+N65 -> 45443 | R65: =+P65*Q65 -> 4998730
C66: 슈링크U I-.2.0(2만) | D66: =+'[1]25''02월'!P68 -> 110 | E66: =+'[1]25''02월'!Q68 -> 11690 | F66: =+D66*E66 -> 1285900 | I66: =+G66*H66 -> 0 | L66: =+J66*K66 -> 0 | M66: =+J66 -> 0 | O66: =+M66*N66 -> 0 | P66: =+D66 -> 110 | Q66: =+E66+H66-K66+N66 -> 11690 | R66: =+P66*Q66 -> 1285900
C67: 슈링크B L-.4.5 | D67: =+'[1]25''02월'!P69 -> 87 | E67: =+'[1]25''02월'!Q69 -> 3682 | F67: =+D67*E67 -> 320334 | I67: =+G67*H67 -> 0 | L67: =+J67*K67 -> 0 | M67: =+J67 -> 0 | O67: =+M67*N67 -> 0 | P67: =+D67 -> 87 | Q67: =+E67+H67-K67+N67 -> 3682 | R67: =+P67*Q67 -> 320334
C68: 슈링크B D-1.5 | D68: =+'[1]25''02월'!P70 -> 87 | E68: =+'[1]25''02월'!Q70 -> 1527 | F68: =+D68*E68 -> 132849 | I68: =+G68*H68 -> 0 | L68: =+J68*K68 -> 0 | M68: =+J68 -> 0 | O68: =+M68*N68 -> 0 | P68: =+D68 -> 87 | Q68: =+E68+H68-K68+N68 -> 1527 | R68: =+P68*Q68 -> 132849
C69: 슈링크B L-4.5(2만) | D69: =+'[1]25''02월'!P71 -> 87 | E69: =+'[1]25''02월'!Q71 -> 0 | F69: =+D69*E69 -> 0 | I69: =+G69*H69 -> 0 | L69: =+J69*K69 -> 0 | M69: =+J69 -> 0 | O69: =+M69*N69 -> 0 | P69: =+D69 -> 87 | Q69: =+E69+H69-K69+N69 -> 0 | R69: =+P69*Q69 -> 0
C70: 슈링크B C-3.0(2만) | D70: =+'[1]25''02월'!P72 -> 87 | E70: =+'[1]25''02월'!Q72 -> 15570 | F70: =+D70*E70 -> 1354590 | I70: =+G70*H70 -> 0 | L70: =+J70*K70 -> 0 | M70: =+J70 -> 0 | O70: =+M70*N70 -> 0 | P70: =+D70 -> 87 | Q70: =+E70+H70-K70+N70 -> 15570 | R70: =+P70*Q70 -> 1354590
C71: 슈링크B D-1.5(2만) | D71: =+'[1]25''02월'!P73 -> 87 | E71: =+'[1]25''02월'!Q73 -> 0 | F71: =+D71*E71 -> 0 | I71: =+G71*H71 -> 0 | L71: =+J71*K71 -> 0 | M71: =+J71 -> 0 | O71: =+M71*N71 -> 0 | P71: =+D71 -> 87 | Q71: =+E71+H71-K71+N71 -> 0 | R71: =+P71*Q71 -> 0
C72: GT38앰플 | D72: =+'[1]25''02월'!P74 -> 5000 | E72: =+'[1]25''02월'!Q74 -> 34 | F72: =+D72*E72 -> 170000 | I72: =+G72*H72 -> 0 | L72: =+J72*K72 -> 0 | M72: =+J72 -> 0 | O72: =+M72*N72 -> 0 | P72: =+D72 -> 5000 | Q72: =+E72+H72-K72+N72 -> 34 | R72: =+P72*Q72 -> 170000
C73: 더블로M7 | D73: =+'[1]25''02월'!P75 -> 104 | E73: =+'[1]25''02월'!Q75 -> 12513 | F73: =+D73*E73 -> 1301352 | I73: =+G73*H73 -> 0 | L73: =+J73*K73 -> 0 | M73: =+J73 -> 0 | O73: =+M73*N73 -> 0 | P73: =+D73 -> 104 | Q73: =+E73+H73-K73+N73 -> 12513 | R73: =+P73*Q73 -> 1301352
C74: 더블러D4 | D74: =+'[1]25''02월'!P76 -> 104 | E74: =+'[1]25''02월'!Q76 -> 721 | F74: =+D74*E74 -> 74984 | I74: =+G74*H74 -> 0 | L74: =+J74*K74 -> 0 | M74: =+J74 -> 0 | O74: =+M74*N74 -> 0 | P74: =+D74 -> 104 | Q74: =+E74+H74-K74+N74 -> 721 | R74: =+P74*Q74 -> 74984
C75: 라라필 폼클렌져 | D75: =+'[1]25''02월'!P77 -> 29700 | E75: =+'[1]25''02월'!Q77 -> 1 | F75: =+D75*E75 -> 29700 | I75: =+G75*H75 -> 0 | L75: =+J75*K75 -> 0 | M75: =+J75 -> 0 | P75: =+D75 -> 29700 | Q75: =+E75+H75-K75+N75 -> 1 | R75: =+P75*Q75 -> 29700
C76: 라라필 1제 | D76: =+'[1]25''02월'!P78 -> 55000 | E76: =+'[1]25''02월'!Q78 -> 2 | F76: =+D76*E76 -> 110000 | I76: =+G76*H76 -> 0 | L76: =+J76*K76 -> 0 | P76: =+D76 -> 55000 | Q76: =+E76+H76-K76+N76 -> 2 | R76: =+P76*Q76 -> 110000
C77: 라라필 2제 | D77: =+'[1]25''02월'!P80 -> 55000 | E77: =+'[1]25''02월'!Q80 -> 4 | F77: =+D77*E77 -> 220000 | I77: =+G77*H77 -> 0 | P77: =+D77 -> 55000 | Q77: =+E77+H77-K77+N77 -> 4 | R77: =+P77*Q77 -> 220000
C78: 라라필 마스크팩 | D78: =+'[1]25''02월'!P82 -> 4125 | E78: =+'[1]25''02월'!Q82 -> 37 | F78: =+D78*E78 -> 152625 | I78: =+G78*H78 -> 0 | L78: =+J78*K78 -> 0 | P78: =+D78 -> 4125 | Q78: =+E78+H78-K78+N78 -> 37 | R78: =+P78*Q78 -> 152625
C79: 라라젯 x로션 1 | D79: =+'[1]25''02월'!P83 -> 55000 | E79: =+'[1]25''02월'!Q83 -> 3 | F79: =+D79*E79 -> 165000 | I79: =+G79*H79 -> 0 | L79: =+J79*K79 -> 0 | P79: =+D79 -> 55000 | Q79: =+E79+H79-K79+N79 -> 3 | R79: =+P79*Q79 -> 165000
C80: 라라젯 s1 | D80: =+'[1]25''02월'!P84 -> 55000 | E80: =+'[1]25''02월'!Q84 -> 1 | F80: =+D80*E80 -> 55000 | I80: =+G80*H80 -> 0 | L80: =+J80*K80 -> 0 | M80: =+J80 -> 0 | P80: =+D80 -> 55000 | Q80: =+E80+H80-K80+N80 -> 1 | R80: =+P80*Q80 -> 55000
C81: 라라젯 s2 | D81: =+'[1]25''02월'!P85 -> 55000 | E81: =+'[1]25''02월'!Q85 -> 3 | F81: =+D81*E81 -> 165000 | I81: =+G81*H81 -> 0 | L81: =+J81*K81 -> 0 | M81: =+J81 -> 0 | P81: =+D81 -> 55000 | Q81: =+E81+H81-K81+N81 -> 3 | R81: =+P81*Q81 -> 165000
C82: 라라젯 s3 | D82: =+'[1]25''02월'!P86 -> 55000 | E82: =+'[1]25''02월'!Q86 -> 1 | F82: =+D82*E82 -> 55000 | I82: =+G82*H82 -> 0 | L82: =+J82*K82 -> 0 | M82: =+J82 -> 0 | P82: =+D82 -> 55000 | Q82: =+E82+H82-K82+N82 -> 1 | R82: =+P82*Q82 -> 55000
C83: 라라젯 팁 | D83: =+'[1]25''02월'!P87 -> 2750 | E83: =+'[1]25''02월'!Q87 -> 39 | F83: =+D83*E83 -> 107250 | I83: =+G83*H83 -> 0 | L83: =+J83*K83 -> 0 | P83: =+D83 -> 2750 | Q83: =+E83+H83-K83+N83 -> 39 | R83: =+P83*Q83 -> 107250
C84: 아쿠아필S1 | D84: =+'[1]25''02월'!P88 -> 11000 | E84: =+'[1]25''02월'!Q88 -> 10 | F84: =+D84*E84 -> 110000 | I84: =+G84*H84 -> 0 | L84: =+J84*K84 -> 0 | M84: =+J84 -> 0 | O84: =+M84*N84 -> 0 | P84: =+D84 -> 11000 | Q84: =+E84+H84-K84+N84 -> 10 | R84: =+P84*Q84 -> 110000
C85: 아쿠아필S2 | D85: =+'[1]25''02월'!P89 -> 11000 | E85: =+'[1]25''02월'!Q89 -> 15 | F85: =+D85*E85 -> 165000 | I85: =+G85*H85 -> 0 | L85: =+J85*K85 -> 0 | M85: =+J85 -> 0 | O85: =+M85*N85 -> 0 | P85: =+D85 -> 11000 | Q85: =+E85+H85-K85+N85 -> 15 | R85: =+P85*Q85 -> 165000
C86: 아쿠아필S3 | D86: =+'[1]25''02월'!P90 -> 11000 | E86: =+'[1]25''02월'!Q90 -> 9 | F86: =+D86*E86 -> 99000 | I86: =+G86*H86 -> 0 | L86: =+J86*K86 -> 0 | M86: =+J86 -> 0 | O86: =+M86*N86 -> 0 | P86: =+D86 -> 11000 | Q86: =+E86+H86-K86+N86 -> 9 | R86: =+P86*Q86 -> 99000
C87: 디아지팁(인트라셀) | D87: =+'[1]25''02월'!P91 -> 22000 | E87: =+'[1]25''02월'!Q91 -> 15 | F87: =+D87*E87 -> 330000 | I87: =+G87*H87 -> 0 | L87: =+J87*K87 -> 0 | M87: =+J87 -> 0 | O87: =+M87*N87 -> 0 | P87: =+D87 -> 22000 | Q87: =+E87+H87-K87+N87 -> 15 | R87: =+P87*Q87 -> 330000
C88: PDT | D88: =+'[1]25''02월'!P92 -> 14850 | E88: =+'[1]25''02월'!Q92 -> 29 | F88: =+D88*E88 -> 430650 | I88: =+G88*H88 -> 0 | L88: =+J88*K88 -> 0 | M88: =+J88 -> 0 | O88: =+M88*N88 -> 0 | P88: =+D88 -> 14850 | Q88: =+E88+H88-K88+N88 -> 29 | R88: =+P88*Q88 -> 430650
C89: 골드PTT | D89: =+'[1]25''02월'!P93 -> 29333 | E89: =+'[1]25''02월'!Q93 -> 23 | F89: =+D89*E89 -> 674659 | I89: =+G89*H89 -> 0 | L89: =+J89*K89 -> 0 | M89: =+J89 -> 0 | O89: =+M89*N89 -> 0 | P89: =+D89 -> 29333 | Q89: =+E89+H89-K89+N89 -> 23 | R89: =+P89*Q89 -> 674659
C90: 산소필1-젤 | D90: =+'[1]25''02월'!P94 -> 75000 | E90: =+'[1]25''02월'!Q94 -> 1 | F90: =+D90*E90 -> 75000 | I90: =+G90*H90 -> 0 | L90: =+J90*K90 -> 0 | M90: =+J90 -> 0 | O90: =+M90*N90 -> 0 | P90: =+D90 -> 75000 | Q90: =+E90+H90-K90+N90 -> 1 | R90: =+P90*Q90 -> 75000
C91: 산소필2-젤 | D91: =+'[1]25''02월'!P95 -> 75000 | E91: =+'[1]25''02월'!Q95 -> 0 | F91: =+D91*E91 -> 0 | I91: =+G91*H91 -> 0 | L91: =+J91*K91 -> 0 | M91: =+J91 -> 0 | O91: =+M91*N91 -> 0 | P91: =+D91 -> 75000 | Q91: =+E91+H91-K91+N91 -> 0 | R91: =+P91*Q91 -> 0
C92: 비타민C파우더 | D92: =+'[1]25''02월'!P96 -> 0 | E92: =+'[1]25''02월'!Q96 -> 0 | F92: =+D92*E92 -> 0 | I92: =+G92*H92 -> 0 | M92: =+J92 -> 0 | P92: =+D92 -> 0 | Q92: =+E92+H92-K92+N92 -> 0 | R92: =+P92*Q92 -> 0
C93: 씨위드 크림팩 | D93: =+'[1]25''02월'!P97 -> 44000 | E93: =+'[1]25''02월'!Q97 -> 1 | F93: =+D93*E93 -> 44000 | I93: =+G93*H93 -> 0 | L93: =+J93*K93 -> 0 | M93: =+J93 -> 0 | O93: =+M93*N93 -> 0 | P93: =+D93 -> 44000 | Q93: =+E93+H93-K93+N93 -> 1 | R93: =+P93*Q93 -> 44000
C94: 아세로라크림팩 | D94: =+'[1]25''02월'!P98 -> 44000 | E94: =+'[1]25''02월'!Q98 -> 1 | F94: =+D94*E94 -> 44000 | I94: =+G94*H94 -> 0 | L94: =+J94*K94 -> 0 | M94: =+J94 -> 0 | O94: =+M94*N94 -> 0 | P94: =+D94 -> 44000 | Q94: =+E94+H94-K94+N94 -> 1 | R94: =+P94*Q94 -> 44000
C95: 야쥴렌크림팩 | D95: =+'[1]25''02월'!P99 -> 44000 | E95: =+'[1]25''02월'!Q99 -> 0 | F95: =+D95*E95 -> 0 | I95: =+G95*H95 -> 0 | L95: =+J95*K95 -> 0 | M95: =+J95 -> 0 | O95: =+M95*N95 -> 0 | P95: =+D95 -> 44000 | Q95: =+E95+H95-K95+N95 -> 0 | R95: =+P95*Q95 -> 0
C96: 캄퍼크림팩 | D96: =+'[1]25''02월'!P100 -> 44000 | E96: =+'[1]25''02월'!Q100 -> 0 | F96: =+D96*E96 -> 0 | I96: =+G96*H96 -> 0 | L96: =+J96*K96 -> 0 | M96: =+J96 -> 0 | O96: =+M96*N96 -> 0 | P96: =+D96 -> 44000 | Q96: =+E96+H96-K96+N96 -> 0 | R96: =+P96*Q96 -> 0
C97: 데콘겔 | D97: =+'[1]25''02월'!P101 -> 18700 | E97: =+'[1]25''02월'!Q101 -> 0 | F97: =+D97*E97 -> 0 | I97: =+G97*H97 -> 0 | L97: =+J97*K97 -> 0 | M97: =+J97 -> 0 | O97: =+M97*N97 -> 0 | P97: =+D97 -> 18700 | Q97: =+E97+H97-K97+N97 -> 0 | R97: =+P97*Q97 -> 0
C98: 블랙필 | D98: =+'[1]25''02월'!P102 -> 73333 | E98: =+'[1]25''02월'!Q102 -> 3 | F98: =+D98*E98 -> 219999 | I98: =+G98*H98 -> 0 | L98: =+J98*K98 -> 0 | M98: =+J98 -> 0 | O98: =+M98*N98 -> 0 | P98: =+D98 -> 73333 | Q98: =+E98+H98-K98+N98 -> 3 | R98: =+P98*Q98 -> 219999
C99: 그린티중화제 | D99: =+'[1]25''02월'!P103 -> 27500 | E99: =+'[1]25''02월'!Q103 -> 2 | F99: =+D99*E99 -> 55000 | I99: =+G99*H99 -> 0 | L99: =+J99*K99 -> 0 | M99: =+J99 -> 0 | O99: =+M99*N99 -> 0 | P99: =+D99 -> 27500 | Q99: =+E99+H99-K99+N99 -> 2 | R99: =+P99*Q99 -> 55000
C100: GA 40% | D100: =+'[1]25''02월'!P104 -> 75200 | E100: =+'[1]25''02월'!Q104 -> 1 | F100: =+D100*E100 -> 75200 | I100: =+G100*H100 -> 0 | L100: =+J100*K100 -> 0 | M100: =+J100 -> 0 | O100: =+M100*N100 -> 0 | P100: =+D100 -> 75200 | Q100: =+E100+H100-K100+N100 -> 1 | R100: =+P100*Q100 -> 75200
...

Sheet Sheet1
